BEGIN:VCALENDAR
VERSION:2.0
PRODID:-//Blue Ethos Specialized Training - ECPv6.15.20//NONSGML v1.0//EN
CALSCALE:GREGORIAN
METHOD:PUBLISH
X-WR-CALNAME:Blue Ethos Specialized Training
X-ORIGINAL-URL:https://blue-ethos.com
X-WR-CALDESC:Events for Blue Ethos Specialized Training
REFRESH-INTERVAL;VALUE=DURATION:PT1H
X-Robots-Tag:noindex
X-PUBLISHED-TTL:PT1H
BEGIN:VTIMEZONE
TZID:America/Chicago
BEGIN:DAYLIGHT
TZOFFSETFROM:-0600
TZOFFSETTO:-0500
TZNAME:CDT
DTSTART:20220313T080000
END:DAYLIGHT
BEGIN:STANDARD
TZOFFSETFROM:-0500
TZOFFSETTO:-0600
TZNAME:CST
DTSTART:20221106T070000
END:STANDARD
BEGIN:DAYLIGHT
TZOFFSETFROM:-0600
TZOFFSETTO:-0500
TZNAME:CDT
DTSTART:20230312T080000
END:DAYLIGHT
BEGIN:STANDARD
TZOFFSETFROM:-0500
TZOFFSETTO:-0600
TZNAME:CST
DTSTART:20231105T070000
END:STANDARD
BEGIN:DAYLIGHT
TZOFFSETFROM:-0600
TZOFFSETTO:-0500
TZNAME:CDT
DTSTART:20240310T080000
END:DAYLIGHT
BEGIN:STANDARD
TZOFFSETFROM:-0500
TZOFFSETTO:-0600
TZNAME:CST
DTSTART:20241103T070000
END:STANDARD
END:VTIMEZONE
BEGIN:VEVENT
DTSTART;TZID=America/Chicago:20231026T130000
DTEND;TZID=America/Chicago:20231026T170000
DTSTAMP:20260423T073203
CREATED:20230622T183635Z
LAST-MODIFIED:20230622T183737Z
UID:687-1698325200-1698339600@blue-ethos.com
SUMMARY:Use of Force
DESCRIPTION:Use of Force Training for Minnesota Commerce Fraud Bureau \nInstructors Ashton Erickson and Jerad Dixon
URL:https://blue-ethos.com/upcoming-course/use-of-force-2/
LOCATION:Hennepin Technical College\, 9000 Brooklyn Blvd\, Brooklyn Park\, MN\, 55445\, United States
ATTACH;FMTTYPE=image/jpeg:https://blue-ethos.com/wp-content/uploads/2023/06/Events-Logo.jpg
END:VEVENT
END:VCALENDAR