BEGIN:VCALENDAR
VERSION:2.0
PRODID:-//Blue Ethos Specialized Training - ECPv6.15.20//NONSGML v1.0//EN
CALSCALE:GREGORIAN
METHOD:PUBLISH
X-ORIGINAL-URL:https://blue-ethos.com
X-WR-CALDESC:Events for Blue Ethos Specialized Training
REFRESH-INTERVAL;VALUE=DURATION:PT1H
X-Robots-Tag:noindex
X-PUBLISHED-TTL:PT1H
BEGIN:VTIMEZONE
TZID:America/Chicago
BEGIN:DAYLIGHT
TZOFFSETFROM:-0600
TZOFFSETTO:-0500
TZNAME:CDT
DTSTART:20250309T080000
END:DAYLIGHT
BEGIN:STANDARD
TZOFFSETFROM:-0500
TZOFFSETTO:-0600
TZNAME:CST
DTSTART:20251102T070000
END:STANDARD
BEGIN:DAYLIGHT
TZOFFSETFROM:-0600
TZOFFSETTO:-0500
TZNAME:CDT
DTSTART:20260308T080000
END:DAYLIGHT
BEGIN:STANDARD
TZOFFSETFROM:-0500
TZOFFSETTO:-0600
TZNAME:CST
DTSTART:20261101T070000
END:STANDARD
BEGIN:DAYLIGHT
TZOFFSETFROM:-0600
TZOFFSETTO:-0500
TZNAME:CDT
DTSTART:20270314T080000
END:DAYLIGHT
BEGIN:STANDARD
TZOFFSETFROM:-0500
TZOFFSETTO:-0600
TZNAME:CST
DTSTART:20271107T070000
END:STANDARD
END:VTIMEZONE
BEGIN:VEVENT
DTSTART;VALUE=DATE:20260513
DTEND;VALUE=DATE:20260515
DTSTAMP:20260423T055021
CREATED:20260123T160544Z
LAST-MODIFIED:20260123T160544Z
UID:2237-1778630400-1778803199@blue-ethos.com
SUMMARY:Milwaukee Tool
DESCRIPTION:Jacob Hinnenkamp will be onsite in Mukwongao\, WI delivering Active Threat Preparedness Trainings for Milwaukee Tool.
URL:https://blue-ethos.com/upcoming-course/milwaukee-tool-9/
LOCATION:Milwuakee\, WI\, Milwaukee\, WI\, United States
ATTACH;FMTTYPE=image/webp:https://blue-ethos.com/wp-content/uploads/2025/10/MILWUAKEE.webp
END:VEVENT
BEGIN:VEVENT
DTSTART;TZID=America/Chicago:20260513T130000
DTEND;TZID=America/Chicago:20260513T153000
DTSTAMP:20260423T055021
CREATED:20251218T214540Z
LAST-MODIFIED:20251218T214540Z
UID:2200-1778677200-1778686200@blue-ethos.com
SUMMARY:Minnesota Energy Conference
DESCRIPTION:Rich Webb and Drew Moldenhauer will be at the Breezy Point Resort on May 13th\, 2026 delivering an Active Threat Preparedness and De-escalation seminar for the Minnesota Energy Conference.
URL:https://blue-ethos.com/upcoming-course/minnesota-energy-conference/
LOCATION:Brainerd\, MN\, Brainerd\, MN\, MN\, 56401\, United States
ATTACH;FMTTYPE=image/webp:https://blue-ethos.com/wp-content/uploads/2025/07/A7400846.webp
END:VEVENT
END:VCALENDAR