BEGIN:VCALENDAR
VERSION:2.0
PRODID:-//Blue Ethos Specialized Training - ECPv6.15.20//NONSGML v1.0//EN
CALSCALE:GREGORIAN
METHOD:PUBLISH
X-WR-CALNAME:Blue Ethos Specialized Training
X-ORIGINAL-URL:https://blue-ethos.com
X-WR-CALDESC:Events for Blue Ethos Specialized Training
REFRESH-INTERVAL;VALUE=DURATION:PT1H
X-Robots-Tag:noindex
X-PUBLISHED-TTL:PT1H
BEGIN:VTIMEZONE
TZID:America/Chicago
BEGIN:DAYLIGHT
TZOFFSETFROM:-0600
TZOFFSETTO:-0500
TZNAME:CDT
DTSTART:20250309T080000
END:DAYLIGHT
BEGIN:STANDARD
TZOFFSETFROM:-0500
TZOFFSETTO:-0600
TZNAME:CST
DTSTART:20251102T070000
END:STANDARD
BEGIN:DAYLIGHT
TZOFFSETFROM:-0600
TZOFFSETTO:-0500
TZNAME:CDT
DTSTART:20260308T080000
END:DAYLIGHT
BEGIN:STANDARD
TZOFFSETFROM:-0500
TZOFFSETTO:-0600
TZNAME:CST
DTSTART:20261101T070000
END:STANDARD
BEGIN:DAYLIGHT
TZOFFSETFROM:-0600
TZOFFSETTO:-0500
TZNAME:CDT
DTSTART:20270314T080000
END:DAYLIGHT
BEGIN:STANDARD
TZOFFSETFROM:-0500
TZOFFSETTO:-0600
TZNAME:CST
DTSTART:20271107T070000
END:STANDARD
END:VTIMEZONE
BEGIN:VEVENT
DTSTART;TZID=America/Chicago:20261117T123000
DTEND;TZID=America/Chicago:20261119T120000
DTSTAMP:20260423T141430
CREATED:20250207T142724Z
LAST-MODIFIED:20251218T215120Z
UID:1494-1794918600-1795089600@blue-ethos.com
SUMMARY:Train the Trainer Academy
DESCRIPTION:Blue Ethos Advanced Train-the-Trainer Academy \nThe Blue Ethos Advanced Train-the-Trainer Academy is an intensive\, hands-on course designed to equip attendees with the skills\, knowledge\, and confidence to effectively teach Active Threat Preparedness and De-Escalation within their own organizations. This academy goes beyond theory\, providing real-world strategies\, scenario-based training\, and proven instructional methods to ensure trainers can engage diverse audiences and drive meaningful change. \nWhat Attendees Will Gain:\n✅ A deep understanding of active threat response\, including pre-attack indicators\, profiles\, and crisis decision-making.\n✅ Proven de-escalation techniques to manage high-stress encounters and prevent violence.\n✅ The ability to adapt training to corporate\, school\, healthcare\, and public-sector environments.\n✅ Instructor development skills to enhance engagement\, retention\, and real-world application.\n✅ Access to comprehensive training materials and practical exercises to bring back to their teams. \nLed by Blue Ethos Master Instructors with real-world expertise\, this academy ensures that participants leave prepared to be force multipliers in their organizations—ready to train\, lead\, and save lives. \nDay 1: 12:30 pm – 4:00pm \nDay 2: 8:00 am – 4:00pm \nDay 3: 8:00 am – 12:00 pm \nDiscounts will be applied for multiple attendees from an organization.  Contact us for discounted rates opportunities.
URL:https://blue-ethos.com/upcoming-course/train-the-trainer-academy/
LOCATION:Hennepin Technical College\, 9000 Brooklyn Blvd\, Brooklyn Park\, MN\, 55445\, United States
ATTACH;FMTTYPE=image/webp:https://blue-ethos.com/wp-content/uploads/2025/07/Team-Picture.webp
END:VEVENT
END:VCALENDAR