BEGIN:VCALENDAR
VERSION:2.0
PRODID:-//Blue Ethos Specialized Training - ECPv6.15.20//NONSGML v1.0//EN
CALSCALE:GREGORIAN
METHOD:PUBLISH
X-ORIGINAL-URL:https://blue-ethos.com
X-WR-CALDESC:Events for Blue Ethos Specialized Training
REFRESH-INTERVAL;VALUE=DURATION:PT1H
X-Robots-Tag:noindex
X-PUBLISHED-TTL:PT1H
BEGIN:VTIMEZONE
TZID:America/Chicago
BEGIN:DAYLIGHT
TZOFFSETFROM:-0600
TZOFFSETTO:-0500
TZNAME:CDT
DTSTART:20230312T080000
END:DAYLIGHT
BEGIN:STANDARD
TZOFFSETFROM:-0500
TZOFFSETTO:-0600
TZNAME:CST
DTSTART:20231105T070000
END:STANDARD
BEGIN:DAYLIGHT
TZOFFSETFROM:-0600
TZOFFSETTO:-0500
TZNAME:CDT
DTSTART:20240310T080000
END:DAYLIGHT
BEGIN:STANDARD
TZOFFSETFROM:-0500
TZOFFSETTO:-0600
TZNAME:CST
DTSTART:20241103T070000
END:STANDARD
BEGIN:DAYLIGHT
TZOFFSETFROM:-0600
TZOFFSETTO:-0500
TZNAME:CDT
DTSTART:20250309T080000
END:DAYLIGHT
BEGIN:STANDARD
TZOFFSETFROM:-0500
TZOFFSETTO:-0600
TZNAME:CST
DTSTART:20251102T070000
END:STANDARD
END:VTIMEZONE
BEGIN:VEVENT
DTSTART;TZID=America/Chicago:20240129T080000
DTEND;TZID=America/Chicago:20240129T160000
DTSTAMP:20260425T084814
CREATED:20231108T154815Z
LAST-MODIFIED:20231108T155236Z
UID:930-1706515200-1706544000@blue-ethos.com
SUMMARY:First Aid Essentials
DESCRIPTION:8-hr MN POST approved First Aid Essentials class hosted at Anoka County Sheriff’s Office \nInstructors: Todd Messer and Kate Ott
URL:https://blue-ethos.com/upcoming-course/first-aid-essentials-2/
LOCATION:Anoka County Sheriffs Office\, 13301 Hanson Blvd NW\, Andover\, MN\, 55304\, United States
ATTACH;FMTTYPE=image/png:https://blue-ethos.com/wp-content/uploads/2023/04/Calendar-First-Aid-Essentials.png
END:VEVENT
BEGIN:VEVENT
DTSTART;TZID=America/Chicago:20240201T080000
DTEND;TZID=America/Chicago:20240202T160000
DTSTAMP:20260425T084814
CREATED:20231108T155657Z
LAST-MODIFIED:20231108T155657Z
UID:933-1706774400-1706889600@blue-ethos.com
SUMMARY:Emergency Medical Responder (EMR) Refresher
DESCRIPTION:16-hour MN POST approved Emergency Medical Responder (EMR) Refresher hosted at Anoka County Sheriff’s Office. \nInstructor: Kate Ott
URL:https://blue-ethos.com/upcoming-course/emergency-medical-responder-emr-refresher-3/
LOCATION:Anoka County Sheriffs Office\, 13301 Hanson Blvd NW\, Andover\, MN\, 55304\, United States
ATTACH;FMTTYPE=image/png:https://blue-ethos.com/wp-content/uploads/2023/04/Calendar-EMR.png
END:VEVENT
BEGIN:VEVENT
DTSTART;TZID=America/Chicago:20240201T130000
DTEND;TZID=America/Chicago:20240201T140000
DTSTAMP:20260425T084814
CREATED:20231109T132436Z
LAST-MODIFIED:20231109T132436Z
UID:954-1706792400-1706796000@blue-ethos.com
SUMMARY:Active Threat Preparedness
DESCRIPTION:Active Threat Training for Minnesota Rural Electric Association (MREA) \nInstructor: Rich Webb
URL:https://blue-ethos.com/upcoming-course/active-threat-preparedness-20/
LOCATION:Holiday Inn\, 75 37th Ave\, Saint Cloud\, MN\, 56301\, United States
ATTACH;FMTTYPE=image/png:https://blue-ethos.com/wp-content/uploads/2023/11/MREA-MARK-ONLY-LOGO-FINAL.png
END:VEVENT
BEGIN:VEVENT
DTSTART;TZID=America/Chicago:20240210T080000
DTEND;TZID=America/Chicago:20240210T160000
DTSTAMP:20260425T084814
CREATED:20231109T224227Z
LAST-MODIFIED:20231109T224227Z
UID:961-1707552000-1707580800@blue-ethos.com
SUMMARY:First Aid Essentials
DESCRIPTION:8-hr MN POST approved First Aid Essentials class hosted at Anoka County Sheriff’s Office. \nInstructor: Todd Messer and Kate Ott
URL:https://blue-ethos.com/upcoming-course/first-aid-essentials-6/
LOCATION:Anoka County Sheriffs Office\, 13301 Hanson Blvd NW\, Andover\, MN\, 55304\, United States
ATTACH;FMTTYPE=image/png:https://blue-ethos.com/wp-content/uploads/2023/04/Calendar-First-Aid-Essentials.png
END:VEVENT
BEGIN:VEVENT
DTSTART;TZID=America/Chicago:20240213T120000
DTEND;TZID=America/Chicago:20240213T160000
DTSTAMP:20260425T084814
CREATED:20231104T001941Z
LAST-MODIFIED:20231104T001941Z
UID:921-1707825600-1707840000@blue-ethos.com
SUMMARY:Situational Awareness for Dispatch
DESCRIPTION:Situational Awareness for Anoka County Dispatch. \nInstructors: Drew Moldenhauer\, Rich Webb and Jerad Dixon
URL:https://blue-ethos.com/upcoming-course/situational-awareness-for-dispatch/
LOCATION:Anoka County Government Center\, 2100 3rd Ave\, Anoka\, MN\, 55303\, United States
ATTACH;FMTTYPE=image/png:https://blue-ethos.com/wp-content/uploads/2023/06/Blue-Ethos-Situational-Awareness-for-Survival.png
END:VEVENT
BEGIN:VEVENT
DTSTART;TZID=America/Chicago:20240215T120000
DTEND;TZID=America/Chicago:20240215T160000
DTSTAMP:20260425T084814
CREATED:20231104T002154Z
LAST-MODIFIED:20231104T002154Z
UID:924-1707998400-1708012800@blue-ethos.com
SUMMARY:Situational Awareness for Dispatch
DESCRIPTION:Situational Awareness for Anoka County Dispatch. \nInstructors: Drew Moldenhauer\, Rich Webb and Jerad Dixon
URL:https://blue-ethos.com/upcoming-course/situational-awareness-for-dispatch-2/
LOCATION:Anoka County Government Center\, 2100 3rd Ave\, Anoka\, MN\, 55303\, United States
ATTACH;FMTTYPE=image/png:https://blue-ethos.com/wp-content/uploads/2023/06/Blue-Ethos-Situational-Awareness-for-Survival.png
END:VEVENT
BEGIN:VEVENT
DTSTART;VALUE=DATE:20240220
DTEND;VALUE=DATE:20240222
DTSTAMP:20260425T084814
CREATED:20240105T010536Z
LAST-MODIFIED:20240105T010932Z
UID:1006-1708387200-1708559999@blue-ethos.com
SUMMARY:Active Threat Preparedness
DESCRIPTION:Active Threat Preparedness classes along with threat assessment for Graphic Packaging International \nInstructors: James Bagne and Robert Pullar
URL:https://blue-ethos.com/upcoming-course/active-threat-preparedness-24/
LOCATION:Graphic Packaging\, 975 3rd ST SW\, Crosby\, MN\, 56441\, United States
END:VEVENT
BEGIN:VEVENT
DTSTART;VALUE=DATE:20240227
DTEND;VALUE=DATE:20240228
DTSTAMP:20260425T084814
CREATED:20230914T180724Z
LAST-MODIFIED:20230914T180724Z
UID:731-1708992000-1709078399@blue-ethos.com
SUMMARY:Active Threat Preparedness
DESCRIPTION:Instructors: James Bagne and Robert Pullar
URL:https://blue-ethos.com/upcoming-course/active-threat-preparedness-10/
LOCATION:Sanford Clinic Roseau\, Roseau\, MN\, United States
ATTACH;FMTTYPE=image/png:https://blue-ethos.com/wp-content/uploads/2023/05/Active-Threat-Preparedness.png
END:VEVENT
BEGIN:VEVENT
DTSTART;VALUE=DATE:20240228
DTEND;VALUE=DATE:20240229
DTSTAMP:20260425T084814
CREATED:20230914T180931Z
LAST-MODIFIED:20230914T180931Z
UID:734-1709078400-1709164799@blue-ethos.com
SUMMARY:Active Threat Preparedness
DESCRIPTION:Instructors: James Bagne and Robert Pullar
URL:https://blue-ethos.com/upcoming-course/active-threat-preparedness-11/
LOCATION:Sanford Clinic Crookston\, Crookston\, MN\, United States
ATTACH;FMTTYPE=image/png:https://blue-ethos.com/wp-content/uploads/2023/05/Active-Threat-Preparedness.png
END:VEVENT
BEGIN:VEVENT
DTSTART;VALUE=DATE:20240229
DTEND;VALUE=DATE:20240301
DTSTAMP:20260425T084814
CREATED:20230914T181159Z
LAST-MODIFIED:20230914T181159Z
UID:737-1709164800-1709251199@blue-ethos.com
SUMMARY:Active Threat Preparedness
DESCRIPTION:Instructors: James Bagne and Robert Pullar
URL:https://blue-ethos.com/upcoming-course/active-threat-preparedness-12/
LOCATION:Sanford Bemidji\, Bemidji\, MN\, United States
ATTACH;FMTTYPE=image/png:https://blue-ethos.com/wp-content/uploads/2023/05/Active-Threat-Preparedness.png
END:VEVENT
BEGIN:VEVENT
DTSTART;VALUE=DATE:20240306
DTEND;VALUE=DATE:20240309
DTSTAMP:20260425T084814
CREATED:20240124T194954Z
LAST-MODIFIED:20240124T194954Z
UID:1020-1709683200-1709942399@blue-ethos.com
SUMMARY:Situational Awareness
DESCRIPTION:We will be conducting interviews and assessments on Situational Awareness for the safety of Mille Lacs Energy Cooperative Lineman. \n 
URL:https://blue-ethos.com/upcoming-course/situational-awareness/
LOCATION:Mille Lacs Energy Cooperative\, 36559 US Hwy 169\, Aitkin\, MN\, 56431\, United States
ATTACH;FMTTYPE=image/png:https://blue-ethos.com/wp-content/uploads/2023/10/jg0vx6b4.png
END:VEVENT
BEGIN:VEVENT
DTSTART;VALUE=DATE:20240306
DTEND;VALUE=DATE:20240309
DTSTAMP:20260425T084814
CREATED:20240124T195554Z
LAST-MODIFIED:20240124T195554Z
UID:1022-1709683200-1709942399@blue-ethos.com
SUMMARY:Active Threat Preparedness
DESCRIPTION:Active Threat Preparedness trainings for multiple Bank of Elk River locations. \nInstructor: Robert Pullar
URL:https://blue-ethos.com/upcoming-course/active-threat-preparedness-26/
LOCATION:Bank of Elk River\, 630 Main Street\, Elk River\, MN\, 55330\, United States
ATTACH;FMTTYPE=image/jpeg:https://blue-ethos.com/wp-content/uploads/2024/01/bank-of-er.jpg
END:VEVENT
BEGIN:VEVENT
DTSTART;TZID=America/Chicago:20240313T100000
DTEND;TZID=America/Chicago:20240313T140000
DTSTAMP:20260425T084814
CREATED:20240216T144714Z
LAST-MODIFIED:20240216T144714Z
UID:1041-1710324000-1710338400@blue-ethos.com
SUMMARY:Use of Force
DESCRIPTION:4-hour MN POST approved Use of Force class for Alcohol and Gambling Enforcement. \nInstructor: Ashton Erickson
URL:https://blue-ethos.com/upcoming-course/use-of-force-5/
LOCATION:Alcohol & Gambling Enforcement\, 444 Cedar St #133\, ST. Paul\, MINNESOTA\, 55101
ATTACH;FMTTYPE=image/png:https://blue-ethos.com/wp-content/uploads/2023/04/specialized-training-e1686144759125.png
END:VEVENT
BEGIN:VEVENT
DTSTART;TZID=America/Chicago:20240318T103000
DTEND;TZID=America/Chicago:20240318T120000
DTSTAMP:20260425T084814
CREATED:20240126T155647Z
LAST-MODIFIED:20240126T155647Z
UID:1032-1710757800-1710763200@blue-ethos.com
SUMMARY:De-escalation
DESCRIPTION:De-escalation training for engineering and consulting firm\, Barr. \nInstructor: Drew Moldenhauer
URL:https://blue-ethos.com/upcoming-course/de-escalation/
LOCATION:Barr\, 4300 Market Pointe DR Ste 200\, Minneapolis\, MN\, 55435\, United States
END:VEVENT
BEGIN:VEVENT
DTSTART;VALUE=DATE:20240321
DTEND;VALUE=DATE:20240322
DTSTAMP:20260425T084814
CREATED:20240124T195741Z
LAST-MODIFIED:20240124T195741Z
UID:1026-1710979200-1711065599@blue-ethos.com
SUMMARY:Situational Awareness
DESCRIPTION:Situational Awareness training for Mille Lacs Energy Cooperative. \nInstructors: Drew Moldenhauer and Rich Webb
URL:https://blue-ethos.com/upcoming-course/situational-awareness-2/
LOCATION:Mille Lacs Energy Cooperative\, 36559 US Hwy 169\, Aitkin\, MN\, 56431\, United States
ATTACH;FMTTYPE=image/png:https://blue-ethos.com/wp-content/uploads/2023/10/jg0vx6b4.png
END:VEVENT
BEGIN:VEVENT
DTSTART;VALUE=DATE:20240409
DTEND;VALUE=DATE:20240410
DTSTAMP:20260425T084814
CREATED:20240201T002206Z
LAST-MODIFIED:20240201T002206Z
UID:1036-1712620800-1712707199@blue-ethos.com
SUMMARY:Active Threat Preparedness
DESCRIPTION:Active Threat Preparedness training for City of Champlin City Council \nInstructor Robert Pullar
URL:https://blue-ethos.com/upcoming-course/active-threat-preparedness-28/
LOCATION:Champlin City Hall\, 11955 Champlin Dr\, Champlin\, MN\, 55316\, United States
END:VEVENT
BEGIN:VEVENT
DTSTART;VALUE=DATE:20240417
DTEND;VALUE=DATE:20240419
DTSTAMP:20260425T084814
CREATED:20240105T011936Z
LAST-MODIFIED:20240105T011936Z
UID:1012-1713312000-1713484799@blue-ethos.com
SUMMARY:Active Threat Preparedness
DESCRIPTION:Owner and Master Instructor Drew Moldenhauer will be at the Blue Ethos booth at SHRM Atlanta April 17-18 and speaking from 9:00 am-10:00 am on April 18th on Active Threat Preparedness.  Come say hi to Drew at the booth!
URL:https://blue-ethos.com/upcoming-course/active-threat-preparedness-25/
LOCATION:AmericasMart\, 230 John Portman Blvd NW\, Atlanta\, GA\, 30303\, United States
ATTACH;FMTTYPE=image/png:https://blue-ethos.com/wp-content/uploads/2024/01/SHRM-Atlanta-Logo-1000px.png
END:VEVENT
BEGIN:VEVENT
DTSTART;VALUE=DATE:20240423
DTEND;VALUE=DATE:20240426
DTSTAMP:20260425T084814
CREATED:20240229T173302Z
LAST-MODIFIED:20240229T173302Z
UID:1058-1713830400-1714089599@blue-ethos.com
SUMMARY:Active Threat Preparedness
DESCRIPTION:Rich Webb and Drew Moldenhauer will be at the Iowa-Illinois Safety Council’s 71st annual Professional Development Conference and Expo April 23-25! \nRich and Drew will be at the Blue Ethos booth if you are visiting so check us out.  They will be speaking at the conference on Wednesday April 24th @ 3:15.
URL:https://blue-ethos.com/upcoming-course/active-threat-preparedness-30/
LOCATION:Hyatt Regency\, 300 E 9th St\, Coralville\, IA\, 52241\, United States
ATTACH;FMTTYPE=image/png:https://blue-ethos.com/wp-content/uploads/2024/02/Iowa-safety.png
END:VEVENT
BEGIN:VEVENT
DTSTART;TZID=America/Chicago:20240424T080000
DTEND;TZID=America/Chicago:20240424T160000
DTSTAMP:20260425T084814
CREATED:20240321T161901Z
LAST-MODIFIED:20240321T161901Z
UID:1067-1713945600-1713974400@blue-ethos.com
SUMMARY:Emergency Medical Responder Refresher
DESCRIPTION:Day 1 of EMR Refresher for Osseo PD. \nInstructor: Kate Ott
URL:https://blue-ethos.com/upcoming-course/emergency-medical-responder-refresher/
LOCATION:Osseo Police Department\, 408 1st Ave NW\, Osseo\, 55369\, United States
ATTACH;FMTTYPE=image/png:https://blue-ethos.com/wp-content/uploads/2023/04/EMR-Course.png
END:VEVENT
BEGIN:VEVENT
DTSTART;TZID=America/Chicago:20240424T080000
DTEND;TZID=America/Chicago:20240424T160000
DTSTAMP:20260425T084814
CREATED:20240321T162339Z
LAST-MODIFIED:20240321T162339Z
UID:1069-1713945600-1713974400@blue-ethos.com
SUMMARY:Specialized Security Training
DESCRIPTION:8 hour specialized security training for Sanford Medical Security.  Topics will include De-escalation\, Use of Force and case law. \nInstructors: Jerad Dixon and Ashton Erickson
URL:https://blue-ethos.com/upcoming-course/specialized-security-training/
LOCATION:Bemidji\, MN\, Bemidji\, MN\, 56601\, United States
ATTACH;FMTTYPE=image/png:https://blue-ethos.com/wp-content/uploads/2023/04/specialized-training-e1686144759125.png
END:VEVENT
BEGIN:VEVENT
DTSTART;TZID=America/Chicago:20240429T080000
DTEND;TZID=America/Chicago:20240429T160000
DTSTAMP:20260425T084814
CREATED:20231108T160023Z
LAST-MODIFIED:20231108T160023Z
UID:936-1714377600-1714406400@blue-ethos.com
SUMMARY:First Aid Essentials
DESCRIPTION:8-hr MN POST approved First Aid Essentials class hosted at Anoka County Sheriff’s Office. \nInstructors: Kate Ott and Todd Messer
URL:https://blue-ethos.com/upcoming-course/first-aid-essentials-3/
LOCATION:Anoka County Sheriffs Office\, 13301 Hanson Blvd NW\, Andover\, MN\, 55304\, United States
ATTACH;FMTTYPE=image/png:https://blue-ethos.com/wp-content/uploads/2023/04/Calendar-First-Aid-Essentials.png
END:VEVENT
BEGIN:VEVENT
DTSTART;VALUE=DATE:20240430
DTEND;VALUE=DATE:20240502
DTSTAMP:20260425T084814
CREATED:20231109T223025Z
LAST-MODIFIED:20231109T223025Z
UID:958-1714435200-1714607999@blue-ethos.com
SUMMARY:Active Threat Preparedness
DESCRIPTION:We will be at the Minnesota Safety Council Conference speaking and hosting a booth at Mystic Lake Casino. \nInstructors: Drew Moldenhauer and Rich Webb
URL:https://blue-ethos.com/upcoming-course/active-threat-preparedness-21/
LOCATION:Mystic Lake Casino\, 2400 Mystic Lake Blvd NW\, Prior Lake\, MN\, 55372\, United States
ATTACH;FMTTYPE=image/webp:https://blue-ethos.com/wp-content/uploads/2023/11/MN-SAFETY-COUNCIL.webp
END:VEVENT
BEGIN:VEVENT
DTSTART;TZID=America/Chicago:20240502T080000
DTEND;TZID=America/Chicago:20240503T160000
DTSTAMP:20260425T084814
CREATED:20231108T160347Z
LAST-MODIFIED:20231108T160347Z
UID:939-1714636800-1714752000@blue-ethos.com
SUMMARY:Emergency Medical Responder (EMR) Refresher
DESCRIPTION:16-hr MN POST approved Emergency Medical Responder (EMR) Refresher hosted at Anoka County Sheriff’s Office. \nInstructor: Kate Ott
URL:https://blue-ethos.com/upcoming-course/emergency-medical-responder-emr-refresher-4/
LOCATION:Anoka County Sheriffs Office\, 13301 Hanson Blvd NW\, Andover\, MN\, 55304\, United States
ATTACH;FMTTYPE=image/png:https://blue-ethos.com/wp-content/uploads/2023/04/Calendar-EMR.png
END:VEVENT
BEGIN:VEVENT
DTSTART;VALUE=DATE:20240506
DTEND;VALUE=DATE:20240509
DTSTAMP:20260425T084814
CREATED:20240223T231722Z
LAST-MODIFIED:20240223T231722Z
UID:1049-1714953600-1715212799@blue-ethos.com
SUMMARY:Situational Awareness for Public Safety Communications
DESCRIPTION:Situational Awareness for ECN Public Safety Communications Conference \nInstructor: Drew Moldenhauer
URL:https://blue-ethos.com/upcoming-course/situational-awareness-for-public-safety-communications/
LOCATION:River’s Edge Convention Center\, 100 Fourth Ave S\, St. Cloud\, MN\, 56301\, United States
ATTACH;FMTTYPE=image/png:https://blue-ethos.com/wp-content/uploads/2024/02/ECN-2024-Conference-Ad.png
END:VEVENT
BEGIN:VEVENT
DTSTART;TZID=America/Chicago:20240506T080000
DTEND;TZID=America/Chicago:20240507T160000
DTSTAMP:20260425T084814
CREATED:20231110T150448Z
LAST-MODIFIED:20231110T150448Z
UID:964-1714982400-1715097600@blue-ethos.com
SUMMARY:Tactical EMR
DESCRIPTION:Tactical Emergency Medical Responder class for Minnetonka Police Department. \n16-hr MN POST approved with EMR Refresher. \nInstructors: Tyler Decker and Kurt Knutson
URL:https://blue-ethos.com/upcoming-course/tactical-emr/
LOCATION:Minnetonka Police Department\, 14600 Minnetonka Blvd\, Minnetonka\, MN\, 55345\, United States
ATTACH;FMTTYPE=image/png:https://blue-ethos.com/wp-content/uploads/2023/06/Tactical-EMR-Refresher.png
END:VEVENT
BEGIN:VEVENT
DTSTART;VALUE=DATE:20240507
DTEND;VALUE=DATE:20240508
DTSTAMP:20260425T084814
CREATED:20240327T161318Z
LAST-MODIFIED:20240327T161318Z
UID:1071-1715040000-1715126399@blue-ethos.com
SUMMARY:Active Threat Preparedness
DESCRIPTION:Active Threat Preparedness Training for North Star Manor staff. \nInstructors: Robert Pullar and James Bagne
URL:https://blue-ethos.com/upcoming-course/active-threat-preparedness-31/
LOCATION:North Star Manor\, 410 S McKinley St\, Warren\, MN\, 56762\, United States
END:VEVENT
BEGIN:VEVENT
DTSTART;TZID=America/Chicago:20240508T080000
DTEND;TZID=America/Chicago:20240509T160000
DTSTAMP:20260425T084814
CREATED:20231110T150727Z
LAST-MODIFIED:20231110T150727Z
UID:967-1715155200-1715270400@blue-ethos.com
SUMMARY:Tactical EMR
DESCRIPTION:Tactical Emergency Medical Responder class for Minnetonka Police Department. \n16-hr MN POST approved and EMR Refresher \nInstructors: Tyler Decker and Kurt Knutson
URL:https://blue-ethos.com/upcoming-course/tactical-emr-2/
LOCATION:Minnetonka Police Department\, 14600 Minnetonka Blvd\, Minnetonka\, MN\, 55345\, United States
ATTACH;FMTTYPE=image/png:https://blue-ethos.com/wp-content/uploads/2023/06/Tactical-EMR-Refresher.png
END:VEVENT
BEGIN:VEVENT
DTSTART;VALUE=DATE:20240515
DTEND;VALUE=DATE:20240516
DTSTAMP:20260425T084814
CREATED:20240501T180445Z
LAST-MODIFIED:20240501T180445Z
UID:1106-1715731200-1715817599@blue-ethos.com
SUMMARY:Active Threat Preparedness
DESCRIPTION:Active Threat training for Louis Industries\, INC. \nInstructors: Robert Pullar and James Bagne
URL:https://blue-ethos.com/upcoming-course/active-threat-preparedness-36/
LOCATION:Louis Industries\, INC\, 222 Industrial Loop St West\, Paynesville\, MN\, 56362\, United States
END:VEVENT
BEGIN:VEVENT
DTSTART;TZID=America/Chicago:20240521T080000
DTEND;TZID=America/Chicago:20240521T120000
DTSTAMP:20260425T084814
CREATED:20240216T145510Z
LAST-MODIFIED:20240216T145510Z
UID:1043-1716278400-1716292800@blue-ethos.com
SUMMARY:Active Threat Preparedness
DESCRIPTION:Active Threat Preparedness training for Carpenters Training Institute. \nInstructors: James Bagne and Robert Pullar
URL:https://blue-ethos.com/upcoming-course/active-threat-preparedness-29/
LOCATION:Carpenter Training Institute\, 10761 Virginia Plaza\, Suite 101\, Papillion\, NE\, 68128\, United States
END:VEVENT
BEGIN:VEVENT
DTSTART;VALUE=DATE:20240522
DTEND;VALUE=DATE:20240523
DTSTAMP:20260425T084814
CREATED:20240124T200459Z
LAST-MODIFIED:20240124T200459Z
UID:1028-1716336000-1716422399@blue-ethos.com
SUMMARY:Active Threat Preparedness
DESCRIPTION:Active Threat Preparedness training regarding workplace violence for Adapta. \nInstructors: Rich Webb and Drew Moldenhauer
URL:https://blue-ethos.com/upcoming-course/active-threat-preparedness-27/
LOCATION:Adapta\, 2020 5th ST SW\, Rochester\, MN\, 55902\, United States
END:VEVENT
END:VCALENDAR