BEGIN:VCALENDAR
VERSION:2.0
PRODID:-//Blue Ethos Specialized Training - ECPv6.15.20//NONSGML v1.0//EN
CALSCALE:GREGORIAN
METHOD:PUBLISH
X-ORIGINAL-URL:https://blue-ethos.com
X-WR-CALDESC:Events for Blue Ethos Specialized Training
REFRESH-INTERVAL;VALUE=DURATION:PT1H
X-Robots-Tag:noindex
X-PUBLISHED-TTL:PT1H
BEGIN:VTIMEZONE
TZID:America/Chicago
BEGIN:DAYLIGHT
TZOFFSETFROM:-0600
TZOFFSETTO:-0500
TZNAME:CDT
DTSTART:20240310T080000
END:DAYLIGHT
BEGIN:STANDARD
TZOFFSETFROM:-0500
TZOFFSETTO:-0600
TZNAME:CST
DTSTART:20241103T070000
END:STANDARD
BEGIN:DAYLIGHT
TZOFFSETFROM:-0600
TZOFFSETTO:-0500
TZNAME:CDT
DTSTART:20250309T080000
END:DAYLIGHT
BEGIN:STANDARD
TZOFFSETFROM:-0500
TZOFFSETTO:-0600
TZNAME:CST
DTSTART:20251102T070000
END:STANDARD
BEGIN:DAYLIGHT
TZOFFSETFROM:-0600
TZOFFSETTO:-0500
TZNAME:CDT
DTSTART:20260308T080000
END:DAYLIGHT
BEGIN:STANDARD
TZOFFSETFROM:-0500
TZOFFSETTO:-0600
TZNAME:CST
DTSTART:20261101T070000
END:STANDARD
BEGIN:DAYLIGHT
TZOFFSETFROM:-0600
TZOFFSETTO:-0500
TZNAME:CDT
DTSTART:20270314T080000
END:DAYLIGHT
BEGIN:STANDARD
TZOFFSETFROM:-0500
TZOFFSETTO:-0600
TZNAME:CST
DTSTART:20271107T070000
END:STANDARD
END:VTIMEZONE
BEGIN:VEVENT
DTSTART;TZID=America/Chicago:20250925T080000
DTEND;TZID=America/Chicago:20250925T160000
DTSTAMP:20260423T175859
CREATED:20250530T135652Z
LAST-MODIFIED:20250530T135948Z
UID:1643-1758787200-1758816000@blue-ethos.com
SUMMARY:First Aid Essentials
DESCRIPTION:8-hour MN POST approved First Aid Essentials class.  Hosted at Anoka County Sheriff’s Office on 9-25-25. \nInstructor: Kate Ott
URL:https://blue-ethos.com/upcoming-course/first-aid-essentials-12/
LOCATION:Anoka County Sheriffs Office\, 13301 Hanson Blvd NW\, Andover\, MN\, 55304\, United States
ATTACH;FMTTYPE=image/png:https://blue-ethos.com/wp-content/uploads/2024/11/Kate-Ott-About.png
END:VEVENT
BEGIN:VEVENT
DTSTART;VALUE=DATE:20251002
DTEND;VALUE=DATE:20251003
DTSTAMP:20260423T175859
CREATED:20250916T175418Z
LAST-MODIFIED:20250916T175418Z
UID:2093-1759363200-1759449599@blue-ethos.com
SUMMARY:Emergency Medical Responder (EMR) Refresher
DESCRIPTION:EMR Refresher for Osseo Police Department. \nInstructor: Kate Ott
URL:https://blue-ethos.com/upcoming-course/emergency-medical-responder-emr-refresher-11/
LOCATION:Osseo Police Department\, 408 1st Ave NW\, Osseo\, 55369\, United States
ATTACH;FMTTYPE=image/webp:https://blue-ethos.com/wp-content/uploads/2025/08/EMS-Start-Page.webp
END:VEVENT
BEGIN:VEVENT
DTSTART;VALUE=DATE:20251009
DTEND;VALUE=DATE:20251010
DTSTAMP:20260423T175859
CREATED:20250530T191319Z
LAST-MODIFIED:20250530T191319Z
UID:1674-1759968000-1760054399@blue-ethos.com
SUMMARY:Women's Empowerment Retreat
DESCRIPTION:Drew Moldenhauer and Rich Webb will be speaking at the Women’s Empowerment Retreat in Minnetonka\, MN.
URL:https://blue-ethos.com/upcoming-course/womens-empowerment-retreat/
LOCATION:Minnetonka\, MN\, Minnetonka\, MN\, United States
ATTACH;FMTTYPE=image/jpeg:https://blue-ethos.com/wp-content/uploads/2025/01/Drew-and-Rich-3-scaled.jpg
END:VEVENT
BEGIN:VEVENT
DTSTART;TZID=America/Chicago:20251013T103000
DTEND;TZID=America/Chicago:20251013T113000
DTSTAMP:20260423T175859
CREATED:20250827T223651Z
LAST-MODIFIED:20250827T223651Z
UID:2071-1760351400-1760355000@blue-ethos.com
SUMMARY:MN SHRM 2025 Conference
DESCRIPTION:Drew Moldenhaur and Rich Webb will be speaking at MN SHRM State Conference at Mystic Lake Casino in Prior Lake\, MN.
URL:https://blue-ethos.com/upcoming-course/mn-shrm-2025-conference/
LOCATION:Mystic Lake Casino\, 2400 Mystic Lake Blvd NW\, Prior Lake\, MN\, 55372\, United States
ATTACH;FMTTYPE=image/jpeg:https://blue-ethos.com/wp-content/uploads/2025/01/Drew-and-Rich-3-scaled.jpg
END:VEVENT
BEGIN:VEVENT
DTSTART;VALUE=DATE:20251015
DTEND;VALUE=DATE:20251018
DTSTAMP:20260423T175859
CREATED:20250606T140248Z
LAST-MODIFIED:20250606T140248Z
UID:1684-1760486400-1760745599@blue-ethos.com
SUMMARY:2025 Michigan SHRM State Conference
DESCRIPTION:Rich Webb and Drew Moldenhauer will be presenting at the 2025 MISHRM State Conference on Workplace Safety by Design.
URL:https://blue-ethos.com/upcoming-course/2025-michigan-shrm-state-conference/
LOCATION:MISHRM\, 303 Monroe Ave NW\, Grand Rapids\, MI\, MI\, 49503\, United States
ATTACH;FMTTYPE=image/jpeg:https://blue-ethos.com/wp-content/uploads/2025/06/MISHRM.jpg
END:VEVENT
BEGIN:VEVENT
DTSTART;TZID=America/Chicago:20251017T083000
DTEND;TZID=America/Chicago:20251017T100000
DTSTAMP:20260423T175859
CREATED:20251006T134609Z
LAST-MODIFIED:20251006T134609Z
UID:2107-1760689800-1760695200@blue-ethos.com
SUMMARY:Merry Moose Childcare and Preschool
DESCRIPTION:James Bagne will be onsite at Merry Moose Childcare and Preschool in Kimball\, MN delivering an Active Threat Preparedness training.
URL:https://blue-ethos.com/upcoming-course/merry-moose-childcare-and-preschool/
LOCATION:Kimball\, MN\, Kimball\, MN\, 55353\, United States
ATTACH;FMTTYPE=image/webp:https://blue-ethos.com/wp-content/uploads/2025/07/James-Bagne-About.webp
END:VEVENT
BEGIN:VEVENT
DTSTART;TZID=America/Chicago:20251017T130000
DTEND;TZID=America/Chicago:20251017T160000
DTSTAMP:20260423T175859
CREATED:20250512T174035Z
LAST-MODIFIED:20250512T174035Z
UID:1637-1760706000-1760716800@blue-ethos.com
SUMMARY:Active Threat Preparedness
DESCRIPTION:Active Threat Preparedness training for Texas Native Health. \nInstructor: Robert Pullar
URL:https://blue-ethos.com/upcoming-course/active-threat-preparedness-59/
LOCATION:Texas Native Health\, 1283 Record Crossing Rd\, Dallas\, TX\, United States
ATTACH;FMTTYPE=image/png:https://blue-ethos.com/wp-content/uploads/2024/11/Robert-Pullar-About.png
END:VEVENT
BEGIN:VEVENT
DTSTART;VALUE=DATE:20251021
DTEND;VALUE=DATE:20251022
DTSTAMP:20260423T175859
CREATED:20251006T135045Z
LAST-MODIFIED:20251006T135045Z
UID:2110-1761004800-1761091199@blue-ethos.com
SUMMARY:Milwaukee Tool
DESCRIPTION:Drew Moldenhaur and Rich Webb will be onsite in Milwuakee\, WI delivering an Active Threat Preparedness training for Milwaukee Tool.
URL:https://blue-ethos.com/upcoming-course/milwaukee-tool/
LOCATION:Milwuakee\, WI\, Milwaukee\, WI\, United States
ATTACH;FMTTYPE=image/webp:https://blue-ethos.com/wp-content/uploads/2025/10/MILWUAKEE.webp
END:VEVENT
BEGIN:VEVENT
DTSTART;VALUE=DATE:20251023
DTEND;VALUE=DATE:20251024
DTSTAMP:20260423T175859
CREATED:20250919T150103Z
LAST-MODIFIED:20250919T150103Z
UID:2099-1761177600-1761263999@blue-ethos.com
SUMMARY:Cirrus Aircraft
DESCRIPTION:Drew Moldenhauer and Rich Webb will be onsite in Duluth\, MN instructing Active Threat Preparedness and De-escalation tactics for Cirrus Aircraft.
URL:https://blue-ethos.com/upcoming-course/cirrus-aircraft-2/
LOCATION:Duluth\, MN\, Duluth\, MN\, 55802\, United States
ATTACH;FMTTYPE=image/webp:https://blue-ethos.com/wp-content/uploads/2025/08/Cirrus_Aircraft_Logo.webp
END:VEVENT
BEGIN:VEVENT
DTSTART;TZID=America/Chicago:20251023T080000
DTEND;TZID=America/Chicago:20251024T160000
DTSTAMP:20260423T175859
CREATED:20241026T020542Z
LAST-MODIFIED:20241026T020542Z
UID:1361-1761206400-1761321600@blue-ethos.com
SUMMARY:Emergency Medical Responder (EMR) Refresher
DESCRIPTION:Emergency Medical Responder (EMR) Refresher hosted at Anoka County Sheriff’s Office. \n16-hour MN POST approved training for Law Enforcement. \nInstructor: Kate Ott
URL:https://blue-ethos.com/upcoming-course/emergency-medical-responder-emr-refresher-10/
LOCATION:Anoka County Sheriffs Office\, 13301 Hanson Blvd NW\, Andover\, MN\, 55304\, United States
ATTACH;FMTTYPE=image/png:https://blue-ethos.com/wp-content/uploads/2023/04/EMR-Course.png
END:VEVENT
BEGIN:VEVENT
DTSTART;TZID=America/Chicago:20251028T143000
DTEND;TZID=America/Chicago:20251028T153000
DTSTAMP:20260423T175859
CREATED:20250827T224548Z
LAST-MODIFIED:20250827T224548Z
UID:2073-1761661800-1761665400@blue-ethos.com
SUMMARY:Prime West Health
DESCRIPTION:De-escalation training for Prime West Health in Parkers Prairie\, MN. \nInstructors: Drew Moldenhauer and Rich Webb
URL:https://blue-ethos.com/upcoming-course/prime-west-health/
LOCATION:Parker Prairie\, Parker Prairie\, MN\, United States
ATTACH;FMTTYPE=image/webp:https://blue-ethos.com/wp-content/uploads/2025/07/A74008367.webp
END:VEVENT
BEGIN:VEVENT
DTSTART;TZID=America/Chicago:20251028T170000
DTEND;TZID=America/Chicago:20251028T210000
DTSTAMP:20260423T175859
CREATED:20251006T135716Z
LAST-MODIFIED:20251006T135716Z
UID:2116-1761670800-1761685200@blue-ethos.com
SUMMARY:Emergency Medical Responder (EMR) Refresher
DESCRIPTION:EMR Refresher for Osseo Police Department. \nInstructor: Kate Ott
URL:https://blue-ethos.com/upcoming-course/emergency-medical-responder-emr-refresher-12/
LOCATION:Osseo Police Department\, 408 1st Ave NW\, Osseo\, 55369\, United States
ATTACH;FMTTYPE=image/jpeg:https://blue-ethos.com/wp-content/uploads/2025/01/osseo-pd.jpg
END:VEVENT
BEGIN:VEVENT
DTSTART;TZID=America/Chicago:20251031T080000
DTEND;TZID=America/Chicago:20251031T093000
DTSTAMP:20260423T175859
CREATED:20251007T141822Z
LAST-MODIFIED:20251027T172058Z
UID:2124-1761897600-1761903000@blue-ethos.com
SUMMARY:Hand In Hand Christian Montessori
DESCRIPTION:James Bagne will be onsite in Wayzata\, MN to train Hand In Hand Christian Montessori on Active Threat Preparedness and De-escalation
URL:https://blue-ethos.com/upcoming-course/hand-in-hand-christian-montessori/
LOCATION:Wayzata\, MN\, Wayzata\, MN\, United States
ATTACH;FMTTYPE=image/webp:https://blue-ethos.com/wp-content/uploads/2025/07/James-Bagne-Profile.webp
END:VEVENT
BEGIN:VEVENT
DTSTART;VALUE=DATE:20251104
DTEND;VALUE=DATE:20251105
DTSTAMP:20260423T175859
CREATED:20250827T225044Z
LAST-MODIFIED:20250827T225044Z
UID:2076-1762214400-1762300799@blue-ethos.com
SUMMARY:FMHRA
DESCRIPTION:Active Threat Preparedness training for FMHRA in Fargo\, ND \nInstructors: Drew Moldenhauer and Rich Webb
URL:https://blue-ethos.com/upcoming-course/fmhra/
LOCATION:Fargo\, ND\, Fargo\, ND\, United States
ATTACH;FMTTYPE=image/webp:https://blue-ethos.com/wp-content/uploads/2025/07/1A700019.webp
END:VEVENT
BEGIN:VEVENT
DTSTART;VALUE=DATE:20251105
DTEND;VALUE=DATE:20251106
DTSTAMP:20260423T175859
CREATED:20251006T135337Z
LAST-MODIFIED:20251015T225930Z
UID:2114-1762300800-1762387199@blue-ethos.com
SUMMARY:Cirrus Aircraft
DESCRIPTION:Drew Moldenhauer and Rich Webb will be onsite in Grand Forks\, ND delivering an Active Threat Preparedness Training for Cirrus Aircraft.
URL:https://blue-ethos.com/upcoming-course/cirrus-aircraft-3/
LOCATION:Grand Forks\, ND\, United States
ATTACH;FMTTYPE=image/webp:https://blue-ethos.com/wp-content/uploads/2025/08/Cirrus_Aircraft_Logo.webp
END:VEVENT
BEGIN:VEVENT
DTSTART;TZID=America/Chicago:20251106T080000
DTEND;TZID=America/Chicago:20251106T120000
DTSTAMP:20260423T175859
CREATED:20250827T225557Z
LAST-MODIFIED:20251027T172224Z
UID:2079-1762416000-1762430400@blue-ethos.com
SUMMARY:Wright Hennepin Electric
DESCRIPTION:Active Threat Preparedness training for Wrightt Hennepin Electric in Rockford\, MN. \nInstructors: Robert Pullar and Aaron Pipenhagen
URL:https://blue-ethos.com/upcoming-course/wright-hennepin-electric/
LOCATION:Rockford\, MN\, Rockford\, MN\, United States
ATTACH;FMTTYPE=image/png:https://blue-ethos.com/wp-content/uploads/2024/11/Aaron-Pipenhagen-About.png
END:VEVENT
BEGIN:VEVENT
DTSTART;TZID=America/Chicago:20251106T080000
DTEND;TZID=America/Chicago:20251106T160000
DTSTAMP:20260423T175859
CREATED:20250530T140531Z
LAST-MODIFIED:20250530T140531Z
UID:1647-1762416000-1762444800@blue-ethos.com
SUMMARY:First Aid Essentials
DESCRIPTION:8-hour MN Post approved First Aid Essentials class hosted at Anoka County Sheriff’s Office on 11-6-2025. \nInstructor: Kate Ott
URL:https://blue-ethos.com/upcoming-course/first-aid-essentials-13/
LOCATION:Anoka County Sheriffs Office\, 13301 Hanson Blvd NW\, Andover\, MN\, 55304\, United States
ATTACH;FMTTYPE=image/png:https://blue-ethos.com/wp-content/uploads/2024/11/Kate-Ott-About.png
END:VEVENT
BEGIN:VEVENT
DTSTART;TZID=America/Chicago:20251112T150000
DTEND;TZID=America/Chicago:20251112T163000
DTSTAMP:20260423T175859
CREATED:20251016T124959Z
LAST-MODIFIED:20251016T124959Z
UID:2127-1762959600-1762965000@blue-ethos.com
SUMMARY:Hand In Hand Christian Montessori
DESCRIPTION:8-hour MN Post approved First Aid Essentials class hosted at Anoka County Sheriff’s Office on 11-6-2025. \nInstructor: Kate Ott
URL:https://blue-ethos.com/upcoming-course/hand-in-hand-christian-montessori-2/
LOCATION:Roseville\, MN\, Roseville\, MN\, United States
ATTACH;FMTTYPE=image/webp:https://blue-ethos.com/wp-content/uploads/2025/07/James-Bagne-Profile.webp
END:VEVENT
BEGIN:VEVENT
DTSTART;VALUE=DATE:20251113
DTEND;VALUE=DATE:20251114
DTSTAMP:20260423T175859
CREATED:20250919T150344Z
LAST-MODIFIED:20250919T150344Z
UID:2101-1762992000-1763078399@blue-ethos.com
SUMMARY:Groebner and Associates
DESCRIPTION:Drew Moldenhauer and Rich Webb will be onsite with Groebner and Associates in Rogers\, MN instructing Active Threat Preparedness and De-escalation skills.
URL:https://blue-ethos.com/upcoming-course/groebner-and-associates/
LOCATION:Groebner and Associates\, 9530 Fallon Ave NE\, Monticello\, MN\, 55362\, United States
ATTACH;FMTTYPE=image/jpeg:https://blue-ethos.com/wp-content/uploads/2025/01/Drew-and-Rich-3-scaled.jpg
END:VEVENT
BEGIN:VEVENT
DTSTART;TZID=America/Chicago:20251113T120000
DTEND;TZID=America/Chicago:20251113T160000
DTSTAMP:20260423T175859
CREATED:20250916T175223Z
LAST-MODIFIED:20250916T175223Z
UID:2090-1763035200-1763049600@blue-ethos.com
SUMMARY:Use of Force
DESCRIPTION:4-hour MN POST mandated Use of Force Training for Alcohol Gambling Enforcement. \nInstructors: Ashton Erickson and Jerad Dixon
URL:https://blue-ethos.com/upcoming-course/use-of-force-7/
LOCATION:Maple Grove\, MN\, Maple Grove\, MN\, United States
ATTACH;FMTTYPE=image/webp:https://blue-ethos.com/wp-content/uploads/2025/08/Specialized-Training-1.webp
END:VEVENT
BEGIN:VEVENT
DTSTART;TZID=America/Chicago:20251125T090000
DTEND;TZID=America/Chicago:20251125T110000
DTSTAMP:20260423T175859
CREATED:20251112T174748Z
LAST-MODIFIED:20251112T174748Z
UID:2144-1764061200-1764068400@blue-ethos.com
SUMMARY:NDAREC Mandan\, ND
DESCRIPTION:Drew Moldenhauer and Rich Webb will be speaking at the NDAREC Conference in Mandan\, ND.
URL:https://blue-ethos.com/upcoming-course/ndarec-mandan-nd/
LOCATION:Mandan\, ND\, Mandan\, ND\, United States
ATTACH;FMTTYPE=image/jpeg:https://blue-ethos.com/wp-content/uploads/2025/01/Drew-and-Rich-3-scaled.jpg
END:VEVENT
BEGIN:VEVENT
DTSTART;VALUE=DATE:20251208
DTEND;VALUE=DATE:20251209
DTSTAMP:20260423T175859
CREATED:20251006T160551Z
LAST-MODIFIED:20251006T160551Z
UID:2120-1765152000-1765238399@blue-ethos.com
SUMMARY:Sherburne County\, MN
DESCRIPTION:Drew Moldenhauer and Rich Webb will be onsite in Sherburne County\, MN for instruction county employees in Active Threat and De-escalation
URL:https://blue-ethos.com/upcoming-course/sherburne-county-mn/
LOCATION:Elk River\, MN\, Elk River\, MN\, 55330\, United States
ATTACH;FMTTYPE=image/webp:https://blue-ethos.com/wp-content/uploads/2025/07/A7400846.webp
END:VEVENT
BEGIN:VEVENT
DTSTART;VALUE=DATE:20251210
DTEND;VALUE=DATE:20251211
DTSTAMP:20260423T175859
CREATED:20250827T230950Z
LAST-MODIFIED:20250827T230950Z
UID:2082-1765324800-1765411199@blue-ethos.com
SUMMARY:High Stakes Team Work Keynote
DESCRIPTION:Drew Moldenhauer will be delivering his Keynote program on High Stakes Team Work at the Holiday Inn in Saint Cloud\, MN.
URL:https://blue-ethos.com/upcoming-course/high-stakes-team-work-keynote/
LOCATION:Holiday Inn\, 75 37th Ave\, Saint Cloud\, MN\, 56301\, United States
ATTACH;FMTTYPE=image/jpeg:https://blue-ethos.com/wp-content/uploads/2025/01/High-Stakes.jpg
END:VEVENT
BEGIN:VEVENT
DTSTART;VALUE=DATE:20251209
DTEND;VALUE=DATE:20251210
DTSTAMP:20260423T175859
CREATED:20251016T130231Z
LAST-MODIFIED:20251112T174904Z
UID:2130-1765238400-1765324799@blue-ethos.com
SUMMARY:College of St. Scholastica
DESCRIPTION:Drew Moldenhauer and Rich Webb will be onsite in Duluth\, MN at the College of St. Scholastica on December 9th  instructing on De-escalation and Active Threat Preparedness.
URL:https://blue-ethos.com/upcoming-course/college-of-st-scholastica/
LOCATION:Duluth\, MN\, Duluth\, MN\, 55802\, United States
ATTACH;FMTTYPE=image/jpeg:https://blue-ethos.com/wp-content/uploads/2025/01/Drew-and-Rich-3-scaled.jpg
END:VEVENT
BEGIN:VEVENT
DTSTART;TZID=America/Chicago:20260115T150000
DTEND;TZID=America/Chicago:20260115T170000
DTSTAMP:20260423T175859
CREATED:20251204T162128Z
LAST-MODIFIED:20251218T212256Z
UID:2165-1768489200-1768496400@blue-ethos.com
SUMMARY:Nystrom and Associates
DESCRIPTION:Drew Moldenhauer\, Rich Webb and Jacob Hinnenkamp will be onsite in Big Lake\, MN providing Active Threat Preparedness and De-escalation training for Nystrom and Associates.
URL:https://blue-ethos.com/upcoming-course/nystrom-and-associates/
LOCATION:Big Lake\, MN\, Big Lake\, MN\, United States
ATTACH;FMTTYPE=image/jpeg:https://blue-ethos.com/wp-content/uploads/2025/06/Rich-and-Drew.jpg
END:VEVENT
BEGIN:VEVENT
DTSTART;VALUE=DATE:20260119
DTEND;VALUE=DATE:20260121
DTSTAMP:20260423T175859
CREATED:20251204T161441Z
LAST-MODIFIED:20251204T161441Z
UID:2162-1768780800-1768953599@blue-ethos.com
SUMMARY:Milwaukee Tool
DESCRIPTION:Blue Ethos will be onsite in Indianapolis\, IN providing Active Threat Preparedness Training for Milwaukee Tool.
URL:https://blue-ethos.com/upcoming-course/milwaukee-tool-2/
LOCATION:Indianapolis\, IN\, Indianapolis\, IN\, United States
ATTACH;FMTTYPE=image/webp:https://blue-ethos.com/wp-content/uploads/2025/10/MILWUAKEE.webp
END:VEVENT
BEGIN:VEVENT
DTSTART;VALUE=DATE:20260126
DTEND;VALUE=DATE:20260127
DTSTAMP:20260423T175859
CREATED:20251203T152041Z
LAST-MODIFIED:20251203T152041Z
UID:2158-1769385600-1769471999@blue-ethos.com
SUMMARY:Harvestone
DESCRIPTION:Drew Moldenhauer and Rich Webb will be onsite in Bismark\, ND delivering an Active Threat Preparedness and De-escalation training for Harvestone.
URL:https://blue-ethos.com/upcoming-course/harvestone/
LOCATION:Bismark\, ND\, Bismark\, ND\, United States
ATTACH;FMTTYPE=image/jpeg:https://blue-ethos.com/wp-content/uploads/2025/06/Rich-and-Drew.jpg
END:VEVENT
BEGIN:VEVENT
DTSTART;VALUE=DATE:20260127
DTEND;VALUE=DATE:20260130
DTSTAMP:20260423T175859
CREATED:20251006T140126Z
LAST-MODIFIED:20251006T140126Z
UID:2118-1769472000-1769731199@blue-ethos.com
SUMMARY:Epic Conference
DESCRIPTION:Rich Webb and Drew Moldenhauer will be onsite in Bismark\, ND delivering multiple training sessions for the Epic Conference.
URL:https://blue-ethos.com/upcoming-course/epic-conference/
LOCATION:Bismark\, ND\, Bismark\, ND\, United States
ATTACH;FMTTYPE=image/webp:https://blue-ethos.com/wp-content/uploads/2025/07/A74008367.webp
END:VEVENT
BEGIN:VEVENT
DTSTART;TZID=America/Chicago:20260203T080000
DTEND;TZID=America/Chicago:20260203T153000
DTSTAMP:20260423T175859
CREATED:20250606T140851Z
LAST-MODIFIED:20250606T140851Z
UID:1688-1770105600-1770132600@blue-ethos.com
SUMMARY:West Central Corrections Conference
DESCRIPTION:Drew Moldenhauer\, Rich Webb and Jerad Dixon will be kicking off the West Central Corrections Conference in Walker\, MN with a full day Situational Awareness for Corrections Training.
URL:https://blue-ethos.com/upcoming-course/west-central-corrections-conference/
LOCATION:Walker\, MN\, Walker\, MN\, United States
ATTACH;FMTTYPE=image/png:https://blue-ethos.com/wp-content/uploads/2023/06/Situational-Awareness-for-Survival.png
END:VEVENT
BEGIN:VEVENT
DTSTART;VALUE=DATE:20260204
DTEND;VALUE=DATE:20260206
DTSTAMP:20260423T175859
CREATED:20251204T162401Z
LAST-MODIFIED:20260123T154549Z
UID:2170-1770163200-1770335999@blue-ethos.com
SUMMARY:Milwaukee Tool
DESCRIPTION:Robert Pullar will be onsite in Cookeville\, TN providing Active Threat Preparedness training to Milwaukee Tool.
URL:https://blue-ethos.com/upcoming-course/milwaukee-tool-3/
LOCATION:Cookeville\, TN\, Cookeville\, TN\, United States
ATTACH;FMTTYPE=image/webp:https://blue-ethos.com/wp-content/uploads/2025/10/MILWUAKEE.webp
END:VEVENT
END:VCALENDAR