BEGIN:VCALENDAR
VERSION:2.0
PRODID:-//Blue Ethos Specialized Training - ECPv6.15.20//NONSGML v1.0//EN
CALSCALE:GREGORIAN
METHOD:PUBLISH
X-ORIGINAL-URL:https://blue-ethos.com
X-WR-CALDESC:Events for Blue Ethos Specialized Training
REFRESH-INTERVAL;VALUE=DURATION:PT1H
X-Robots-Tag:noindex
X-PUBLISHED-TTL:PT1H
BEGIN:VTIMEZONE
TZID:America/Chicago
BEGIN:DAYLIGHT
TZOFFSETFROM:-0600
TZOFFSETTO:-0500
TZNAME:CDT
DTSTART:20250309T080000
END:DAYLIGHT
BEGIN:STANDARD
TZOFFSETFROM:-0500
TZOFFSETTO:-0600
TZNAME:CST
DTSTART:20251102T070000
END:STANDARD
BEGIN:DAYLIGHT
TZOFFSETFROM:-0600
TZOFFSETTO:-0500
TZNAME:CDT
DTSTART:20260308T080000
END:DAYLIGHT
BEGIN:STANDARD
TZOFFSETFROM:-0500
TZOFFSETTO:-0600
TZNAME:CST
DTSTART:20261101T070000
END:STANDARD
BEGIN:DAYLIGHT
TZOFFSETFROM:-0600
TZOFFSETTO:-0500
TZNAME:CDT
DTSTART:20270314T080000
END:DAYLIGHT
BEGIN:STANDARD
TZOFFSETFROM:-0500
TZOFFSETTO:-0600
TZNAME:CST
DTSTART:20271107T070000
END:STANDARD
END:VTIMEZONE
BEGIN:VEVENT
DTSTART;VALUE=DATE:20260331
DTEND;VALUE=DATE:20260401
DTSTAMP:20260423T061355
CREATED:20251016T131239Z
LAST-MODIFIED:20251016T131239Z
UID:2136-1774915200-1775001599@blue-ethos.com
SUMMARY:High Stakes Teamwork
DESCRIPTION:Drew Moldenhauer will be delivering his High Stakes Teamwork Keynote in Sioux Falls\, SD for SME.
URL:https://blue-ethos.com/upcoming-course/high-stakes-teamwork/
LOCATION:Sioux Falls\, SD\, Sioux Falls\, SD\, 57101\, United States
ATTACH;FMTTYPE=image/webp:https://blue-ethos.com/wp-content/uploads/2025/08/High-Stakes-Teamwork.webp
END:VEVENT
BEGIN:VEVENT
DTSTART;VALUE=DATE:20260402
DTEND;VALUE=DATE:20260403
DTSTAMP:20260423T061355
CREATED:20260225T180509Z
LAST-MODIFIED:20260225T180509Z
UID:2372-1775088000-1775174399@blue-ethos.com
SUMMARY:RHODES BREAD
DESCRIPTION:Robert Pullar will be onsite in Columbus\, WI training employees of Rhodes Bread on Active Threat Preparedness.
URL:https://blue-ethos.com/upcoming-course/rhodes-bread-2/
LOCATION:Columbus\, WI\, Columbus\, Wisconsin
ATTACH;FMTTYPE=image/webp:https://blue-ethos.com/wp-content/uploads/2026/02/Rhodes.webp
END:VEVENT
BEGIN:VEVENT
DTSTART;VALUE=DATE:20260406
DTEND;VALUE=DATE:20260408
DTSTAMP:20260423T061355
CREATED:20250908T180730Z
LAST-MODIFIED:20260123T154937Z
UID:2087-1775433600-1775606399@blue-ethos.com
SUMMARY:Mcleod Cooperative Power
DESCRIPTION:Drew Moldenhauer and Rich Webb will be providing technical sessions on Active Threat Preparedness and De-escalation for Mcleod Cooperative Power Conference in Hutchinson\, MN on April 6th and 7th\, 2026.
URL:https://blue-ethos.com/upcoming-course/mcleod-cooperative-power/
LOCATION:Hutchinson\, MN\, Hutchinson\, MN\, United States
ATTACH;FMTTYPE=image/webp:https://blue-ethos.com/wp-content/uploads/2025/07/Team-Picture.webp
END:VEVENT
BEGIN:VEVENT
DTSTART;VALUE=DATE:20260406
DTEND;VALUE=DATE:20260410
DTSTAMP:20260423T061355
CREATED:20260123T160236Z
LAST-MODIFIED:20260123T160236Z
UID:2235-1775433600-1775779199@blue-ethos.com
SUMMARY:Milwaukee Tool
DESCRIPTION:James Bagne will be onsite in Memphis\, TN delivering Active Threat Preparedness Trainings for Milwaukee Tool.
URL:https://blue-ethos.com/upcoming-course/milwaukee-tool-8/
LOCATION:Memphis\, TN\, Memphis\, TN\, United States
ATTACH;FMTTYPE=image/webp:https://blue-ethos.com/wp-content/uploads/2025/10/MILWUAKEE.webp
END:VEVENT
BEGIN:VEVENT
DTSTART;VALUE=DATE:20260408
DTEND;VALUE=DATE:20260409
DTSTAMP:20260423T061355
CREATED:20260209T231636Z
LAST-MODIFIED:20260209T231636Z
UID:2304-1775606400-1775692799@blue-ethos.com
SUMMARY:Milwaukee Tool
DESCRIPTION:Drew Moldenhauer and Rich Webb will be delivering trainings to Milwaukee Tool Corporate offices on Active Threat Preparedness and De-escalation.
URL:https://blue-ethos.com/upcoming-course/milwaukee-tool-11/
LOCATION:Milwuakee\, WI\, Milwaukee\, WI\, United States
ATTACH;FMTTYPE=image/webp:https://blue-ethos.com/wp-content/uploads/2025/10/MILWUAKEE.webp
END:VEVENT
BEGIN:VEVENT
DTSTART;VALUE=DATE:20260408
DTEND;VALUE=DATE:20260409
DTSTAMP:20260423T061355
CREATED:20260223T182943Z
LAST-MODIFIED:20260223T182943Z
UID:2349-1775606400-1775692799@blue-ethos.com
SUMMARY:Standard Heating & Air Conditioning
DESCRIPTION:Jacob Hinnenkamp will be providing two – one hour presentations on Active Threat Preparedness for Standard Heating & Air Conditioning’s annual safety day on April 8th in Minneapolis\, MN
URL:https://blue-ethos.com/upcoming-course/standard-heating-air-conditioning/
LOCATION:City of Minneapolis
ATTACH;FMTTYPE=image/webp:https://blue-ethos.com/wp-content/uploads/2025/07/Jacob-Hinnenkamp-Profile.webp
END:VEVENT
BEGIN:VEVENT
DTSTART;TZID=America/Chicago:20260408T080000
DTEND;TZID=America/Chicago:20260408T170000
DTSTAMP:20260423T061355
CREATED:20260209T231806Z
LAST-MODIFIED:20260209T231806Z
UID:2306-1775635200-1775667600@blue-ethos.com
SUMMARY:MN SHRM
DESCRIPTION:Blue Ethos will be delivering a webinar to MN SHRM on workplace violence prevention.
URL:https://blue-ethos.com/upcoming-course/mn-shrm/
LOCATION:CA
ATTACH;FMTTYPE=image/webp:https://blue-ethos.com/wp-content/uploads/2025/07/A74008367.webp
END:VEVENT
BEGIN:VEVENT
DTSTART;VALUE=DATE:20260411
DTEND;VALUE=DATE:20260412
DTSTAMP:20260423T061355
CREATED:20260209T231447Z
LAST-MODIFIED:20260209T231447Z
UID:2302-1775865600-1775951999@blue-ethos.com
SUMMARY:City of Minneapolis
DESCRIPTION:Jacob Carpenter will be onsite in Minneapolis training employees on De-escalation techniques.
URL:https://blue-ethos.com/upcoming-course/city-of-minneapolis/
LOCATION:City of Minneapolis
ATTACH;FMTTYPE=image/webp:https://blue-ethos.com/wp-content/uploads/2025/07/Jacob-Carpenter-About.webp
END:VEVENT
BEGIN:VEVENT
DTSTART;VALUE=DATE:20260414
DTEND;VALUE=DATE:20260416
DTSTAMP:20260423T061355
CREATED:20251016T131558Z
LAST-MODIFIED:20251016T131558Z
UID:2138-1776124800-1776297599@blue-ethos.com
SUMMARY:Wisconsin Safety Conference
DESCRIPTION:Rich Webb and Drew Moldenhauer will be speaking and having a booth at the Wisconsin Safety Conference.
URL:https://blue-ethos.com/upcoming-course/wisconsin-safety-conference-2/
LOCATION:Kalahari Resorts and Conventions\, 1305 Kalahari Dr\, Baraboo\, WI\, 53913\, United States
ATTACH;FMTTYPE=image/jpeg:https://blue-ethos.com/wp-content/uploads/2025/01/Drew-and-Rich-3-scaled.jpg
END:VEVENT
BEGIN:VEVENT
DTSTART;VALUE=DATE:20260415
DTEND;VALUE=DATE:20260416
DTSTAMP:20260423T061355
CREATED:20260209T231949Z
LAST-MODIFIED:20260209T231949Z
UID:2308-1776211200-1776297599@blue-ethos.com
SUMMARY:City of Minneapolis
DESCRIPTION:Jacob Carpenter will be delivering a de-escalation training for employee at the City of Minneapolis.
URL:https://blue-ethos.com/upcoming-course/city-of-minneapolis-2/
LOCATION:City of Minneapolis
ATTACH;FMTTYPE=image/webp:https://blue-ethos.com/wp-content/uploads/2025/07/Jacob-Carpenter-About.webp
END:VEVENT
BEGIN:VEVENT
DTSTART;VALUE=DATE:20260416
DTEND;VALUE=DATE:20260417
DTSTAMP:20260423T061355
CREATED:20260209T232056Z
LAST-MODIFIED:20260209T232056Z
UID:2310-1776297600-1776383999@blue-ethos.com
SUMMARY:City of Minneapolis
DESCRIPTION:Jacob Carpenter will be delivering a De-escalation training for the City of Minneapolis.
URL:https://blue-ethos.com/upcoming-course/city-of-minneapolis-3/
LOCATION:City of Minneapolis
ATTACH;FMTTYPE=image/webp:https://blue-ethos.com/wp-content/uploads/2025/07/Jacob-Carpenter-About.webp
END:VEVENT
BEGIN:VEVENT
DTSTART;VALUE=DATE:20260420
DTEND;VALUE=DATE:20260423
DTSTAMP:20260423T061355
CREATED:20260112T210915Z
LAST-MODIFIED:20260112T210915Z
UID:2208-1776643200-1776902399@blue-ethos.com
SUMMARY:Northwest Health Services Coalition
DESCRIPTION:Robert Pullar will be providing Active Threat Preparedness and De-escalation training for Northwest Heath Services Coalition in Park Rapids\, MN.
URL:https://blue-ethos.com/upcoming-course/northwest-health-services-coalition/
LOCATION:Park Rapids\, MN\, Park Rapids\, MN\, United States
ATTACH;FMTTYPE=image/webp:https://blue-ethos.com/wp-content/uploads/2025/07/Robert-Pullar-Profile.webp
END:VEVENT
BEGIN:VEVENT
DTSTART;VALUE=DATE:20260422
DTEND;VALUE=DATE:20260424
DTSTAMP:20260423T061355
CREATED:20251218T213347Z
LAST-MODIFIED:20251218T213347Z
UID:2195-1776816000-1776988799@blue-ethos.com
SUMMARY:Iowa Illinois Safety Conference
DESCRIPTION:Rich Webb will be delivering his Keynote on Leading like a Hero for the Iowa Illinois Safety Conference.
URL:https://blue-ethos.com/upcoming-course/iowa-illinois-safety-conference/
LOCATION:Hyatt Regency\, 300 E 9th St\, Coralville\, IA\, 52241\, United States
ATTACH;FMTTYPE=image/webp:https://blue-ethos.com/wp-content/uploads/2025/07/Rich-Webb-Profile.webp
END:VEVENT
BEGIN:VEVENT
DTSTART;TZID=America/Chicago:20260422T133000
DTEND;TZID=America/Chicago:20260422T143000
DTSTAMP:20260423T061355
CREATED:20260112T211352Z
LAST-MODIFIED:20260112T211352Z
UID:2211-1776864600-1776868200@blue-ethos.com
SUMMARY:Keynote - MNHIMA
DESCRIPTION:Drew Moldenhauer will be providing MNHIMA a virtual Keynote on High Stakes Teamwork.
URL:https://blue-ethos.com/upcoming-course/keynote-mnhima/
LOCATION:CA
ATTACH;FMTTYPE=image/webp:https://blue-ethos.com/wp-content/uploads/2025/08/High-Stakes-Teamwork.webp
END:VEVENT
BEGIN:VEVENT
DTSTART;VALUE=DATE:20260429
DTEND;VALUE=DATE:20260430
DTSTAMP:20260423T061355
CREATED:20260225T180854Z
LAST-MODIFIED:20260225T180854Z
UID:2375-1777420800-1777507199@blue-ethos.com
SUMMARY:South Dakota SHRM
DESCRIPTION:Drew Moldenhauer will be onsite in South Dakota delivering a Active Threat Preparedness session for SD SHRM.
URL:https://blue-ethos.com/upcoming-course/south-dakota-shrm/
LOCATION:South Dakota\, South Dakota
ATTACH;FMTTYPE=image/webp:https://blue-ethos.com/wp-content/uploads/2025/07/Keynote-active-threat.webp
END:VEVENT
BEGIN:VEVENT
DTSTART;VALUE=DATE:20260505
DTEND;VALUE=DATE:20260507
DTSTAMP:20260423T061355
CREATED:20251218T214237Z
LAST-MODIFIED:20251218T214237Z
UID:2198-1777939200-1778111999@blue-ethos.com
SUMMARY:Minnesota Safety Conference
DESCRIPTION:Drew Moldenhauer and Rich Webb will be speaking on Active Threat Preparedness at the Minnesota Safety Conference.  Stop by and check us out at our booth.
URL:https://blue-ethos.com/upcoming-course/minnesota-safety-conference/
LOCATION:Mystic Lake Casino\, 2400 Mystic Lake Blvd NW\, Prior Lake\, MN\, 55372\, United States
ATTACH;FMTTYPE=image/jpeg:https://blue-ethos.com/wp-content/uploads/2025/01/Drew-and-Rich-3-scaled.jpg
END:VEVENT
BEGIN:VEVENT
DTSTART;VALUE=DATE:20260513
DTEND;VALUE=DATE:20260515
DTSTAMP:20260423T061355
CREATED:20260123T160544Z
LAST-MODIFIED:20260123T160544Z
UID:2237-1778630400-1778803199@blue-ethos.com
SUMMARY:Milwaukee Tool
DESCRIPTION:Jacob Hinnenkamp will be onsite in Mukwongao\, WI delivering Active Threat Preparedness Trainings for Milwaukee Tool.
URL:https://blue-ethos.com/upcoming-course/milwaukee-tool-9/
LOCATION:Milwuakee\, WI\, Milwaukee\, WI\, United States
ATTACH;FMTTYPE=image/webp:https://blue-ethos.com/wp-content/uploads/2025/10/MILWUAKEE.webp
END:VEVENT
BEGIN:VEVENT
DTSTART;TZID=America/Chicago:20260513T130000
DTEND;TZID=America/Chicago:20260513T153000
DTSTAMP:20260423T061355
CREATED:20251218T214540Z
LAST-MODIFIED:20251218T214540Z
UID:2200-1778677200-1778686200@blue-ethos.com
SUMMARY:Minnesota Energy Conference
DESCRIPTION:Rich Webb and Drew Moldenhauer will be at the Breezy Point Resort on May 13th\, 2026 delivering an Active Threat Preparedness and De-escalation seminar for the Minnesota Energy Conference.
URL:https://blue-ethos.com/upcoming-course/minnesota-energy-conference/
LOCATION:Brainerd\, MN\, Brainerd\, MN\, MN\, 56401\, United States
ATTACH;FMTTYPE=image/webp:https://blue-ethos.com/wp-content/uploads/2025/07/A7400846.webp
END:VEVENT
BEGIN:VEVENT
DTSTART;TZID=America/Chicago:20260518T080000
DTEND;TZID=America/Chicago:20260518T160000
DTSTAMP:20260423T061355
CREATED:20260130T190235Z
LAST-MODIFIED:20260130T190235Z
UID:2241-1779091200-1779120000@blue-ethos.com
SUMMARY:First Aid Essentials
DESCRIPTION:8-hour MN POST approved First Aid Essentials Training.  Hosted at Anoka County Sheriff’s Office.  If registering from outside of Anoka County agencies please e-mail: rich@blue-ethos.com
URL:https://blue-ethos.com/upcoming-course/first-aid-essentials-11/
LOCATION:Anoka County Sheriffs Office\, 13301 Hanson Blvd NW\, Andover\, MN\, 55304\, United States
ATTACH;FMTTYPE=image/webp:https://blue-ethos.com/wp-content/uploads/2025/08/EMS-Start-Page.webp
END:VEVENT
BEGIN:VEVENT
DTSTART;TZID=America/Chicago:20260528T080000
DTEND;TZID=America/Chicago:20260529T160000
DTSTAMP:20260423T061355
CREATED:20260130T190642Z
LAST-MODIFIED:20260130T190642Z
UID:2244-1779955200-1780070400@blue-ethos.com
SUMMARY:EMERGENCY MEDICAL RESONDER (EMR) REFRESHER
DESCRIPTION:16-hour MN POST approved EMR Refresher course hosted at Anoka County Sheriff’s Office.  If registering from an agency outside of Anoka County please e-mail rich@blue-ethos.com.
URL:https://blue-ethos.com/upcoming-course/emergency-medical-resonder-emr-refresher/
LOCATION:Anoka County Sheriffs Office\, 13301 Hanson Blvd NW\, Andover\, MN\, 55304\, United States
ATTACH;FMTTYPE=image/webp:https://blue-ethos.com/wp-content/uploads/2025/07/Kate-Ott-About.webp
END:VEVENT
BEGIN:VEVENT
DTSTART;TZID=America/Chicago:20260603T080000
DTEND;TZID=America/Chicago:20260603T160000
DTSTAMP:20260423T061355
CREATED:20260130T190936Z
LAST-MODIFIED:20260130T190936Z
UID:2247-1780473600-1780502400@blue-ethos.com
SUMMARY:FIRST AID ESSENTIALS
DESCRIPTION:8-hour MN POST approved First Aid Essentials Training hosted at Anoka County Sheriff’s Office.  If registering from an agency outside of Anoka County please e-mail rich@blue-ethos.com
URL:https://blue-ethos.com/upcoming-course/first-aid-essentials-14/
LOCATION:Anoka County Sheriffs Office\, 13301 Hanson Blvd NW\, Andover\, MN\, 55304\, United States
ATTACH;FMTTYPE=image/webp:https://blue-ethos.com/wp-content/uploads/2025/08/EMS-Start-Page.webp
END:VEVENT
BEGIN:VEVENT
DTSTART;VALUE=DATE:20260611
DTEND;VALUE=DATE:20260612
DTSTAMP:20260423T061355
CREATED:20251124T160502Z
LAST-MODIFIED:20251124T160502Z
UID:2147-1781136000-1781222399@blue-ethos.com
SUMMARY:Captive Resources
DESCRIPTION:Drew Moldenhauer and Rich Webb will be delivering a De-escalation training for Captive Resources in Chicago\, IL on June 11th\, 2026.
URL:https://blue-ethos.com/upcoming-course/captive-resources/
LOCATION:Chicago\, IL\, Chicago\, IL\, United States
ATTACH;FMTTYPE=image/webp:https://blue-ethos.com/wp-content/uploads/2025/07/de-escelation-Blue-ethos.webp
END:VEVENT
BEGIN:VEVENT
DTSTART;TZID=America/Chicago:20260615T080000
DTEND;TZID=America/Chicago:20260616T160000
DTSTAMP:20260423T061355
CREATED:20260130T191316Z
LAST-MODIFIED:20260130T191316Z
UID:2250-1781510400-1781625600@blue-ethos.com
SUMMARY:EMERGENCY MEDICAL RESPONDER (EMR) REFRESHER
DESCRIPTION:16-hour MN POST approved EMR Refresher course hosted at Anoka County Sheriff’s Office.  If registering from an agency outside of Anoka County please e-mail rich@blue-ethos.com
URL:https://blue-ethos.com/upcoming-course/emergency-medical-responder-emr-refresher-13/
LOCATION:Anoka County Sheriffs Office\, 13301 Hanson Blvd NW\, Andover\, MN\, 55304\, United States
ATTACH;FMTTYPE=image/webp:https://blue-ethos.com/wp-content/uploads/2025/07/Kate-Ott-Profile.webp
END:VEVENT
BEGIN:VEVENT
DTSTART;VALUE=DATE:20260617
DTEND;VALUE=DATE:20260618
DTSTAMP:20260423T061355
CREATED:20260225T181153Z
LAST-MODIFIED:20260225T181153Z
UID:2378-1781654400-1781740799@blue-ethos.com
SUMMARY:ASSP NATIONAL CONFERENCE
DESCRIPTION:Drew Moldenhauer will be onsite in Anaheim\, California delivering an Active Threat Preparedness session for ASSP National Conference.
URL:https://blue-ethos.com/upcoming-course/assp-national-conference/
LOCATION:Anaheim\, CA\, Anaheim\, CA\, United States
ATTACH;FMTTYPE=image/webp:https://blue-ethos.com/wp-content/uploads/2025/08/High-Stakes-Teamwork.webp
END:VEVENT
BEGIN:VEVENT
DTSTART;VALUE=DATE:20260619
DTEND;VALUE=DATE:20260620
DTSTAMP:20260423T061355
CREATED:20260123T160747Z
LAST-MODIFIED:20260123T160747Z
UID:2239-1781827200-1781913599@blue-ethos.com
SUMMARY:Captive Resources
DESCRIPTION:Drew Moldenhauer will be onsite in Nashville\, TN delivering a Situational Awareness training for Captive Resources.
URL:https://blue-ethos.com/upcoming-course/captive-resources-2/
LOCATION:Nashville\, TN\, Nashville\, TN\, United States
ATTACH;FMTTYPE=image/webp:https://blue-ethos.com/wp-content/uploads/2025/07/Keynotespeaker.webp
END:VEVENT
BEGIN:VEVENT
DTSTART;TZID=America/Chicago:20260915T080000
DTEND;TZID=America/Chicago:20260915T160000
DTSTAMP:20260423T061355
CREATED:20260130T191907Z
LAST-MODIFIED:20260130T191907Z
UID:2254-1789459200-1789488000@blue-ethos.com
SUMMARY:FIRST AID ESSENTIALS
DESCRIPTION:8-hour MN POST approved First Aid Essentials training hosted at Anoka County Sheriff’s Office.  If registering from an agency outside of Anoka County please e-mail rich@blue-ethos.com
URL:https://blue-ethos.com/upcoming-course/first-aid-essentials-15/
LOCATION:Anoka County Sheriffs Office\, 13301 Hanson Blvd NW\, Andover\, MN\, 55304\, United States
ATTACH;FMTTYPE=image/webp:https://blue-ethos.com/wp-content/uploads/2025/08/EMS-Start-Page.webp
END:VEVENT
BEGIN:VEVENT
DTSTART;TZID=America/Chicago:20260921T080000
DTEND;TZID=America/Chicago:20260922T160000
DTSTAMP:20260423T061355
CREATED:20260130T192209Z
LAST-MODIFIED:20260130T193009Z
UID:2257-1789977600-1790092800@blue-ethos.com
SUMMARY:EMERGENCY MEDICAL RESPONDER (EMR) REFRESHER
DESCRIPTION:16-hour MN POST approved EMR Refresher hosted at Anoka County Sheriff’s Office.  If registering from an agency outside of Anoka County please e-mail rich@blue-ethos.com.
URL:https://blue-ethos.com/upcoming-course/emergency-medical-responder-emr-refresher-14/
LOCATION:Anoka County Sheriffs Office\, 13301 Hanson Blvd NW\, Andover\, MN\, 55304\, United States
ATTACH;FMTTYPE=image/webp:https://blue-ethos.com/wp-content/uploads/2025/07/Kate-Ott-About.webp
END:VEVENT
BEGIN:VEVENT
DTSTART;VALUE=DATE:20261012
DTEND;VALUE=DATE:20261014
DTSTAMP:20260423T061355
CREATED:20251124T160743Z
LAST-MODIFIED:20251124T160743Z
UID:2150-1791763200-1791935999@blue-ethos.com
SUMMARY:Keynote-MN SHRM
DESCRIPTION:Drew Moldenhauer will be providing his interactive and engaging keynote on High Stakes Teamwork for MN SHRM.
URL:https://blue-ethos.com/upcoming-course/keynote-mn-shrm/
LOCATION:Duluth\, MN\, Duluth\, MN\, 55802\, United States
ATTACH;FMTTYPE=image/jpeg:https://blue-ethos.com/wp-content/uploads/2025/01/High-Stakes.jpg
END:VEVENT
BEGIN:VEVENT
DTSTART;TZID=America/Chicago:20261029T080000
DTEND;TZID=America/Chicago:20261030T160000
DTSTAMP:20260423T061355
CREATED:20260130T192532Z
LAST-MODIFIED:20260130T192532Z
UID:2260-1793260800-1793376000@blue-ethos.com
SUMMARY:EMERGENCY MEDICAL RESPONDER (EMR) REFRESHER
DESCRIPTION:16-hour MN POST approved EMR Refresher course hosted at Anoka County Sheriff’s Office.  If registering from an agency outside of Anoka County please e-mail rich@blue-ethos.com
URL:https://blue-ethos.com/upcoming-course/emergency-medical-responder-emr-refresher-15/
LOCATION:Anoka County Sheriffs Office\, 13301 Hanson Blvd NW\, Andover\, MN\, 55304\, United States
ATTACH;FMTTYPE=image/webp:https://blue-ethos.com/wp-content/uploads/2025/07/Kate-Ott-Profile.webp
END:VEVENT
BEGIN:VEVENT
DTSTART;TZID=America/Chicago:20261105T114500
DTEND;TZID=America/Chicago:20261105T131500
DTSTAMP:20260423T061355
CREATED:20251124T161246Z
LAST-MODIFIED:20251124T161246Z
UID:2152-1793879100-1793884500@blue-ethos.com
SUMMARY:YPO Twin Cities
DESCRIPTION:Rich Webb and Drew Moldenhauer will be providing an Active Threat Preparedness / De-escalation training for YPO on November 5th\, 2026 in Edina\, MN.
URL:https://blue-ethos.com/upcoming-course/ypo-twin-cities/
LOCATION:Edina\, MN\, Edina\, MN\, United States
ATTACH;FMTTYPE=image/jpeg:https://blue-ethos.com/wp-content/uploads/2025/01/Drew-and-Rich-3-scaled.jpg
END:VEVENT
END:VCALENDAR