BEGIN:VCALENDAR
VERSION:2.0
PRODID:-//Blue Ethos Specialized Training - ECPv6.15.20//NONSGML v1.0//EN
CALSCALE:GREGORIAN
METHOD:PUBLISH
X-WR-CALNAME:Blue Ethos Specialized Training
X-ORIGINAL-URL:https://blue-ethos.com
X-WR-CALDESC:Events for Blue Ethos Specialized Training
REFRESH-INTERVAL;VALUE=DURATION:PT1H
X-Robots-Tag:noindex
X-PUBLISHED-TTL:PT1H
BEGIN:VTIMEZONE
TZID:America/Chicago
BEGIN:DAYLIGHT
TZOFFSETFROM:-0600
TZOFFSETTO:-0500
TZNAME:CDT
DTSTART:20230312T080000
END:DAYLIGHT
BEGIN:STANDARD
TZOFFSETFROM:-0500
TZOFFSETTO:-0600
TZNAME:CST
DTSTART:20231105T070000
END:STANDARD
BEGIN:DAYLIGHT
TZOFFSETFROM:-0600
TZOFFSETTO:-0500
TZNAME:CDT
DTSTART:20240310T080000
END:DAYLIGHT
BEGIN:STANDARD
TZOFFSETFROM:-0500
TZOFFSETTO:-0600
TZNAME:CST
DTSTART:20241103T070000
END:STANDARD
BEGIN:DAYLIGHT
TZOFFSETFROM:-0600
TZOFFSETTO:-0500
TZNAME:CDT
DTSTART:20250309T080000
END:DAYLIGHT
BEGIN:STANDARD
TZOFFSETFROM:-0500
TZOFFSETTO:-0600
TZNAME:CST
DTSTART:20251102T070000
END:STANDARD
BEGIN:DAYLIGHT
TZOFFSETFROM:-0600
TZOFFSETTO:-0500
TZNAME:CDT
DTSTART:20260308T080000
END:DAYLIGHT
BEGIN:STANDARD
TZOFFSETFROM:-0500
TZOFFSETTO:-0600
TZNAME:CST
DTSTART:20261101T070000
END:STANDARD
END:VTIMEZONE
BEGIN:VEVENT
DTSTART;TZID=America/Chicago:20250130T080000
DTEND;TZID=America/Chicago:20250130T093000
DTSTAMP:20260423T143126
CREATED:20250111T133604Z
LAST-MODIFIED:20250111T133604Z
UID:1437-1738224000-1738229400@blue-ethos.com
SUMMARY:De-escalation
DESCRIPTION:De-escalation training for MREA. \nInstructor: Drew Moldenhauer
URL:https://blue-ethos.com/upcoming-course/de-escalation-6/
LOCATION:Holiday Inn\, 75 37th Ave\, Saint Cloud\, MN\, 56301\, United States
ATTACH;FMTTYPE=image/png:https://blue-ethos.com/wp-content/uploads/2023/11/MREA-MARK-ONLY-LOGO-FINAL.png
END:VEVENT
BEGIN:VEVENT
DTSTART;VALUE=DATE:20250116
DTEND;VALUE=DATE:20250117
DTSTAMP:20260423T143126
CREATED:20250111T133314Z
LAST-MODIFIED:20250111T133314Z
UID:1435-1736985600-1737071999@blue-ethos.com
SUMMARY:Keynote: High Stakes Teamwork
DESCRIPTION:Drew Moldenhauer will deliver his powerful keynote speech on High Stakes Teamwork for MREA.
URL:https://blue-ethos.com/upcoming-course/keynote-high-stakes-teamwork-2/
LOCATION:Holiday Inn\, 75 37th Ave\, Saint Cloud\, MN\, 56301\, United States
ATTACH;FMTTYPE=image/jpeg:https://blue-ethos.com/wp-content/uploads/2024/07/Keynote-Picture-3.jpg
END:VEVENT
BEGIN:VEVENT
DTSTART;VALUE=DATE:20250116
DTEND;VALUE=DATE:20250117
DTSTAMP:20260423T143126
CREATED:20240808T212244Z
LAST-MODIFIED:20240808T212244Z
UID:1286-1736985600-1737071999@blue-ethos.com
SUMMARY:Situational Awareness
DESCRIPTION:Situational Awareness for MREA conference\, St. Cloud\, MN \nInstructor: Drew Moldenhauer
URL:https://blue-ethos.com/upcoming-course/situational-awareness-4/
LOCATION:Holiday Inn\, 75 37th Ave\, Saint Cloud\, MN\, 56301\, United States
ATTACH;FMTTYPE=image/png:https://blue-ethos.com/wp-content/uploads/2023/11/MREA-MARK-ONLY-LOGO-FINAL.png
END:VEVENT
BEGIN:VEVENT
DTSTART;TZID=America/Chicago:20241219T130000
DTEND;TZID=America/Chicago:20241219T143000
DTSTAMP:20260423T143126
CREATED:20241107T195616Z
LAST-MODIFIED:20241107T195616Z
UID:1365-1734613200-1734618600@blue-ethos.com
SUMMARY:Active Threat Preparedness
DESCRIPTION:Virtual Active Threat Training for FirstService Residential. \nInstructors: Drew Moldenhauer and Rich Webb
URL:https://blue-ethos.com/upcoming-course/active-threat-preparedness-52/
LOCATION:MD
ATTACH;FMTTYPE=image/jpeg:https://blue-ethos.com/wp-content/uploads/2024/06/Active-Threat-Flyer-website.jpg
END:VEVENT
BEGIN:VEVENT
DTSTART;VALUE=DATE:20241205
DTEND;VALUE=DATE:20241206
DTSTAMP:20260423T143126
CREATED:20240808T211555Z
LAST-MODIFIED:20240808T211729Z
UID:1284-1733356800-1733443199@blue-ethos.com
SUMMARY:Active Threat Preparedness
DESCRIPTION:Active Threat Training for MREA conference\, St. Cloud\, MN \nInstructors: Drew Moldenhauer and Rich Webb
URL:https://blue-ethos.com/upcoming-course/active-threat-preparedness-46/
LOCATION:Holiday Inn\, 75 37th Ave\, Saint Cloud\, MN\, 56301\, United States
ATTACH;FMTTYPE=image/png:https://blue-ethos.com/wp-content/uploads/2023/11/MREA-MARK-ONLY-LOGO-FINAL.png
END:VEVENT
BEGIN:VEVENT
DTSTART;TZID=America/Chicago:20241121T070000
DTEND;TZID=America/Chicago:20241121T103000
DTSTAMP:20260423T143126
CREATED:20240516T150258Z
LAST-MODIFIED:20240711T024346Z
UID:1116-1732172400-1732185000@blue-ethos.com
SUMMARY:De-escalation
DESCRIPTION:De-escalation training for Western Lake Superior Sanitary District. \nInstructors: James Bagne and Robert Pullar \n 
URL:https://blue-ethos.com/upcoming-course/de-escalation-3/
LOCATION:WLSSD\, 2626 Courtland St\, Duluth\, MN\, 55806\, United States
END:VEVENT
BEGIN:VEVENT
DTSTART;VALUE=DATE:20241119
DTEND;VALUE=DATE:20241121
DTSTAMP:20260423T143126
CREATED:20240808T205136Z
LAST-MODIFIED:20240808T205136Z
UID:1276-1731974400-1732147199@blue-ethos.com
SUMMARY:De-escalation
DESCRIPTION:De-escalation training for MnDOT employees. \nInstructors: James Bagne and Robert Pullar
URL:https://blue-ethos.com/upcoming-course/de-escalation-5/
LOCATION:MnDOT\, 2505 Transportation Rd\,\, Wilmar\, 56201\, United States
ATTACH;FMTTYPE=image/png:https://blue-ethos.com/wp-content/uploads/2024/08/MnDOT-logo1.png
END:VEVENT
BEGIN:VEVENT
DTSTART;TZID=America/Chicago:20241106T120000
DTEND;TZID=America/Chicago:20241106T160000
DTSTAMP:20260423T143126
CREATED:20240919T193930Z
LAST-MODIFIED:20240919T193930Z
UID:1310-1730894400-1730908800@blue-ethos.com
SUMMARY:Use of Force
DESCRIPTION:4-hour MN POST Board approved Use of Force training for Commerce Fraud Bureau. \nInstructors: Ashton Erickson and Jerad Dixon
URL:https://blue-ethos.com/upcoming-course/use-of-force-6/
LOCATION:North Metro Regional Public Safety Training Faility\, 11370 89th AVE N\, Maple Grove\, MN\, 55369\, United States
ATTACH;FMTTYPE=image/png:https://blue-ethos.com/wp-content/uploads/2023/04/specialized-training-e1686144759125.png
END:VEVENT
BEGIN:VEVENT
DTSTART;TZID=America/Chicago:20241102T080000
DTEND;TZID=America/Chicago:20241102T160000
DTSTAMP:20260423T143126
CREATED:20240808T205408Z
LAST-MODIFIED:20240808T205408Z
UID:1280-1730534400-1730563200@blue-ethos.com
SUMMARY:First Aid Essentials
DESCRIPTION:First Aid Essentials class for Anoka County Sheriff’s Office \nInstructor: Kate Ott
URL:https://blue-ethos.com/upcoming-course/first-aid-essentials-7/
LOCATION:Anoka County Sheriffs Office\, 13301 Hanson Blvd NW\, Andover\, MN\, 55304\, United States
ATTACH;FMTTYPE=image/png:https://blue-ethos.com/wp-content/uploads/2023/04/Calendar-First-Aid-Essentials.png
END:VEVENT
BEGIN:VEVENT
DTSTART;TZID=America/Chicago:20241101T080000
DTEND;TZID=America/Chicago:20241101T093000
DTSTAMP:20260423T143126
CREATED:20240829T205421Z
LAST-MODIFIED:20240829T205421Z
UID:1299-1730448000-1730453400@blue-ethos.com
SUMMARY:Active Threat Preparedness
DESCRIPTION:Active Threat Training for Drummond Area School District. \nInstructors: Drew Moldenhauer and Rich Webb
URL:https://blue-ethos.com/upcoming-course/active-threat-preparedness-49/
LOCATION:Drummond Area School District\, Wisconsin\, United States
ATTACH;FMTTYPE=image/jpeg:https://blue-ethos.com/wp-content/uploads/2024/08/drummond.jpg
END:VEVENT
BEGIN:VEVENT
DTSTART;TZID=America/Chicago:20241017T130000
DTEND;TZID=America/Chicago:20241017T170000
DTSTAMP:20260423T143126
CREATED:20240227T142231Z
LAST-MODIFIED:20240920T202816Z
UID:1056-1729170000-1729184400@blue-ethos.com
SUMMARY:Situational Awareness for Dispatch
DESCRIPTION:Situational Awareness for Anoka County Dispatch focusing on de-escalation and intuition. \nInstructors: Drew Moldenhauer
URL:https://blue-ethos.com/upcoming-course/situational-awareness-for-dispatch-4/
LOCATION:Anoka County Sheriffs Office\, 13301 Hanson Blvd NW\, Andover\, MN\, 55304\, United States
ATTACH;FMTTYPE=image/jpeg:https://blue-ethos.com/wp-content/uploads/2023/02/How-Smart-Police-Officers-Use-Situational-Awareness-to-Improve-Safety.jpg
END:VEVENT
BEGIN:VEVENT
DTSTART;TZID=America/Chicago:20241016T130000
DTEND;TZID=America/Chicago:20241016T160000
DTSTAMP:20260423T143126
CREATED:20240905T010540Z
LAST-MODIFIED:20240905T010540Z
UID:1301-1729083600-1729094400@blue-ethos.com
SUMMARY:Active Threat Preparedness
DESCRIPTION:Active Threat Training for Seaboard Triumph Foods. \nInstructors: Robert Pullar and Jacob Hinnenkamp
URL:https://blue-ethos.com/upcoming-course/active-threat-preparedness-50/
LOCATION:Seaboard Triumph Foods\, 5555 Seaboard Triumph PKWY\, Sioux City\, IA\, 51111\, United States
ATTACH;FMTTYPE=image/jpeg:https://blue-ethos.com/wp-content/uploads/2024/09/Seaboard.jpg
END:VEVENT
BEGIN:VEVENT
DTSTART;TZID=America/Chicago:20241015T130000
DTEND;TZID=America/Chicago:20241015T170000
DTSTAMP:20260423T143126
CREATED:20240227T142010Z
LAST-MODIFIED:20240920T203046Z
UID:1054-1728997200-1729011600@blue-ethos.com
SUMMARY:Situational Awareness for Dispatch
DESCRIPTION:Situational Awareness for Anoka County Dispatch focusing on de-escalation and intuition. \nInstructors Drew Moldenhauer
URL:https://blue-ethos.com/upcoming-course/situational-awareness-for-dispatch-3/
LOCATION:Anoka County Sheriffs Office\, 13301 Hanson Blvd NW\, Andover\, MN\, 55304\, United States
ATTACH;FMTTYPE=image/png:https://blue-ethos.com/wp-content/uploads/2023/06/Blue-Ethos-Situational-Awareness-for-Survival.png
END:VEVENT
BEGIN:VEVENT
DTSTART;TZID=America/Chicago:20241014T143000
DTEND;TZID=America/Chicago:20241014T153000
DTSTAMP:20260423T143126
CREATED:20240606T142029Z
LAST-MODIFIED:20240606T142029Z
UID:1129-1728916200-1728919800@blue-ethos.com
SUMMARY:Active Threat Preparedness
DESCRIPTION:Active Threat training for MN SHRM Conference at Mystic Lake Casino \nInstructors: Drew Moldenhauer and Rich Webb
URL:https://blue-ethos.com/upcoming-course/active-threat-preparedness-38/
LOCATION:Mystic Lake Casino\, 2400 Mystic Lake Blvd NW\, Prior Lake\, MN\, 55372\, United States
ATTACH;FMTTYPE=image/jpeg:https://blue-ethos.com/wp-content/uploads/2024/06/MN-SHRM-NEW-State-Logo.jpg
END:VEVENT
BEGIN:VEVENT
DTSTART;VALUE=DATE:20241009
DTEND;VALUE=DATE:20241012
DTSTAMP:20260423T143126
CREATED:20240427T160357Z
LAST-MODIFIED:20240427T160450Z
UID:1091-1728432000-1728691199@blue-ethos.com
SUMMARY:Active Threat Preparedness
DESCRIPTION:Drew Moldenhauer and Rich Webb will be at the Wisconsin SHRM Conference @ Kalahari Resort.  Come swing by our booth or check out our speaking session.
URL:https://blue-ethos.com/upcoming-course/active-threat-preparedness-34/
LOCATION:Kalahari Resorts and Conventions\, 1305 Kalahari Dr\, Baraboo\, WI\, 53913\, United States
ATTACH;FMTTYPE=image/jpeg:https://blue-ethos.com/wp-content/uploads/2024/04/wishrmlogo.jpg
END:VEVENT
BEGIN:VEVENT
DTSTART;VALUE=DATE:20241009
DTEND;VALUE=DATE:20241010
DTSTAMP:20260423T143126
CREATED:20240427T161700Z
LAST-MODIFIED:20240427T161700Z
UID:1097-1728432000-1728518399@blue-ethos.com
SUMMARY:Situational Awareness
DESCRIPTION:Drew Moldenhauer\, Rich Webb and Jerad Dixon will be Keynoting at the Minnesota Association of Private Investigations (MAPI) at Treasure Island Resort and Casino on Situational Awareness.
URL:https://blue-ethos.com/upcoming-course/situational-awareness-3/
LOCATION:Treasure Island Resort and Casino\, 5734 Sturgeon Lake RD\, Welch\, MN\, 55089\, United States
ATTACH;FMTTYPE=image/jpeg:https://blue-ethos.com/wp-content/uploads/2024/04/OIP.jpg
END:VEVENT
BEGIN:VEVENT
DTSTART;VALUE=DATE:20241005
DTEND;VALUE=DATE:20241006
DTSTAMP:20260423T143126
CREATED:20240427T154529Z
LAST-MODIFIED:20240711T024432Z
UID:1087-1728086400-1728172799@blue-ethos.com
SUMMARY:De-escalation
DESCRIPTION:De-escalation training for Welch Village Ski Patrol. \nInstructors: Robert Pullar and James Bagne
URL:https://blue-ethos.com/upcoming-course/de-escalation-2/
LOCATION:Welch Village Ski and Snowboard Area\, 26685 County 7 BLVD\, Welch\, MN\, 55089\, United States
ATTACH;FMTTYPE=image/jpeg:https://blue-ethos.com/wp-content/uploads/2024/04/welch-village.jpg
END:VEVENT
BEGIN:VEVENT
DTSTART;TZID=America/Chicago:20241003T080000
DTEND;TZID=America/Chicago:20241004T160000
DTSTAMP:20260423T143126
CREATED:20231108T162122Z
LAST-MODIFIED:20231108T162122Z
UID:951-1727942400-1728057600@blue-ethos.com
SUMMARY:Emergency Medical Responder (EMR) Refresher
DESCRIPTION:16-hr MN POST approved Emergency Medical Responder (EMR) Refresher hosted at Anoka County Sheriff’s Office. \nInstructor: Kate Ott
URL:https://blue-ethos.com/upcoming-course/emergency-medical-responder-emr-refresher-6/
LOCATION:Anoka County Sheriffs Office\, 13301 Hanson Blvd NW\, Andover\, MN\, 55304\, United States
ATTACH;FMTTYPE=image/png:https://blue-ethos.com/wp-content/uploads/2023/04/Calendar-EMR.png
END:VEVENT
BEGIN:VEVENT
DTSTART;TZID=America/Chicago:20241002T144500
DTEND;TZID=America/Chicago:20241002T154500
DTSTAMP:20260423T143126
CREATED:20240612T192121Z
LAST-MODIFIED:20240612T192121Z
UID:1141-1727880300-1727883900@blue-ethos.com
SUMMARY:Active Threat Preparedness
DESCRIPTION:Active Threat training for South Dakota Safety Conference \nInstructor: Rich Webb
URL:https://blue-ethos.com/upcoming-course/active-threat-preparedness-39/
LOCATION:Sioux Falls\, SD\, Sioux Falls\, SD\, 57101\, United States
ATTACH;FMTTYPE=image/png:https://blue-ethos.com/wp-content/uploads/2023/05/Active-Threat-Preparedness.png
END:VEVENT
BEGIN:VEVENT
DTSTART;TZID=America/Chicago:20241002T130000
DTEND;TZID=America/Chicago:20241002T153000
DTSTAMP:20260423T143126
CREATED:20240808T204634Z
LAST-MODIFIED:20240808T204634Z
UID:1272-1727874000-1727883000@blue-ethos.com
SUMMARY:Active Threat Preparedness
DESCRIPTION:Active Threat training for Teleflex\, Maple Grove\, MN \nInstructors: Robert Pullar and Aaron Pipenhagen
URL:https://blue-ethos.com/upcoming-course/active-threat-preparedness-44/
LOCATION:Teleflex\, 6401 Sycamore LN\, Maple Grove\, MN\, United States
ATTACH;FMTTYPE=image/jpeg:https://blue-ethos.com/wp-content/uploads/2024/08/tELEFLEX.jpg
END:VEVENT
BEGIN:VEVENT
DTSTART;TZID=America/Chicago:20240930T080000
DTEND;TZID=America/Chicago:20240930T160000
DTSTAMP:20260423T143126
CREATED:20231108T161759Z
LAST-MODIFIED:20231108T161759Z
UID:948-1727683200-1727712000@blue-ethos.com
SUMMARY:First Aid Essentials
DESCRIPTION:8-hr MN POST approved First Aid Essentials class hosted at Anoka County Sheriff’s Office. \nInstructors: Kate Ott and Todd Messer
URL:https://blue-ethos.com/upcoming-course/first-aid-essentials-5/
LOCATION:Anoka County Sheriffs Office\, 13301 Hanson Blvd NW\, Andover\, MN\, 55304\, United States
ATTACH;FMTTYPE=image/png:https://blue-ethos.com/wp-content/uploads/2023/04/Calendar-First-Aid-Essentials.png
END:VEVENT
BEGIN:VEVENT
DTSTART;TZID=America/Chicago:20240927T090000
DTEND;TZID=America/Chicago:20240927T110000
DTSTAMP:20260423T143126
CREATED:20240724T210715Z
LAST-MODIFIED:20240724T210715Z
UID:1263-1727427600-1727434800@blue-ethos.com
SUMMARY:Active Threat Preparedness
DESCRIPTION:Active Threat training for Anoka County Community Action Program (ACCAP). \nInstructors: Jake Hinnenkamp and Aaron Pipenhagen
URL:https://blue-ethos.com/upcoming-course/active-threat-preparedness-43/
LOCATION:Bunker Hills Event Center\, 12800 Bunker Prairie Rd NW\, Coon Rapids\, 55448\, United States
ATTACH;FMTTYPE=image/jpeg:https://blue-ethos.com/wp-content/uploads/2024/07/accap.jpg
END:VEVENT
BEGIN:VEVENT
DTSTART;VALUE=DATE:20240925
DTEND;VALUE=DATE:20240928
DTSTAMP:20260423T143126
CREATED:20240711T013143Z
LAST-MODIFIED:20240711T013143Z
UID:1249-1727222400-1727481599@blue-ethos.com
SUMMARY:De-Escalation
DESCRIPTION:De-Escalation training at Captive Resources conference in Chicago\, IL. \nInstructors: James Bagne and Robert Pullar
URL:https://blue-ethos.com/upcoming-course/de-escalation-4/
LOCATION:Loews Chicago O’Hare\, 5300 N River Rd\, Rosemont\, IL\, 60018\, United States
ATTACH;FMTTYPE=image/png:https://blue-ethos.com/wp-content/uploads/2024/07/captive.png
END:VEVENT
BEGIN:VEVENT
DTSTART;VALUE=DATE:20240920
DTEND;VALUE=DATE:20240921
DTSTAMP:20260423T143126
CREATED:20240829T205236Z
LAST-MODIFIED:20240829T205236Z
UID:1295-1726790400-1726876799@blue-ethos.com
SUMMARY:Active Threat Preparedness
DESCRIPTION:Active Threat Training for Drummond Area School District. \nInstructors: Robert Pullar and Aaron Pipenhagen \n 
URL:https://blue-ethos.com/upcoming-course/active-threat-preparedness-48/
LOCATION:Drummond Area School District\, Wisconsin\, United States
ATTACH;FMTTYPE=image/jpeg:https://blue-ethos.com/wp-content/uploads/2024/08/drummond.jpg
END:VEVENT
BEGIN:VEVENT
DTSTART;VALUE=DATE:20240916
DTEND;VALUE=DATE:20240919
DTSTAMP:20260423T143126
CREATED:20240427T162052Z
LAST-MODIFIED:20240516T151720Z
UID:1102-1726444800-1726703999@blue-ethos.com
SUMMARY:Active Threat Preparedness
DESCRIPTION:Drew Moldenhauer will be speaking at the North Dakota SHRM on Active Threat Preparedness and workplace violence.
URL:https://blue-ethos.com/upcoming-course/active-threat-preparedness-35/
LOCATION:Grand Forks\, ND\, United States
ATTACH;FMTTYPE=image/png:https://blue-ethos.com/wp-content/uploads/2024/04/SHRM-Conference-Logo-Transparent-500x260-1.png
END:VEVENT
BEGIN:VEVENT
DTSTART;TZID=America/Chicago:20240912T130000
DTEND;TZID=America/Chicago:20240912T170000
DTSTAMP:20260423T143126
CREATED:20240612T191522Z
LAST-MODIFIED:20240612T191522Z
UID:1139-1726146000-1726160400@blue-ethos.com
SUMMARY:Situational Awareness for Dispatch
DESCRIPTION:Situational Awareness training for Hennepin County Emergency Communications. \nInstructors: Drew Moldenhauer\, Rich Webb and Jerad Dixon
URL:https://blue-ethos.com/upcoming-course/situational-awareness-for-dispatch-8/
LOCATION:Hennepin County\, Minneapolis\, MN\, United States
ATTACH;FMTTYPE=image/png:https://blue-ethos.com/wp-content/uploads/2023/06/Situational-Awareness-for-Survival.png
END:VEVENT
BEGIN:VEVENT
DTSTART;TZID=America/Chicago:20240912T130000
DTEND;TZID=America/Chicago:20240912T150000
DTSTAMP:20260423T143126
CREATED:20240427T153255Z
LAST-MODIFIED:20240427T153255Z
UID:1079-1726146000-1726153200@blue-ethos.com
SUMMARY:Active Threat Preparedness
DESCRIPTION:Active Threat Preparedness training for All Home Health. \nInstructors: James Bagne and Robert Pullar
URL:https://blue-ethos.com/upcoming-course/active-threat-preparedness-32/
LOCATION:All Home Health\, 2626 E 82nd ST #180\, Bloomington\, MN\, 55425\, United States
ATTACH;FMTTYPE=image/jpeg:https://blue-ethos.com/wp-content/uploads/2024/04/All-home-health.jpg
END:VEVENT
BEGIN:VEVENT
DTSTART;TZID=America/Chicago:20240910T130000
DTEND;TZID=America/Chicago:20240910T170000
DTSTAMP:20260423T143126
CREATED:20240612T191256Z
LAST-MODIFIED:20240612T191256Z
UID:1137-1725973200-1725987600@blue-ethos.com
SUMMARY:Situational Awareness for Dispatch
DESCRIPTION:Situational Awareness training for Hennepin County Emergency Communications. \nInstructors: Drew Moldenhauer\, Rich Webb and Drew Moldenhauer
URL:https://blue-ethos.com/upcoming-course/situational-awareness-for-dispatch-7/
LOCATION:Hennepin County\, Minneapolis\, MN\, United States
ATTACH;FMTTYPE=image/png:https://blue-ethos.com/wp-content/uploads/2023/06/Situational-Awareness-for-Survival.png
END:VEVENT
BEGIN:VEVENT
DTSTART;TZID=America/Chicago:20240909T080000
DTEND;TZID=America/Chicago:20240909T120000
DTSTAMP:20260423T143126
CREATED:20240612T191021Z
LAST-MODIFIED:20240612T191021Z
UID:1135-1725868800-1725883200@blue-ethos.com
SUMMARY:Situational Awareness for Dispatch
DESCRIPTION:Situational Awareness training for Hennepin County Emergency Communications. \nInstructors: Drew Moldenhauer\, Rich Webb and Jerad Dixon
URL:https://blue-ethos.com/upcoming-course/situational-awareness-for-dispatch-6/
LOCATION:Hennepin County\, Minneapolis\, MN\, United States
ATTACH;FMTTYPE=image/png:https://blue-ethos.com/wp-content/uploads/2023/06/Situational-Awareness-for-Survival.png
END:VEVENT
BEGIN:VEVENT
DTSTART;TZID=America/Chicago:20240905T080000
DTEND;TZID=America/Chicago:20240905T120000
DTSTAMP:20260423T143126
CREATED:20240612T190628Z
LAST-MODIFIED:20240612T190628Z
UID:1132-1725523200-1725537600@blue-ethos.com
SUMMARY:Situational Awareness for Dispatch
DESCRIPTION:Situational Awareness training for Hennepin County Emergency Communications. \nInstructors: Drew Moldenhauer\, Rich Webb and Jerad Dixon
URL:https://blue-ethos.com/upcoming-course/situational-awareness-for-dispatch-5/
LOCATION:Hennepin County\, Minneapolis\, MN\, United States
ATTACH;FMTTYPE=image/png:https://blue-ethos.com/wp-content/uploads/2023/06/Situational-Awareness-for-Survival.png
END:VEVENT
END:VCALENDAR