BEGIN:VCALENDAR
VERSION:2.0
PRODID:-//Blue Ethos Specialized Training - ECPv6.15.20//NONSGML v1.0//EN
CALSCALE:GREGORIAN
METHOD:PUBLISH
X-WR-CALNAME:Blue Ethos Specialized Training
X-ORIGINAL-URL:https://blue-ethos.com
X-WR-CALDESC:Events for Blue Ethos Specialized Training
REFRESH-INTERVAL;VALUE=DURATION:PT1H
X-Robots-Tag:noindex
X-PUBLISHED-TTL:PT1H
BEGIN:VTIMEZONE
TZID:America/Chicago
BEGIN:DAYLIGHT
TZOFFSETFROM:-0600
TZOFFSETTO:-0500
TZNAME:CDT
DTSTART:20240310T080000
END:DAYLIGHT
BEGIN:STANDARD
TZOFFSETFROM:-0500
TZOFFSETTO:-0600
TZNAME:CST
DTSTART:20241103T070000
END:STANDARD
BEGIN:DAYLIGHT
TZOFFSETFROM:-0600
TZOFFSETTO:-0500
TZNAME:CDT
DTSTART:20250309T080000
END:DAYLIGHT
BEGIN:STANDARD
TZOFFSETFROM:-0500
TZOFFSETTO:-0600
TZNAME:CST
DTSTART:20251102T070000
END:STANDARD
BEGIN:DAYLIGHT
TZOFFSETFROM:-0600
TZOFFSETTO:-0500
TZNAME:CDT
DTSTART:20260308T080000
END:DAYLIGHT
BEGIN:STANDARD
TZOFFSETFROM:-0500
TZOFFSETTO:-0600
TZNAME:CST
DTSTART:20261101T070000
END:STANDARD
END:VTIMEZONE
BEGIN:VEVENT
DTSTART;TZID=America/Chicago:20250528T080000
DTEND;TZID=America/Chicago:20250528T160000
DTSTAMP:20260423T180234
CREATED:20250512T173651Z
LAST-MODIFIED:20250512T173719Z
UID:1632-1748419200-1748448000@blue-ethos.com
SUMMARY:Minnekota Power Cooperative
DESCRIPTION:Drew\, Robert and Rich will be onsite at Minnekota Power company delivering a customized 8-hour training.
URL:https://blue-ethos.com/upcoming-course/minnekota-power-company/
LOCATION:Grand Forks\, ND\, United States
ATTACH;FMTTYPE=image/png:https://blue-ethos.com/wp-content/uploads/2025/05/minnkota.png
END:VEVENT
BEGIN:VEVENT
DTSTART;TZID=America/Chicago:20250522T080000
DTEND;TZID=America/Chicago:20250523T160000
DTSTAMP:20260423T180234
CREATED:20241026T020012Z
LAST-MODIFIED:20241026T020012Z
UID:1355-1747900800-1748016000@blue-ethos.com
SUMMARY:Emergency Medical Responder (EMR) Refresher
DESCRIPTION:Emergency Medical Responder (EMR) Refresher hosted at Anoka County Sheriff’s Office. \n16-hour MN POST approved training for Law Enforcement. \nInstructor: Kate Ott
URL:https://blue-ethos.com/upcoming-course/emergency-medical-responder-emr-refresher-8/
LOCATION:Anoka County Sheriffs Office\, 13301 Hanson Blvd NW\, Andover\, MN\, 55304\, United States
ATTACH;FMTTYPE=image/png:https://blue-ethos.com/wp-content/uploads/2023/04/EMR-Course.png
END:VEVENT
BEGIN:VEVENT
DTSTART;TZID=America/Chicago:20250515T110000
DTEND;TZID=America/Chicago:20250515T120000
DTSTAMP:20260423T180234
CREATED:20250502T164214Z
LAST-MODIFIED:20250502T164214Z
UID:1623-1747306800-1747310400@blue-ethos.com
SUMMARY:Active Threat Preparedness and De-escalation
DESCRIPTION:Virtual Active Threat Preparedness and De-escalation training for MP Systems. \nInstructor: Rich Webb
URL:https://blue-ethos.com/upcoming-course/active-threat-preparedness-and-de-escalation/
LOCATION:MD
ATTACH;FMTTYPE=image/png:https://blue-ethos.com/wp-content/uploads/2024/11/Rich-Webb-About.png
END:VEVENT
BEGIN:VEVENT
DTSTART;TZID=America/Chicago:20250513T144500
DTEND;TZID=America/Chicago:20250513T154500
DTSTAMP:20260423T180234
CREATED:20241120T163646Z
LAST-MODIFIED:20241120T163646Z
UID:1375-1747147500-1747151100@blue-ethos.com
SUMMARY:Situational Awareness
DESCRIPTION:Situational Awareness training for Captive Resources in Orlando\, Florida \nInstructor Drew Moldenhauer
URL:https://blue-ethos.com/upcoming-course/situational-awareness-5/
LOCATION:Orlando\, FL\, Orlando\, Florida\, United States
ATTACH;FMTTYPE=image/png:https://blue-ethos.com/wp-content/uploads/2024/07/captive.png
END:VEVENT
BEGIN:VEVENT
DTSTART;TZID=America/Chicago:20250512T080000
DTEND;TZID=America/Chicago:20250512T160000
DTSTAMP:20260423T180234
CREATED:20241026T014616Z
LAST-MODIFIED:20241026T014616Z
UID:1343-1747036800-1747065600@blue-ethos.com
SUMMARY:First Aid Essentials
DESCRIPTION:8-hour MN POST approved First Aid Essentials training for Law Enforcement. \nInstructor: Kate Ott
URL:https://blue-ethos.com/upcoming-course/first-aid-essentials-9/
LOCATION:Anoka County Sheriffs Office\, 13301 Hanson Blvd NW\, Andover\, MN\, 55304\, United States
ATTACH;FMTTYPE=image/png:https://blue-ethos.com/wp-content/uploads/2023/04/Calendar-First-Aid-Essentials.png
END:VEVENT
BEGIN:VEVENT
DTSTART;TZID=America/Chicago:20250507T080000
DTEND;TZID=America/Chicago:20250507T160000
DTSTAMP:20260423T180234
CREATED:20250303T210555Z
LAST-MODIFIED:20250303T210555Z
UID:1537-1746604800-1746633600@blue-ethos.com
SUMMARY:Situational Awareness for Communications Professionals
DESCRIPTION:Situational Awareness Training for Lincoln County Emergency Communications on May 7th\, 2025. \nInstructors: Drew Moldenhauer\, Rich Webb\, and Jerad Dixon
URL:https://blue-ethos.com/upcoming-course/situational-awareness-for-communications-professionals-9/
LOCATION:Lincoln County\, 319 N Rebecca ST\, Ivanhoe\, MN\, 56142\, United States
ATTACH;FMTTYPE=image/png:https://blue-ethos.com/wp-content/uploads/2023/06/Situational-Awareness-for-Survival.png
END:VEVENT
BEGIN:VEVENT
DTSTART;TZID=America/Chicago:20250506T124500
DTEND;TZID=America/Chicago:20250506T140000
DTSTAMP:20260423T180234
CREATED:20250307T225450Z
LAST-MODIFIED:20250310T181404Z
UID:1577-1746535500-1746540000@blue-ethos.com
SUMMARY:De-escalation
DESCRIPTION:De-escalation training for CAMHI in Saint Cloud\, MN \nInstructors: Drew Moldenhauer and Rich Webb
URL:https://blue-ethos.com/upcoming-course/de-escalation-7/
LOCATION:The Park Event Center\, 500 Division St.\, Waite Park\, MN\, United States
ATTACH;FMTTYPE=image/jpeg:https://blue-ethos.com/wp-content/uploads/2025/01/Drew-and-Rich-3-scaled.jpg
END:VEVENT
BEGIN:VEVENT
DTSTART;VALUE=DATE:20250505
DTEND;VALUE=DATE:20250507
DTSTAMP:20260423T180234
CREATED:20250115T161754Z
LAST-MODIFIED:20250115T161754Z
UID:1473-1746403200-1746575999@blue-ethos.com
SUMMARY:Minnesota Safety Council
DESCRIPTION:Drew will be speaking on Situational Awareness during the the Minnesota Safety Council.  Drew and Rich will be at the booth so come check us out!
URL:https://blue-ethos.com/upcoming-course/minnesota-safety-council/
LOCATION:Mystic Lake Casino\, 2400 Mystic Lake Blvd NW\, Prior Lake\, MN\, 55372\, United States
ATTACH;FMTTYPE=image/webp:https://blue-ethos.com/wp-content/uploads/2023/11/MN-SAFETY-COUNCIL.webp
END:VEVENT
BEGIN:VEVENT
DTSTART;TZID=America/Chicago:20250501T130000
DTEND;TZID=America/Chicago:20250501T170000
DTSTAMP:20260423T180234
CREATED:20250211T212330Z
LAST-MODIFIED:20250211T212330Z
UID:1504-1746104400-1746118800@blue-ethos.com
SUMMARY:Crisis Communications
DESCRIPTION:High stakes crisis communication training for Anoka County Emergency Communications. \nInstructors: Drew Moldenhauer and Rich Webb
URL:https://blue-ethos.com/upcoming-course/crisis-communications-2/
LOCATION:Anoka County Sheriffs Office\, 13301 Hanson Blvd NW\, Andover\, MN\, 55304\, United States
ATTACH;FMTTYPE=image/jpeg:https://blue-ethos.com/wp-content/uploads/2025/01/High-Stakes.jpg
END:VEVENT
BEGIN:VEVENT
DTSTART;TZID=America/Chicago:20250430T080000
DTEND;TZID=America/Chicago:20250430T170000
DTSTAMP:20260423T180234
CREATED:20241024T180812Z
LAST-MODIFIED:20241024T180848Z
UID:1333-1746000000-1746032400@blue-ethos.com
SUMMARY:Situational Awareness for Communications Professionals.
DESCRIPTION:Situational Awareness training for Communications Professionals. \nHosted by MESB. \nInstructors: Drew Moldenhauer\, Rich Webb\, and Jerad Dixon
URL:https://blue-ethos.com/upcoming-course/situational-awareness-for-communications-professionals-8/
LOCATION:MD
ATTACH;FMTTYPE=image/jpeg:https://blue-ethos.com/wp-content/uploads/2024/06/Situational-Awareness-Flyer-website.jpg
END:VEVENT
BEGIN:VEVENT
DTSTART;TZID=America/Chicago:20250429T130000
DTEND;TZID=America/Chicago:20250429T170000
DTSTAMP:20260423T180234
CREATED:20250211T212113Z
LAST-MODIFIED:20250211T212113Z
UID:1502-1745931600-1745946000@blue-ethos.com
SUMMARY:Crisis Communications
DESCRIPTION:High stakes crisis communications training for Anoka County Emergency Communications. \nInstructors: Drew Moldenhauer and Rich Webb
URL:https://blue-ethos.com/upcoming-course/crisis-communications/
LOCATION:Anoka County Sheriffs Office\, 13301 Hanson Blvd NW\, Andover\, MN\, 55304\, United States
ATTACH;FMTTYPE=image/jpeg:https://blue-ethos.com/wp-content/uploads/2025/01/Drew-and-Rich-3-scaled.jpg
END:VEVENT
BEGIN:VEVENT
DTSTART;TZID=America/Chicago:20250429T090000
DTEND;TZID=America/Chicago:20250429T110000
DTSTAMP:20260423T180234
CREATED:20250211T152105Z
LAST-MODIFIED:20250211T152105Z
UID:1499-1745917200-1745924400@blue-ethos.com
SUMMARY:Workplace Safety by Design
DESCRIPTION:A blend of Active Threat Preparedness and De-escalation for Vinna Human Services. \nInstructor: Robert Pullar
URL:https://blue-ethos.com/upcoming-course/workplace-safety-by-design/
LOCATION:Kandiyohi County Health and Human Services Building\, 2200 23rd St. NE\, Willmar\, MN\, 56201\, United States
ATTACH;FMTTYPE=image/png:https://blue-ethos.com/wp-content/uploads/2024/11/Robert-Pullar-About.png
END:VEVENT
BEGIN:VEVENT
DTSTART;VALUE=DATE:20250425
DTEND;VALUE=DATE:20250426
DTSTAMP:20260423T180234
CREATED:20240808T213447Z
LAST-MODIFIED:20240808T213447Z
UID:1290-1745539200-1745625599@blue-ethos.com
SUMMARY:Keynote: High Stakes Teamwork
DESCRIPTION:Drew Moldenhauer will be Keynoting the Iowa Illinois Safety Conference on High Stakes Teamwork.
URL:https://blue-ethos.com/upcoming-course/keynote-high-stakes-teamwork/
LOCATION:Hyatt Regency\, 300 E 9th St\, Coralville\, IA\, 52241\, United States
ATTACH;FMTTYPE=image/jpeg:https://blue-ethos.com/wp-content/uploads/2024/07/Keynote-Picture-3.jpg
END:VEVENT
BEGIN:VEVENT
DTSTART;VALUE=DATE:20250422
DTEND;VALUE=DATE:20250423
DTSTAMP:20260423T180234
CREATED:20240808T213049Z
LAST-MODIFIED:20240808T213049Z
UID:1288-1745280000-1745366399@blue-ethos.com
SUMMARY:Active Threat Preparedness
DESCRIPTION:Active Threat Preparedness technical session at the Iowa Illinois Safety Conference. \nInstructors: Drew Moldenhauer and Rich Webb
URL:https://blue-ethos.com/upcoming-course/active-threat-preparedness-47/
LOCATION:Hyatt Regency\, 300 E 9th St\, Coralville\, IA\, 52241\, United States
ATTACH;FMTTYPE=image/png:https://blue-ethos.com/wp-content/uploads/2023/05/Active-Threat-Preparedness.png
END:VEVENT
BEGIN:VEVENT
DTSTART;TZID=America/Chicago:20250417T090000
DTEND;TZID=America/Chicago:20250417T110000
DTSTAMP:20260423T180234
CREATED:20250111T153913Z
LAST-MODIFIED:20250111T153913Z
UID:1464-1744880400-1744887600@blue-ethos.com
SUMMARY:Active Threat Preparedness
DESCRIPTION:Active Threat Preparedness technical session at the Iowa Illinois Safety Conference. \nInstructors: Drew Moldenhauer and Rich Webb
URL:https://blue-ethos.com/upcoming-course/active-threat-preparedness-56/
LOCATION:Vadnais Heights\, MN\, Vadnais Heights\, MN\, United States
ATTACH;FMTTYPE=image/jpeg:https://blue-ethos.com/wp-content/uploads/2024/06/Active-Threat-Flyer-scaled.jpg
END:VEVENT
BEGIN:VEVENT
DTSTART;TZID=America/Chicago:20250416T123000
DTEND;TZID=America/Chicago:20250416T133000
DTSTAMP:20260423T180234
CREATED:20250111T153231Z
LAST-MODIFIED:20250111T153231Z
UID:1461-1744806600-1744810200@blue-ethos.com
SUMMARY:Active Threat Preparedness
DESCRIPTION:Active Threat Preparedness technical session at the Iowa Illinois Safety Conference. \nInstructors: Drew Moldenhauer and Rich Webb
URL:https://blue-ethos.com/upcoming-course/active-threat-preparedness-55/
LOCATION:Associated Bank\, 5353 Wayzata BLVD Suite 306\, Minneapolis\, MN\, 55416\, United States
ATTACH;FMTTYPE=image/jpeg:https://blue-ethos.com/wp-content/uploads/2024/06/Active-Threat-Flyer-scaled.jpg
END:VEVENT
BEGIN:VEVENT
DTSTART;TZID=America/Chicago:20250416T080000
DTEND;TZID=America/Chicago:20250416T120000
DTSTAMP:20260423T180234
CREATED:20250313T143527Z
LAST-MODIFIED:20250313T143527Z
UID:1597-1744790400-1744804800@blue-ethos.com
SUMMARY:Use of Force Training
DESCRIPTION:4-hour POST Mandated Use of Force training for Alcohol and Gambling Enforcement. \nInstructor: Jerad Dixon
URL:https://blue-ethos.com/upcoming-course/use-of-force-training/
LOCATION:Alcohol & Gambling Enforcement\, 444 Cedar St #133\, ST. Paul\, MINNESOTA\, 55101
ATTACH;FMTTYPE=image/png:https://blue-ethos.com/wp-content/uploads/2024/11/Jerad-Dixon-About.png
END:VEVENT
BEGIN:VEVENT
DTSTART;VALUE=DATE:20250414
DTEND;VALUE=DATE:20250417
DTSTAMP:20260423T180234
CREATED:20250111T152659Z
LAST-MODIFIED:20250111T152659Z
UID:1459-1744588800-1744847999@blue-ethos.com
SUMMARY:Wisconsin Safety Conference
DESCRIPTION:Drew and Rich will have a booth and speaking at the Wisconsin Safety Conference.
URL:https://blue-ethos.com/upcoming-course/wisconsin-safety-conference/
LOCATION:Kalahari Resorts and Conventions\, 1305 Kalahari Dr\, Baraboo\, WI\, 53913\, United States
ATTACH;FMTTYPE=image/jpeg:https://blue-ethos.com/wp-content/uploads/2025/01/Drew-and-Rich-3-scaled.jpg
END:VEVENT
BEGIN:VEVENT
DTSTART;TZID=America/Chicago:20250409T090000
DTEND;TZID=America/Chicago:20250409T180000
DTSTAMP:20260423T180234
CREATED:20250111T151926Z
LAST-MODIFIED:20250404T211934Z
UID:1454-1744189200-1744221600@blue-ethos.com
SUMMARY:Situational Awareness for Communication Professionals
DESCRIPTION:Situational Awareness training for St. Louis County\, MN Emergency Communications. \nInstructors: Drew Moldenhauer\, Rich Webb\, and Jerad Dixon
URL:https://blue-ethos.com/upcoming-course/situational-awareness-for-communication-professionals-2/
LOCATION:Duluth\, MN\, Duluth\, MN\, 55802\, United States
ATTACH;FMTTYPE=image/png:https://blue-ethos.com/wp-content/uploads/2023/06/Situational-Awareness-for-Survival.png
END:VEVENT
BEGIN:VEVENT
DTSTART;VALUE=DATE:20250409
DTEND;VALUE=DATE:20250410
DTSTAMP:20260423T180234
CREATED:20250111T152259Z
LAST-MODIFIED:20250111T152259Z
UID:1456-1744156800-1744243199@blue-ethos.com
SUMMARY:Keynote: High Stakes Teamwork
DESCRIPTION:Drew Moldenhauer will provide a powerful keynote speech on High Stakes Teamwork for the Duluth\, MN School Safety Conference.
URL:https://blue-ethos.com/upcoming-course/keynote-high-stakes-teamwork-3/
LOCATION:Duluth\, MN\, Duluth\, MN\, 55802\, United States
ATTACH;FMTTYPE=image/jpeg:https://blue-ethos.com/wp-content/uploads/2025/01/High-Stakes.jpg
END:VEVENT
BEGIN:VEVENT
DTSTART;TZID=America/Chicago:20250408T080000
DTEND;TZID=America/Chicago:20250408T170000
DTSTAMP:20260423T180234
CREATED:20241024T180557Z
LAST-MODIFIED:20241024T180557Z
UID:1329-1744099200-1744131600@blue-ethos.com
SUMMARY:Situational Awareness for Communications Professionals.
DESCRIPTION:Situational Awareness training for Communications Professionals. \nHosted by MESB. \nInstructors: Drew Moldenhauer\, Rich Webb\, and Jerad Dixon
URL:https://blue-ethos.com/upcoming-course/situational-awareness-for-communications-professionals-6/
LOCATION:MD
ATTACH;FMTTYPE=image/jpeg:https://blue-ethos.com/wp-content/uploads/2024/06/Situational-Awareness-Flyer-website.jpg
END:VEVENT
BEGIN:VEVENT
DTSTART;TZID=America/Chicago:20250407T080000
DTEND;TZID=America/Chicago:20250407T170000
DTSTAMP:20260423T180234
CREATED:20241024T180450Z
LAST-MODIFIED:20241024T180450Z
UID:1327-1744012800-1744045200@blue-ethos.com
SUMMARY:Situational Awareness for Communications Professionals.
DESCRIPTION:Situational Awareness training for Communications Professionals. \nHosted by MESB. \nInstructors: Drew Moldenhauer\, Rich Webb\, and Jerad Dixon
URL:https://blue-ethos.com/upcoming-course/situational-awareness-for-communications-professionals-5/
LOCATION:MD
ATTACH;FMTTYPE=image/jpeg:https://blue-ethos.com/wp-content/uploads/2024/06/Situational-Awareness-Flyer-website.jpg
END:VEVENT
BEGIN:VEVENT
DTSTART;TZID=America/Chicago:20250403T120000
DTEND;TZID=America/Chicago:20250403T123000
DTSTAMP:20260423T180234
CREATED:20250310T180736Z
LAST-MODIFIED:20250310T180736Z
UID:1591-1743681600-1743683400@blue-ethos.com
SUMMARY:Minneapolis Spring Safety Forum
DESCRIPTION:Robert Pullar will be instructing on Active Threat Preparedness for the City of Minneapolis Spring Safety Forum on April 2nd and April 3rd
URL:https://blue-ethos.com/upcoming-course/minneapolis-spring-safety-forum-2/
LOCATION:City of Minneapolis
ATTACH;FMTTYPE=image/png:https://blue-ethos.com/wp-content/uploads/2024/11/Robert-Pullar-About.png
END:VEVENT
BEGIN:VEVENT
DTSTART;TZID=America/Chicago:20250402T120000
DTEND;TZID=America/Chicago:20250402T123000
DTSTAMP:20260423T180234
CREATED:20250310T180623Z
LAST-MODIFIED:20250310T180623Z
UID:1589-1743595200-1743597000@blue-ethos.com
SUMMARY:Minneapolis Spring Safety Forum
DESCRIPTION:Robert Pullar will be instructing on Active Threat Preparedness for the City of Minneapolis Spring Safety Forum on April 2nd and April 3rd.
URL:https://blue-ethos.com/upcoming-course/minneapolis-spring-safety-forum/
LOCATION:City of Minneapolis
ATTACH;FMTTYPE=image/png:https://blue-ethos.com/wp-content/uploads/2024/11/Robert-Pullar-About.png
END:VEVENT
BEGIN:VEVENT
DTSTART;TZID=America/Chicago:20250402T080000
DTEND;TZID=America/Chicago:20250402T170000
DTSTAMP:20260423T180234
CREATED:20241024T180704Z
LAST-MODIFIED:20241120T162641Z
UID:1331-1743580800-1743613200@blue-ethos.com
SUMMARY:Situational Awareness for Communications Professionals.
DESCRIPTION:Situational Awareness training for Communications Professionals. \nHosted by MESB. \nInstructors: Drew Moldenhauer\, Rich Webb\, and Jerad Dixon
URL:https://blue-ethos.com/upcoming-course/situational-awareness-for-communications-professionals-7/
LOCATION:MD
ATTACH;FMTTYPE=image/jpeg:https://blue-ethos.com/wp-content/uploads/2024/06/Situational-Awareness-Flyer-website.jpg
END:VEVENT
BEGIN:VEVENT
DTSTART;TZID=America/Chicago:20250401T080000
DTEND;TZID=America/Chicago:20250401T170000
DTSTAMP:20260423T180234
CREATED:20241024T180348Z
LAST-MODIFIED:20241024T180348Z
UID:1325-1743494400-1743526800@blue-ethos.com
SUMMARY:Situational Awareness for Communications Professionals
DESCRIPTION:Situational Awareness training for Communications Professionals. \nHosted by MESB. \nInstructors: Drew Moldenhauer\, Rich Webb\, and Jerad Dixon
URL:https://blue-ethos.com/upcoming-course/situational-awareness-for-communications-professionals-4/
LOCATION:MD
ATTACH;FMTTYPE=image/jpeg:https://blue-ethos.com/wp-content/uploads/2024/06/Situational-Awareness-Flyer-website.jpg
END:VEVENT
BEGIN:VEVENT
DTSTART;TZID=America/Chicago:20250327T080000
DTEND;TZID=America/Chicago:20250327T170000
DTSTAMP:20260423T180234
CREATED:20241024T180241Z
LAST-MODIFIED:20241024T180241Z
UID:1323-1743062400-1743094800@blue-ethos.com
SUMMARY:Situational Awareness for Communications Professionals.
DESCRIPTION:Situational Awareness training for Communications Professionals. \nHosted by MESB. \nInstructors: Drew Moldenhauer\, Rich Webb\, and Jerad Dixon
URL:https://blue-ethos.com/upcoming-course/situational-awareness-for-communications-professionals-3/
LOCATION:MD
ATTACH;FMTTYPE=image/jpeg:https://blue-ethos.com/wp-content/uploads/2024/06/Situational-Awareness-Flyer-website.jpg
END:VEVENT
BEGIN:VEVENT
DTSTART;TZID=America/Chicago:20250325T080000
DTEND;TZID=America/Chicago:20250325T170000
DTSTAMP:20260423T180234
CREATED:20241024T180139Z
LAST-MODIFIED:20241024T180139Z
UID:1321-1742889600-1742922000@blue-ethos.com
SUMMARY:Situational Awareness for Communications Professionals
DESCRIPTION:Situational Awareness training for Communications Professionals. \nHosted by MESB. \nInstructors: Drew Moldenhauer\, Rich Webb\, and Jerad Dixon
URL:https://blue-ethos.com/upcoming-course/situational-awareness-for-communications-professionals-2/
LOCATION:MD
ATTACH;FMTTYPE=image/jpeg:https://blue-ethos.com/wp-content/uploads/2024/06/Situational-Awareness-Flyer-website.jpg
END:VEVENT
BEGIN:VEVENT
DTSTART;TZID=America/Chicago:20250324T080000
DTEND;TZID=America/Chicago:20250324T170000
DTSTAMP:20260423T180234
CREATED:20241024T175916Z
LAST-MODIFIED:20241024T175916Z
UID:1319-1742803200-1742835600@blue-ethos.com
SUMMARY:Situational Awareness for Communications Professionals
DESCRIPTION:Situational Awareness training for Communications Professionals \nHosted by MESB \nInstructors: Drew Moldenhauer\, Rich Webb\, and Jerad Dixon
URL:https://blue-ethos.com/upcoming-course/situational-awareness-for-communications-professionals/
LOCATION:MD
ATTACH;FMTTYPE=image/jpeg:https://blue-ethos.com/wp-content/uploads/2024/06/Situational-Awareness-Flyer-website.jpg
END:VEVENT
BEGIN:VEVENT
DTSTART;TZID=America/Chicago:20250323T163000
DTEND;TZID=America/Chicago:20250323T183000
DTSTAMP:20260423T180234
CREATED:20250111T154542Z
LAST-MODIFIED:20250111T154542Z
UID:1470-1742747400-1742754600@blue-ethos.com
SUMMARY:Active Threat Preparedness
DESCRIPTION:Active Threat training for Winona\, MN YMCA. \nInstructors: Jake Hinnenkamp and Aaron Pipenhagen
URL:https://blue-ethos.com/upcoming-course/active-threat-preparedness-58/
LOCATION:Winona\, MN\, Winona\, MN\, United States
ATTACH;FMTTYPE=image/jpeg:https://blue-ethos.com/wp-content/uploads/2024/06/Active-Threat-Flyer-scaled.jpg
END:VEVENT
END:VCALENDAR