BEGIN:VCALENDAR
VERSION:2.0
PRODID:-//Blue Ethos Specialized Training - ECPv6.15.20//NONSGML v1.0//EN
CALSCALE:GREGORIAN
METHOD:PUBLISH
X-WR-CALNAME:Blue Ethos Specialized Training
X-ORIGINAL-URL:https://blue-ethos.com
X-WR-CALDESC:Events for Blue Ethos Specialized Training
REFRESH-INTERVAL;VALUE=DURATION:PT1H
X-Robots-Tag:noindex
X-PUBLISHED-TTL:PT1H
BEGIN:VTIMEZONE
TZID:America/Chicago
BEGIN:DAYLIGHT
TZOFFSETFROM:-0600
TZOFFSETTO:-0500
TZNAME:CDT
DTSTART:20220313T080000
END:DAYLIGHT
BEGIN:STANDARD
TZOFFSETFROM:-0500
TZOFFSETTO:-0600
TZNAME:CST
DTSTART:20221106T070000
END:STANDARD
BEGIN:DAYLIGHT
TZOFFSETFROM:-0600
TZOFFSETTO:-0500
TZNAME:CDT
DTSTART:20230312T080000
END:DAYLIGHT
BEGIN:STANDARD
TZOFFSETFROM:-0500
TZOFFSETTO:-0600
TZNAME:CST
DTSTART:20231105T070000
END:STANDARD
BEGIN:DAYLIGHT
TZOFFSETFROM:-0600
TZOFFSETTO:-0500
TZNAME:CDT
DTSTART:20240310T080000
END:DAYLIGHT
BEGIN:STANDARD
TZOFFSETFROM:-0500
TZOFFSETTO:-0600
TZNAME:CST
DTSTART:20241103T070000
END:STANDARD
END:VTIMEZONE
BEGIN:VEVENT
DTSTART;TZID=America/Chicago:20230608T100000
DTEND;TZID=America/Chicago:20230608T140000
DTSTAMP:20260423T160831
CREATED:20230607T133938Z
LAST-MODIFIED:20230607T133938Z
UID:644-1686218400-1686232800@blue-ethos.com
SUMMARY:Use of Force
DESCRIPTION:POST Certified Use of Force class for MN AGE agents. \nInstructor Ashton Erickson.
URL:https://blue-ethos.com/upcoming-course/use-of-force/
LOCATION:Alcohol & Gambling Enforcement\, 444 Cedar St #133\, ST. Paul\, MINNESOTA\, 55101
ATTACH;FMTTYPE=image/jpeg:https://blue-ethos.com/wp-content/uploads/2023/06/Events-Logo.jpg
END:VEVENT
BEGIN:VEVENT
DTSTART;VALUE=DATE:20230607
DTEND;VALUE=DATE:20230609
DTSTAMP:20260423T160831
CREATED:20230513T160342Z
LAST-MODIFIED:20230513T160747Z
UID:521-1686096000-1686268799@blue-ethos.com
SUMMARY:Active Threat Preparedness
DESCRIPTION:IACLEA Conference at Grand Casino Hinkley MN
URL:https://blue-ethos.com/upcoming-course/active-threat-preparedness/
ATTACH;FMTTYPE=image/png:https://blue-ethos.com/wp-content/uploads/2023/05/Active-Threat-Preparedness.png
END:VEVENT
BEGIN:VEVENT
DTSTART;VALUE=DATE:20230516
DTEND;VALUE=DATE:20230518
DTSTAMP:20260423T160831
CREATED:20230417T220711Z
LAST-MODIFIED:20230420T163427Z
UID:480-1684195200-1684367999@blue-ethos.com
SUMMARY:EMR Refresher Anoka County Sheriffs Office
DESCRIPTION:
URL:https://blue-ethos.com/upcoming-course/emr-refresher-anoka-county-sheriffs-office/
LOCATION:Anoka County Sheriffs Office\, 13301 Hanson Blvd NW\, Andover\, MN\, 55304\, United States
ATTACH;FMTTYPE=image/png:https://blue-ethos.com/wp-content/uploads/2023/04/Calendar-EMR.png
END:VEVENT
BEGIN:VEVENT
DTSTART;TZID=America/Chicago:20230515T080000
DTEND;TZID=America/Chicago:20230515T160000
DTSTAMP:20260423T160831
CREATED:20230417T220632Z
LAST-MODIFIED:20230420T165040Z
UID:478-1684137600-1684166400@blue-ethos.com
SUMMARY:First Aid Essentials at Anoka County Sheriffs Office
DESCRIPTION:
URL:https://blue-ethos.com/upcoming-course/first-aid-essentials-at-anoka-county-sheriffs-office/
LOCATION:Anoka County Sheriffs Office\, 13301 Hanson Blvd NW\, Andover\, MN\, 55304\, United States
ATTACH;FMTTYPE=image/png:https://blue-ethos.com/wp-content/uploads/2023/04/Calendar-First-Aid-Essentials.png
END:VEVENT
BEGIN:VEVENT
DTSTART;VALUE=DATE:20230509
DTEND;VALUE=DATE:20230512
DTSTAMP:20260423T160831
CREATED:20230417T220146Z
LAST-MODIFIED:20230418T051450Z
UID:476-1683590400-1683849599@blue-ethos.com
SUMMARY:Present at Use of Force Symposium in Phoenix
DESCRIPTION:Use of force in law enforcement is a topic that has become a politicized and polarizing issue over the last several years. As our communities are demanding more accountability and transparency from law enforcement\, our departments must ensure their officers are trained appropriately. Law enforcement should embrace change while balancing the safety of their officers.
URL:https://blue-ethos.com/upcoming-course/present-at-use-of-force-symposium-in-phoenix/
LOCATION:Use of Force Symposium in Phoenix\, Civic Center Library Auditorium 3839 N Drinkwater Blvd\, Scottsdale\, AZ\, 85251\, United States
ATTACH;FMTTYPE=image/jpeg:https://blue-ethos.com/wp-content/uploads/2023/04/Social-Media-Cover-Image.jpg
END:VEVENT
BEGIN:VEVENT
DTSTART;VALUE=DATE:20230501
DTEND;VALUE=DATE:20230505
DTSTAMP:20260423T160831
CREATED:20230417T215935Z
LAST-MODIFIED:20230420T163822Z
UID:474-1682899200-1683244799@blue-ethos.com
SUMMARY:Tactical Medical Training with Minnetonka PD
DESCRIPTION:
URL:https://blue-ethos.com/upcoming-course/tactical-medical-training-with-minnetonka-pd/
ATTACH;FMTTYPE=image/png:https://blue-ethos.com/wp-content/uploads/2023/04/Calendar-Tactical-Medical-Training.png
END:VEVENT
BEGIN:VEVENT
DTSTART;VALUE=DATE:20230425
DTEND;VALUE=DATE:20230429
DTSTAMP:20260423T160831
CREATED:20230414T155223Z
LAST-MODIFIED:20230414T163416Z
UID:449-1682380800-1682726399@blue-ethos.com
SUMMARY:Present at IVAT Conference Honolulu
DESCRIPTION:The Hawai`i Summit is a multidisciplinary gathering of professionals working together to tackle the major issues in fields dealing with violence\, abuse\, and trauma. International and local speakers come together to share their findings on causation\, prevention\, treatment\, and rehabilitation at both the global level and at smaller\, community-based levels.
URL:https://blue-ethos.com/upcoming-course/present-at-ivat-conference-honolulu/
LOCATION:Present at IVAT Conference Honolulu\, 1956 Ala Moana Blvd\, Honolulu\, HI\, 96815\, United States
ATTACH;FMTTYPE=image/png:https://blue-ethos.com/wp-content/uploads/2023/04/Annual-Hawai-Summit.png
END:VEVENT
END:VCALENDAR