BEGIN:VCALENDAR
VERSION:2.0
PRODID:-//Blue Ethos Specialized Training - ECPv6.15.20//NONSGML v1.0//EN
CALSCALE:GREGORIAN
METHOD:PUBLISH
X-ORIGINAL-URL:https://blue-ethos.com
X-WR-CALDESC:Events for Blue Ethos Specialized Training
REFRESH-INTERVAL;VALUE=DURATION:PT1H
X-Robots-Tag:noindex
X-PUBLISHED-TTL:PT1H
BEGIN:VTIMEZONE
TZID:America/Chicago
BEGIN:DAYLIGHT
TZOFFSETFROM:-0600
TZOFFSETTO:-0500
TZNAME:CDT
DTSTART:20220313T080000
END:DAYLIGHT
BEGIN:STANDARD
TZOFFSETFROM:-0500
TZOFFSETTO:-0600
TZNAME:CST
DTSTART:20221106T070000
END:STANDARD
BEGIN:DAYLIGHT
TZOFFSETFROM:-0600
TZOFFSETTO:-0500
TZNAME:CDT
DTSTART:20230312T080000
END:DAYLIGHT
BEGIN:STANDARD
TZOFFSETFROM:-0500
TZOFFSETTO:-0600
TZNAME:CST
DTSTART:20231105T070000
END:STANDARD
BEGIN:DAYLIGHT
TZOFFSETFROM:-0600
TZOFFSETTO:-0500
TZNAME:CDT
DTSTART:20240310T080000
END:DAYLIGHT
BEGIN:STANDARD
TZOFFSETFROM:-0500
TZOFFSETTO:-0600
TZNAME:CST
DTSTART:20241103T070000
END:STANDARD
BEGIN:DAYLIGHT
TZOFFSETFROM:-0600
TZOFFSETTO:-0500
TZNAME:CDT
DTSTART:20250309T080000
END:DAYLIGHT
BEGIN:STANDARD
TZOFFSETFROM:-0500
TZOFFSETTO:-0600
TZNAME:CST
DTSTART:20251102T070000
END:STANDARD
END:VTIMEZONE
BEGIN:VEVENT
DTSTART;TZID=America/Chicago:20240110T110000
DTEND;TZID=America/Chicago:20240110T150000
DTSTAMP:20260423T060108
CREATED:20240104T182102Z
LAST-MODIFIED:20240104T182102Z
UID:1001-1704884400-1704898800@blue-ethos.com
SUMMARY:Active Threat Preparedness
DESCRIPTION:Active Threat Preparedness training MAADAADIZI Investments. \nInstructors: Drew Moldenhauer and Rich Webb
URL:https://blue-ethos.com/upcoming-course/active-threat-preparedness-23/
LOCATION:Intercontinental St. Paul Riverfront\, 11 East Kellogg Blvd\, St. Paul\, MN\, 55101\, United States
END:VEVENT
BEGIN:VEVENT
DTSTART;TZID=America/Chicago:20231214T133000
DTEND;TZID=America/Chicago:20231214T143000
DTSTAMP:20260423T060108
CREATED:20231204T154452Z
LAST-MODIFIED:20231204T154452Z
UID:988-1702560600-1702564200@blue-ethos.com
SUMMARY:Active Threat and De-escalation
DESCRIPTION:Customized Active Threat and De-escalation training for City of Minneapolis \nInstructor: Robert Pullar
URL:https://blue-ethos.com/upcoming-course/active-threat-and-de-escalation/
LOCATION:City of Minneapolis
ATTACH;FMTTYPE=image/jpeg:https://blue-ethos.com/wp-content/uploads/2023/06/Events-Logo.jpg
END:VEVENT
BEGIN:VEVENT
DTSTART;VALUE=DATE:20231214
DTEND;VALUE=DATE:20231215
DTSTAMP:20260423T060108
CREATED:20231103T234458Z
LAST-MODIFIED:20231103T235914Z
UID:911-1702512000-1702598399@blue-ethos.com
SUMMARY:Active Threat Preparedness
DESCRIPTION:Active Threat training for Department of Iron Range Resources and Rehabilitation. \nInstructors: Drew Moldenhauer and Rich Webb
URL:https://blue-ethos.com/upcoming-course/active-threat-preparedness-18/
LOCATION:Department of Iron Range Resources and Rehabilitaion\, 4261 HWY 53 S\, Eveleth\, MN\, 55734\, United States
END:VEVENT
BEGIN:VEVENT
DTSTART;VALUE=DATE:20231213
DTEND;VALUE=DATE:20231214
DTSTAMP:20260423T060108
CREATED:20231021T135456Z
LAST-MODIFIED:20231021T135456Z
UID:851-1702425600-1702511999@blue-ethos.com
SUMMARY:Active Threat Preparedness
DESCRIPTION:Active Threat classes for Mille Lacs Energy \nInstructors: Rich Webb and Drew Moldenhauer
URL:https://blue-ethos.com/upcoming-course/active-threat-preparedness-17/
LOCATION:Mille Lacs Energy Cooperative\, 36559 US Hwy 169\, Aitkin\, MN\, 56431\, United States
ATTACH;FMTTYPE=image/png:https://blue-ethos.com/wp-content/uploads/2023/10/jg0vx6b4.png
END:VEVENT
BEGIN:VEVENT
DTSTART;VALUE=DATE:20231207
DTEND;VALUE=DATE:20231208
DTSTAMP:20260423T060108
CREATED:20231204T154138Z
LAST-MODIFIED:20231204T154138Z
UID:986-1701907200-1701993599@blue-ethos.com
SUMMARY:Use of Force
DESCRIPTION:4-hour MN POST approved Use of Force training for MN Commerce Fraud Bureau \nInstructor: Ashton Erickson
URL:https://blue-ethos.com/upcoming-course/use-of-force-4/
LOCATION:Hennepin Technical College\, 9000 Brooklyn Blvd\, Brooklyn Park\, MN\, 55445\, United States
ATTACH;FMTTYPE=image/png:https://blue-ethos.com/wp-content/uploads/2023/04/specialized-training-e1686144759125.png
END:VEVENT
BEGIN:VEVENT
DTSTART;VALUE=DATE:20231206
DTEND;VALUE=DATE:20231207
DTSTAMP:20260423T060108
CREATED:20231204T153900Z
LAST-MODIFIED:20231204T153900Z
UID:984-1701820800-1701907199@blue-ethos.com
SUMMARY:Use of Force
DESCRIPTION:Use of Force Training and Consulting for Osseo Police Department \nInstructor: Ashton Erickson
URL:https://blue-ethos.com/upcoming-course/use-of-force-3/
LOCATION:Osseo Police Department\, 408 1st Ave NW\, Osseo\, 55369\, United States
ATTACH;FMTTYPE=image/png:https://blue-ethos.com/wp-content/uploads/2023/04/specialized-training-e1686144759125.png
END:VEVENT
BEGIN:VEVENT
DTSTART;VALUE=DATE:20231204
DTEND;VALUE=DATE:20231206
DTSTAMP:20260423T060108
CREATED:20231004T160931Z
LAST-MODIFIED:20231004T160931Z
UID:756-1701648000-1701820799@blue-ethos.com
SUMMARY:Active Threat Preparedness
DESCRIPTION:Active Threat trainings for Royal River Casino and Hotel \nInstructors: Drew Moldenhauer and Rich Webb
URL:https://blue-ethos.com/upcoming-course/active-threat-preparedness-15/
LOCATION:Royal River Casino\, 607 S Veterans St\, Flandreau\, South Dakota\, 57028\, United States
ATTACH;FMTTYPE=image/png:https://blue-ethos.com/wp-content/uploads/2023/05/Active-Threat-Preparedness.png
END:VEVENT
BEGIN:VEVENT
DTSTART;VALUE=DATE:20231106
DTEND;VALUE=DATE:20231107
DTSTAMP:20260423T060108
CREATED:20231021T134136Z
LAST-MODIFIED:20231021T134136Z
UID:847-1699228800-1699315199@blue-ethos.com
SUMMARY:Active Threat Preparedness
DESCRIPTION:Active Threat training for Minneapolis Art Institute \nInstructors: Robert Pullar and James Bagne
URL:https://blue-ethos.com/upcoming-course/active-threat-preparedness-16/
LOCATION:Minneapolis Art Institute\, 2400 3rd AVE S\, Minneapolis\, MN\, 55404\, United States
ATTACH;FMTTYPE=image/png:https://blue-ethos.com/wp-content/uploads/2023/10/n3041gz3.png
END:VEVENT
BEGIN:VEVENT
DTSTART;TZID=America/Chicago:20231026T130000
DTEND;TZID=America/Chicago:20231026T170000
DTSTAMP:20260423T060108
CREATED:20230622T183635Z
LAST-MODIFIED:20230622T183737Z
UID:687-1698325200-1698339600@blue-ethos.com
SUMMARY:Use of Force
DESCRIPTION:Use of Force Training for Minnesota Commerce Fraud Bureau \nInstructors Ashton Erickson and Jerad Dixon
URL:https://blue-ethos.com/upcoming-course/use-of-force-2/
LOCATION:Hennepin Technical College\, 9000 Brooklyn Blvd\, Brooklyn Park\, MN\, 55445\, United States
ATTACH;FMTTYPE=image/jpeg:https://blue-ethos.com/wp-content/uploads/2023/06/Events-Logo.jpg
END:VEVENT
BEGIN:VEVENT
DTSTART;TZID=America/Chicago:20231018T090000
DTEND;TZID=America/Chicago:20231018T150000
DTSTAMP:20260423T060108
CREATED:20231004T160408Z
LAST-MODIFIED:20231004T160408Z
UID:754-1697619600-1697641200@blue-ethos.com
SUMMARY:Active Threat Preparedness
DESCRIPTION:Active Threat trainings for Hoya Vision \nInstructors:  James Bagne and Robert Pullar
URL:https://blue-ethos.com/upcoming-course/active-threat-preparedness-14/
LOCATION:Hoya Vision\, 7000 Sunwood Dr NW\, Ramsey\, 55303\, United States
ATTACH;FMTTYPE=image/png:https://blue-ethos.com/wp-content/uploads/2023/05/Active-Threat-Preparedness.png
END:VEVENT
BEGIN:VEVENT
DTSTART;VALUE=DATE:20231017
DTEND;VALUE=DATE:20231018
DTSTAMP:20260423T060108
CREATED:20230622T183114Z
LAST-MODIFIED:20230622T183114Z
UID:684-1697500800-1697587199@blue-ethos.com
SUMMARY:Active Threat Preparedness
DESCRIPTION:Active Threat Training for Groebner and Associates \nInstructors Rich Webb and Drew Moldenhauer
URL:https://blue-ethos.com/upcoming-course/active-threat-preparedness-8/
LOCATION:Groebner and Associates\, 9530 Fallon Ave NE\, Monticello\, MN\, 55362\, United States
ATTACH;FMTTYPE=image/png:https://blue-ethos.com/wp-content/uploads/2023/05/Active-Threat-Preparedness.png
END:VEVENT
BEGIN:VEVENT
DTSTART;TZID=America/Chicago:20231012T083000
DTEND;TZID=America/Chicago:20231012T113000
DTSTAMP:20260423T060108
CREATED:20230914T175856Z
LAST-MODIFIED:20230914T175856Z
UID:728-1697099400-1697110200@blue-ethos.com
SUMMARY:Active Threat Preparedness
DESCRIPTION:Instructors: Robert Pullar and James Bagne
URL:https://blue-ethos.com/upcoming-course/active-threat-preparedness-9/
LOCATION:Green Valley Green House\, 6530 Green Valley Rd NW\, Ramsey\, MN\, 55303\, United States
ATTACH;FMTTYPE=image/png:https://blue-ethos.com/wp-content/uploads/2023/05/Active-Threat-Preparedness.png
END:VEVENT
BEGIN:VEVENT
DTSTART;TZID=America/Chicago:20231011T050000
DTEND;TZID=America/Chicago:20231011T120000
DTSTAMP:20260423T060108
CREATED:20231004T160146Z
LAST-MODIFIED:20231004T160146Z
UID:751-1697000400-1697025600@blue-ethos.com
SUMMARY:Active Threat Preparedness
DESCRIPTION:Active Threat Training for Hoya Vision \nInstructors: James Bagne and Robert Pullar
URL:https://blue-ethos.com/upcoming-course/active-threat-preparedness-13/
LOCATION:Hoya Vision\, 7000 Sunwood Dr NW\, Ramsey\, 55303\, United States
ATTACH;FMTTYPE=image/png:https://blue-ethos.com/wp-content/uploads/2023/05/Active-Threat-Preparedness.png
END:VEVENT
BEGIN:VEVENT
DTSTART;VALUE=DATE:20231010
DTEND;VALUE=DATE:20231011
DTSTAMP:20260423T060108
CREATED:20230622T181947Z
LAST-MODIFIED:20230622T181947Z
UID:681-1696896000-1696982399@blue-ethos.com
SUMMARY:Active Threat Preparedness
DESCRIPTION:Active Threat Presentation for Minnesota Safety Council Conference \nInstructor Drew Moldenhauer
URL:https://blue-ethos.com/upcoming-course/active-threat-preparedness-7/
LOCATION:Mankato\, MN\, Mankato\, MN\, 56001\, United States
ATTACH;FMTTYPE=image/png:https://blue-ethos.com/wp-content/uploads/2023/05/Active-Threat-Preparedness.png
END:VEVENT
BEGIN:VEVENT
DTSTART;VALUE=DATE:20231009
DTEND;VALUE=DATE:20231010
DTSTAMP:20260423T060108
CREATED:20230622T181507Z
LAST-MODIFIED:20230622T181507Z
UID:678-1696809600-1696895999@blue-ethos.com
SUMMARY:Active Threat Preparedness
DESCRIPTION:Active Threat Presentation for MNSHRM Conference \nInstructors: Rich Webb and Drew Moldenhauer
URL:https://blue-ethos.com/upcoming-course/active-threat-preparedness-6/
LOCATION:Mystic Lake Casino\, 2400 Mystic Lake Blvd NW\, Prior Lake\, MN\, 55372\, United States
ATTACH;FMTTYPE=image/png:https://blue-ethos.com/wp-content/uploads/2023/05/Active-Threat-Preparedness.png
END:VEVENT
BEGIN:VEVENT
DTSTART;VALUE=DATE:20231002
DTEND;VALUE=DATE:20231004
DTSTAMP:20260423T060108
CREATED:20230622T180630Z
LAST-MODIFIED:20230622T180630Z
UID:672-1696204800-1696377599@blue-ethos.com
SUMMARY:Situational Awareness and Active Threat Preparedness
DESCRIPTION:Situational Awareness and Active Threat Preparedness for MNCPA Conference. \nKeynote Speaker: Drew Moldenhauer
URL:https://blue-ethos.com/upcoming-course/situational-awareness-and-active-threat-preparedness/
LOCATION:Brainerd\, MN\, Brainerd\, MN\, MN\, 56401\, United States
ATTACH;FMTTYPE=image/jpeg:https://blue-ethos.com/wp-content/uploads/2023/06/Events-Logo.jpg
END:VEVENT
BEGIN:VEVENT
DTSTART;TZID=America/Chicago:20230927T080000
DTEND;TZID=America/Chicago:20230928T160000
DTSTAMP:20260423T060108
CREATED:20230613T134518Z
LAST-MODIFIED:20230613T134518Z
UID:662-1695801600-1695916800@blue-ethos.com
SUMMARY:Emergency Medical Responder (EMR) Refresher
DESCRIPTION:16-hour POST approved Emergency Medical Responder (EMR) Refresher class for Law Enforcement. \nInstructor: Kate Ott
URL:https://blue-ethos.com/upcoming-course/emergency-medical-responder-emr-refresher-2/
LOCATION:Anoka County Sheriffs Office\, 13301 Hanson Blvd NW\, Andover\, MN\, 55304\, United States
ATTACH;FMTTYPE=image/png:https://blue-ethos.com/wp-content/uploads/2023/04/Calendar-EMR.png
END:VEVENT
BEGIN:VEVENT
DTSTART;VALUE=DATE:20230927
DTEND;VALUE=DATE:20230928
DTSTAMP:20260423T060108
CREATED:20230622T180154Z
LAST-MODIFIED:20230622T180154Z
UID:669-1695772800-1695859199@blue-ethos.com
SUMMARY:Active Threat Preparedness
DESCRIPTION:Active Threat Presentation for Minnesota Safety Council Conference. \nInstructor: Rich Webb
URL:https://blue-ethos.com/upcoming-course/active-threat-preparedness-4/
LOCATION:Duluth\, MN\, Duluth\, MN\, 55802\, United States
ATTACH;FMTTYPE=image/png:https://blue-ethos.com/wp-content/uploads/2023/05/Active-Threat-Preparedness.png
END:VEVENT
BEGIN:VEVENT
DTSTART;TZID=America/Chicago:20230925T080000
DTEND;TZID=America/Chicago:20230925T160000
DTSTAMP:20260423T060108
CREATED:20230613T133250Z
LAST-MODIFIED:20230613T133743Z
UID:659-1695628800-1695657600@blue-ethos.com
SUMMARY:First Aid Essentials
DESCRIPTION:8-hour POST approved First Aid Essentials for Law Enforcement. \n 
URL:https://blue-ethos.com/upcoming-course/first-aid-essentials/
LOCATION:Anoka County Sheriffs Office\, 13301 Hanson Blvd NW\, Andover\, MN\, 55304\, United States
ATTACH;FMTTYPE=image/png:https://blue-ethos.com/wp-content/uploads/2023/04/Calendar-First-Aid-Essentials.png
END:VEVENT
BEGIN:VEVENT
DTSTART;VALUE=DATE:20230920
DTEND;VALUE=DATE:20230921
DTSTAMP:20260423T060108
CREATED:20230622T175846Z
LAST-MODIFIED:20230622T175846Z
UID:666-1695168000-1695254399@blue-ethos.com
SUMMARY:Active Threat Preparedness
DESCRIPTION:Active Threat Presentation for Minnesota Safety Council Conference. \nInstructor: Drew Moldenhauer
URL:https://blue-ethos.com/upcoming-course/active-threat-preparedness-3/
LOCATION:Bemidji\, MN\, Bemidji\, MN\, 56601\, United States
ATTACH;FMTTYPE=image/png:https://blue-ethos.com/wp-content/uploads/2023/05/Active-Threat-Preparedness.png
END:VEVENT
BEGIN:VEVENT
DTSTART;TZID=America/Chicago:20230913T080000
DTEND;TZID=America/Chicago:20230913T160000
DTSTAMP:20260423T060108
CREATED:20230601T234302Z
LAST-MODIFIED:20230605T155202Z
UID:529-1694592000-1694620800@blue-ethos.com
SUMMARY:Situational Awareness for Survival
DESCRIPTION:Learn from Professor Drew Moldenhauer\, co-author of How Smart Police Officers Use Situational Awareness To Improve Safety.  Attendees will understand how to develop and maintain situational awareness while working in high-stress\, high-consequence\, time-compressed environments. \nLearn lessons of survival from Sergeant Rich Webb and Officer Jerad Dixon as they tell their story about their officer-involved shooting which they were both awarded the Minnesota Chiefs of Police Medal of Honor.
URL:https://blue-ethos.com/upcoming-course/situational-awareness-for-survival/
LOCATION:Anoka County Sheriffs Office\, 13301 Hanson Blvd NW\, Andover\, MN\, 55304\, United States
ATTACH;FMTTYPE=image/png:https://blue-ethos.com/wp-content/uploads/2023/06/Blue-Ethos-Situational-Awareness-for-Survival.png
END:VEVENT
BEGIN:VEVENT
DTSTART;TZID=America/Chicago:20230824T100000
DTEND;TZID=America/Chicago:20230824T160000
DTSTAMP:20260423T060108
CREATED:20230803T150912Z
LAST-MODIFIED:20230803T150912Z
UID:702-1692871200-1692892800@blue-ethos.com
SUMMARY:Active Threat Preparedness
DESCRIPTION:At King Solutions Global in Dayton\, MN
URL:https://blue-ethos.com/upcoming-course/active-threat-preparedness-5/
ATTACH;FMTTYPE=image/png:https://blue-ethos.com/wp-content/uploads/2023/05/Active-Threat-Preparedness.png
END:VEVENT
BEGIN:VEVENT
DTSTART;TZID=America/Chicago:20230810T103000
DTEND;TZID=America/Chicago:20230810T120000
DTSTAMP:20260423T060108
CREATED:20230803T150538Z
LAST-MODIFIED:20230803T150538Z
UID:700-1691663400-1691668800@blue-ethos.com
SUMMARY:Midwest Security and Police Conference/Expo
DESCRIPTION:Drew Moldenhauer Speaker\nSituational Awareness for Survival
URL:https://blue-ethos.com/upcoming-course/midwest-security-and-police-conference-expo/
ATTACH;FMTTYPE=image/jpeg:https://blue-ethos.com/wp-content/uploads/2023/06/Events-Logo.jpg
END:VEVENT
BEGIN:VEVENT
DTSTART;TZID=America/Chicago:20230721T130000
DTEND;TZID=America/Chicago:20230721T150000
DTSTAMP:20260423T060108
CREATED:20230607T135046Z
LAST-MODIFIED:20230607T135046Z
UID:652-1689944400-1689951600@blue-ethos.com
SUMMARY:Active Threat Preparedness
DESCRIPTION:Active Threat Preparedness for New Horizon Daycare Team. \nInstructors: Drew Moldenhauer and Rich Webb
URL:https://blue-ethos.com/upcoming-course/active-threat-preparedness-2/
LOCATION:New Horizon Office\, 4345 Peony Lane\, Plymouth\, MINNESOTA\, 55446
ATTACH;FMTTYPE=image/png:https://blue-ethos.com/wp-content/uploads/2023/05/Active-Threat-Preparedness.png
END:VEVENT
BEGIN:VEVENT
DTSTART;TZID=America/Chicago:20230628T140000
DTEND;TZID=America/Chicago:20230628T140000
DTSTAMP:20260423T060108
CREATED:20230613T132316Z
LAST-MODIFIED:20230613T132558Z
UID:655-1687960800-1687960800@blue-ethos.com
SUMMARY:Emergency Medical Responder (EMR) Refresher
DESCRIPTION:EMR Refresher \nInstructor: Kate Ott
URL:https://blue-ethos.com/upcoming-course/emergency-medical-responder-emr-refresher/
LOCATION:Osseo Police Department\, 408 1st Ave NW\, Osseo\, 55369\, United States
ATTACH;FMTTYPE=image/png:https://blue-ethos.com/wp-content/uploads/2023/04/Calendar-EMR.png
END:VEVENT
BEGIN:VEVENT
DTSTART;TZID=America/Chicago:20230615T090000
DTEND;TZID=America/Chicago:20230615T120000
DTSTAMP:20260423T060108
CREATED:20230607T134402Z
LAST-MODIFIED:20230607T134402Z
UID:649-1686819600-1686830400@blue-ethos.com
SUMMARY:CPR/AED Certification
DESCRIPTION:CPR class for Ramsey Police Department. \nInstructor: Kate Ott
URL:https://blue-ethos.com/upcoming-course/cpr-aed-certification/
LOCATION:Ramsey Police Department\, 7550 Sunwood Dr NW\, Ramsey\, MINNESOTA\, 55303
ATTACH;FMTTYPE=image/jpeg:https://blue-ethos.com/wp-content/uploads/2023/06/Events-Logo.jpg
END:VEVENT
BEGIN:VEVENT
DTSTART;TZID=America/Chicago:20230608T100000
DTEND;TZID=America/Chicago:20230608T140000
DTSTAMP:20260423T060108
CREATED:20230607T133938Z
LAST-MODIFIED:20230607T133938Z
UID:644-1686218400-1686232800@blue-ethos.com
SUMMARY:Use of Force
DESCRIPTION:POST Certified Use of Force class for MN AGE agents. \nInstructor Ashton Erickson.
URL:https://blue-ethos.com/upcoming-course/use-of-force/
LOCATION:Alcohol & Gambling Enforcement\, 444 Cedar St #133\, ST. Paul\, MINNESOTA\, 55101
ATTACH;FMTTYPE=image/jpeg:https://blue-ethos.com/wp-content/uploads/2023/06/Events-Logo.jpg
END:VEVENT
BEGIN:VEVENT
DTSTART;VALUE=DATE:20230607
DTEND;VALUE=DATE:20230609
DTSTAMP:20260423T060108
CREATED:20230513T160342Z
LAST-MODIFIED:20230513T160747Z
UID:521-1686096000-1686268799@blue-ethos.com
SUMMARY:Active Threat Preparedness
DESCRIPTION:IACLEA Conference at Grand Casino Hinkley MN
URL:https://blue-ethos.com/upcoming-course/active-threat-preparedness/
ATTACH;FMTTYPE=image/png:https://blue-ethos.com/wp-content/uploads/2023/05/Active-Threat-Preparedness.png
END:VEVENT
BEGIN:VEVENT
DTSTART;VALUE=DATE:20230516
DTEND;VALUE=DATE:20230518
DTSTAMP:20260423T060108
CREATED:20230417T220711Z
LAST-MODIFIED:20230420T163427Z
UID:480-1684195200-1684367999@blue-ethos.com
SUMMARY:EMR Refresher Anoka County Sheriffs Office
DESCRIPTION:
URL:https://blue-ethos.com/upcoming-course/emr-refresher-anoka-county-sheriffs-office/
LOCATION:Anoka County Sheriffs Office\, 13301 Hanson Blvd NW\, Andover\, MN\, 55304\, United States
ATTACH;FMTTYPE=image/png:https://blue-ethos.com/wp-content/uploads/2023/04/Calendar-EMR.png
END:VEVENT
BEGIN:VEVENT
DTSTART;TZID=America/Chicago:20230515T080000
DTEND;TZID=America/Chicago:20230515T160000
DTSTAMP:20260423T060108
CREATED:20230417T220632Z
LAST-MODIFIED:20230420T165040Z
UID:478-1684137600-1684166400@blue-ethos.com
SUMMARY:First Aid Essentials at Anoka County Sheriffs Office
DESCRIPTION:
URL:https://blue-ethos.com/upcoming-course/first-aid-essentials-at-anoka-county-sheriffs-office/
LOCATION:Anoka County Sheriffs Office\, 13301 Hanson Blvd NW\, Andover\, MN\, 55304\, United States
ATTACH;FMTTYPE=image/png:https://blue-ethos.com/wp-content/uploads/2023/04/Calendar-First-Aid-Essentials.png
END:VEVENT
END:VCALENDAR