BEGIN:VCALENDAR
VERSION:2.0
PRODID:-//Blue Ethos Specialized Training - ECPv6.15.20//NONSGML v1.0//EN
CALSCALE:GREGORIAN
METHOD:PUBLISH
X-WR-CALNAME:Blue Ethos Specialized Training
X-ORIGINAL-URL:https://blue-ethos.com
X-WR-CALDESC:Events for Blue Ethos Specialized Training
REFRESH-INTERVAL;VALUE=DURATION:PT1H
X-Robots-Tag:noindex
X-PUBLISHED-TTL:PT1H
BEGIN:VTIMEZONE
TZID:America/Chicago
BEGIN:DAYLIGHT
TZOFFSETFROM:-0600
TZOFFSETTO:-0500
TZNAME:CDT
DTSTART:20220313T080000
END:DAYLIGHT
BEGIN:STANDARD
TZOFFSETFROM:-0500
TZOFFSETTO:-0600
TZNAME:CST
DTSTART:20221106T070000
END:STANDARD
BEGIN:DAYLIGHT
TZOFFSETFROM:-0600
TZOFFSETTO:-0500
TZNAME:CDT
DTSTART:20230312T080000
END:DAYLIGHT
BEGIN:STANDARD
TZOFFSETFROM:-0500
TZOFFSETTO:-0600
TZNAME:CST
DTSTART:20231105T070000
END:STANDARD
BEGIN:DAYLIGHT
TZOFFSETFROM:-0600
TZOFFSETTO:-0500
TZNAME:CDT
DTSTART:20240310T080000
END:DAYLIGHT
BEGIN:STANDARD
TZOFFSETFROM:-0500
TZOFFSETTO:-0600
TZNAME:CST
DTSTART:20241103T070000
END:STANDARD
END:VTIMEZONE
BEGIN:VEVENT
DTSTART;TZID=America/Chicago:20230913T080000
DTEND;TZID=America/Chicago:20230913T160000
DTSTAMP:20260425T064359
CREATED:20230601T234302Z
LAST-MODIFIED:20230605T155202Z
UID:529-1694592000-1694620800@blue-ethos.com
SUMMARY:Situational Awareness for Survival
DESCRIPTION:Learn from Professor Drew Moldenhauer\, co-author of How Smart Police Officers Use Situational Awareness To Improve Safety.  Attendees will understand how to develop and maintain situational awareness while working in high-stress\, high-consequence\, time-compressed environments. \nLearn lessons of survival from Sergeant Rich Webb and Officer Jerad Dixon as they tell their story about their officer-involved shooting which they were both awarded the Minnesota Chiefs of Police Medal of Honor.
URL:https://blue-ethos.com/upcoming-course/situational-awareness-for-survival/
LOCATION:Anoka County Sheriffs Office\, 13301 Hanson Blvd NW\, Andover\, MN\, 55304\, United States
ATTACH;FMTTYPE=image/png:https://blue-ethos.com/wp-content/uploads/2023/06/Blue-Ethos-Situational-Awareness-for-Survival.png
END:VEVENT
BEGIN:VEVENT
DTSTART;VALUE=DATE:20230920
DTEND;VALUE=DATE:20230921
DTSTAMP:20260425T064359
CREATED:20230622T175846Z
LAST-MODIFIED:20230622T175846Z
UID:666-1695168000-1695254399@blue-ethos.com
SUMMARY:Active Threat Preparedness
DESCRIPTION:Active Threat Presentation for Minnesota Safety Council Conference. \nInstructor: Drew Moldenhauer
URL:https://blue-ethos.com/upcoming-course/active-threat-preparedness-3/
LOCATION:Bemidji\, MN\, Bemidji\, MN\, 56601\, United States
ATTACH;FMTTYPE=image/png:https://blue-ethos.com/wp-content/uploads/2023/05/Active-Threat-Preparedness.png
END:VEVENT
BEGIN:VEVENT
DTSTART;TZID=America/Chicago:20230925T080000
DTEND;TZID=America/Chicago:20230925T160000
DTSTAMP:20260425T064359
CREATED:20230613T133250Z
LAST-MODIFIED:20230613T133743Z
UID:659-1695628800-1695657600@blue-ethos.com
SUMMARY:First Aid Essentials
DESCRIPTION:8-hour POST approved First Aid Essentials for Law Enforcement. \n 
URL:https://blue-ethos.com/upcoming-course/first-aid-essentials/
LOCATION:Anoka County Sheriffs Office\, 13301 Hanson Blvd NW\, Andover\, MN\, 55304\, United States
ATTACH;FMTTYPE=image/png:https://blue-ethos.com/wp-content/uploads/2023/04/Calendar-First-Aid-Essentials.png
END:VEVENT
BEGIN:VEVENT
DTSTART;VALUE=DATE:20230927
DTEND;VALUE=DATE:20230928
DTSTAMP:20260425T064359
CREATED:20230622T180154Z
LAST-MODIFIED:20230622T180154Z
UID:669-1695772800-1695859199@blue-ethos.com
SUMMARY:Active Threat Preparedness
DESCRIPTION:Active Threat Presentation for Minnesota Safety Council Conference. \nInstructor: Rich Webb
URL:https://blue-ethos.com/upcoming-course/active-threat-preparedness-4/
LOCATION:Duluth\, MN\, Duluth\, MN\, 55802\, United States
ATTACH;FMTTYPE=image/png:https://blue-ethos.com/wp-content/uploads/2023/05/Active-Threat-Preparedness.png
END:VEVENT
BEGIN:VEVENT
DTSTART;TZID=America/Chicago:20230927T080000
DTEND;TZID=America/Chicago:20230928T160000
DTSTAMP:20260425T064359
CREATED:20230613T134518Z
LAST-MODIFIED:20230613T134518Z
UID:662-1695801600-1695916800@blue-ethos.com
SUMMARY:Emergency Medical Responder (EMR) Refresher
DESCRIPTION:16-hour POST approved Emergency Medical Responder (EMR) Refresher class for Law Enforcement. \nInstructor: Kate Ott
URL:https://blue-ethos.com/upcoming-course/emergency-medical-responder-emr-refresher-2/
LOCATION:Anoka County Sheriffs Office\, 13301 Hanson Blvd NW\, Andover\, MN\, 55304\, United States
ATTACH;FMTTYPE=image/png:https://blue-ethos.com/wp-content/uploads/2023/04/Calendar-EMR.png
END:VEVENT
END:VCALENDAR