BEGIN:VCALENDAR
VERSION:2.0
PRODID:-//Blue Ethos Specialized Training - ECPv6.15.20//NONSGML v1.0//EN
CALSCALE:GREGORIAN
METHOD:PUBLISH
X-ORIGINAL-URL:https://blue-ethos.com
X-WR-CALDESC:Events for Blue Ethos Specialized Training
REFRESH-INTERVAL;VALUE=DURATION:PT1H
X-Robots-Tag:noindex
X-PUBLISHED-TTL:PT1H
BEGIN:VTIMEZONE
TZID:America/Chicago
BEGIN:DAYLIGHT
TZOFFSETFROM:-0600
TZOFFSETTO:-0500
TZNAME:CDT
DTSTART:20230312T080000
END:DAYLIGHT
BEGIN:STANDARD
TZOFFSETFROM:-0500
TZOFFSETTO:-0600
TZNAME:CST
DTSTART:20231105T070000
END:STANDARD
BEGIN:DAYLIGHT
TZOFFSETFROM:-0600
TZOFFSETTO:-0500
TZNAME:CDT
DTSTART:20240310T080000
END:DAYLIGHT
BEGIN:STANDARD
TZOFFSETFROM:-0500
TZOFFSETTO:-0600
TZNAME:CST
DTSTART:20241103T070000
END:STANDARD
BEGIN:DAYLIGHT
TZOFFSETFROM:-0600
TZOFFSETTO:-0500
TZNAME:CDT
DTSTART:20250309T080000
END:DAYLIGHT
BEGIN:STANDARD
TZOFFSETFROM:-0500
TZOFFSETTO:-0600
TZNAME:CST
DTSTART:20251102T070000
END:STANDARD
END:VTIMEZONE
BEGIN:VEVENT
DTSTART;TZID=America/Chicago:20240805T170000
DTEND;TZID=America/Chicago:20240805T190000
DTSTAMP:20260424T114441
CREATED:20240711T013807Z
LAST-MODIFIED:20240711T013807Z
UID:1253-1722877200-1722884400@blue-ethos.com
SUMMARY:Active Threat Preparedness
DESCRIPTION:Active Threat training for First Step Preschool and Childcare. \nInstructor: Robert Pullar
URL:https://blue-ethos.com/upcoming-course/active-threat-preparedness-41/
LOCATION:First Step Preschool and Childcare\, 413 Proctor Ave NW\, Elk River\, MN\, 55330\, United States
ATTACH;FMTTYPE=image/jpeg:https://blue-ethos.com/wp-content/uploads/2024/06/Active-Threat-Flyer-website.jpg
END:VEVENT
BEGIN:VEVENT
DTSTART;VALUE=DATE:20240814
DTEND;VALUE=DATE:20240815
DTSTAMP:20260424T114441
CREATED:20240711T024112Z
LAST-MODIFIED:20240711T024112Z
UID:1256-1723593600-1723679999@blue-ethos.com
SUMMARY:Active Threat Preparedness
DESCRIPTION:Active Threat trainings for Aldevron in Fargo\, ND. \nInstructors: James Bagne and Robert Pullar
URL:https://blue-ethos.com/upcoming-course/active-threat-preparedness-42/
LOCATION:Aldevron\, 4055 41st Ave S\, Fargo\, ND\, 58104\, United States
ATTACH;FMTTYPE=image/jpeg:https://blue-ethos.com/wp-content/uploads/2024/06/Active-Threat-Flyer-scaled.jpg
END:VEVENT
BEGIN:VEVENT
DTSTART;VALUE=DATE:20240826
DTEND;VALUE=DATE:20240829
DTSTAMP:20260424T114441
CREATED:20240612T233114Z
LAST-MODIFIED:20240612T233114Z
UID:1143-1724630400-1724889599@blue-ethos.com
SUMMARY:Active Threat Preparedness
DESCRIPTION:Active Threat training for Memphis\, TN SHRM \nInstructors: Drew Moldenhauer and Rich Webb
URL:https://blue-ethos.com/upcoming-course/active-threat-preparedness-40/
LOCATION:Memphis\, TN\, Memphis\, TN\, United States
ATTACH;FMTTYPE=image/jpeg:https://blue-ethos.com/wp-content/uploads/2024/06/MEMPHIS-SHRM.jpg
END:VEVENT
END:VCALENDAR