BEGIN:VCALENDAR
VERSION:2.0
PRODID:-//Blue Ethos Specialized Training - ECPv6.15.20//NONSGML v1.0//EN
CALSCALE:GREGORIAN
METHOD:PUBLISH
X-ORIGINAL-URL:https://blue-ethos.com
X-WR-CALDESC:Events for Blue Ethos Specialized Training
REFRESH-INTERVAL;VALUE=DURATION:PT1H
X-Robots-Tag:noindex
X-PUBLISHED-TTL:PT1H
BEGIN:VTIMEZONE
TZID:America/Chicago
BEGIN:DAYLIGHT
TZOFFSETFROM:-0600
TZOFFSETTO:-0500
TZNAME:CDT
DTSTART:20240310T080000
END:DAYLIGHT
BEGIN:STANDARD
TZOFFSETFROM:-0500
TZOFFSETTO:-0600
TZNAME:CST
DTSTART:20241103T070000
END:STANDARD
BEGIN:DAYLIGHT
TZOFFSETFROM:-0600
TZOFFSETTO:-0500
TZNAME:CDT
DTSTART:20250309T080000
END:DAYLIGHT
BEGIN:STANDARD
TZOFFSETFROM:-0500
TZOFFSETTO:-0600
TZNAME:CST
DTSTART:20251102T070000
END:STANDARD
BEGIN:DAYLIGHT
TZOFFSETFROM:-0600
TZOFFSETTO:-0500
TZNAME:CDT
DTSTART:20260308T080000
END:DAYLIGHT
BEGIN:STANDARD
TZOFFSETFROM:-0500
TZOFFSETTO:-0600
TZNAME:CST
DTSTART:20261101T070000
END:STANDARD
END:VTIMEZONE
BEGIN:VEVENT
DTSTART;TZID=America/Chicago:20250807T080000
DTEND;TZID=America/Chicago:20250808T160000
DTSTAMP:20260423T155949
CREATED:20250530T143559Z
LAST-MODIFIED:20250530T143559Z
UID:1657-1754553600-1754668800@blue-ethos.com
SUMMARY:Emergency Medical Responder Refresher
DESCRIPTION:16-hour MN Post approved Emergency Medical Responder (EMR) Refresher hosted at Minnetonka Police Department. \nInstructor: Kate Ott
URL:https://blue-ethos.com/upcoming-course/emergency-medical-responder-refresher-3/
LOCATION:Minnetonka Police Department\, 14600 Minnetonka Blvd\, Minnetonka\, MN\, 55345\, United States
ATTACH;FMTTYPE=image/png:https://blue-ethos.com/wp-content/uploads/2023/04/EMR-Course.png
END:VEVENT
BEGIN:VEVENT
DTSTART;VALUE=DATE:20250818
DTEND;VALUE=DATE:20250823
DTSTAMP:20260423T155949
CREATED:20250530T142445Z
LAST-MODIFIED:20250530T142445Z
UID:1652-1755475200-1755907199@blue-ethos.com
SUMMARY:Active Threat Preparedness and De-escalation
DESCRIPTION:Drew Moldenhauer and Rich Webb will be onsite for Paul Mueller company for five days delivering training on Active Threat Preparedness and De-escalation.
URL:https://blue-ethos.com/upcoming-course/active-threat-preparedness-and-de-escalation-2/
LOCATION:Paul Mueller Company\, Springfield\, MO\, United States
ATTACH;FMTTYPE=image/jpeg:https://blue-ethos.com/wp-content/uploads/2025/01/Drew-and-Rich-3-scaled.jpg
END:VEVENT
BEGIN:VEVENT
DTSTART;TZID=America/Chicago:20250825T100000
DTEND;TZID=America/Chicago:20250825T120000
DTSTAMP:20260423T155949
CREATED:20250605T145626Z
LAST-MODIFIED:20250605T145626Z
UID:1680-1756116000-1756123200@blue-ethos.com
SUMMARY:Workplace Safety by Design
DESCRIPTION:Rich Webb and Drew Moldenhauer will be providing a Workplace Safety by Design training that incorporates De-escalation and Active Threat Preparedness in the workplace for Iron Range Resources and Rehabilitation.
URL:https://blue-ethos.com/upcoming-course/workplace-safety-by-design-2/
LOCATION:Department of Iron Range Resources and Rehabilitaion\, 4261 HWY 53 S\, Eveleth\, MN\, 55734\, United States
ATTACH;FMTTYPE=image/jpeg:https://blue-ethos.com/wp-content/uploads/2025/01/Drew-and-Rich-3-scaled.jpg
END:VEVENT
BEGIN:VEVENT
DTSTART;VALUE=DATE:20250826
DTEND;VALUE=DATE:20250827
DTSTAMP:20260423T155949
CREATED:20250819T202832Z
LAST-MODIFIED:20250819T202832Z
UID:2032-1756166400-1756252799@blue-ethos.com
SUMMARY:De-escalation
DESCRIPTION:De-escalation training for Western Lake Superior Sanitary District. \nInstructors: Drew Moldenhauer and Rich Webb
URL:https://blue-ethos.com/upcoming-course/de-escalation-9/
LOCATION:Duluth\, MN\, Duluth\, MN\, 55802\, United States
ATTACH;FMTTYPE=image/webp:https://blue-ethos.com/wp-content/uploads/2025/07/start-page-de-escalation.webp
END:VEVENT
BEGIN:VEVENT
DTSTART;TZID=America/Chicago:20250828T080000
DTEND;TZID=America/Chicago:20250829T160000
DTSTAMP:20260423T155949
CREATED:20241026T020313Z
LAST-MODIFIED:20241026T020313Z
UID:1358-1756368000-1756483200@blue-ethos.com
SUMMARY:Emergency Medical Responder (EMR) Refresher
DESCRIPTION:Emergency Medical Responder (EMR) Refresher hosted at Anoka County Sheriff’s Office. \n16-hour MN POST approved training for Law Enforcement. \nInstructor: Kate Ott
URL:https://blue-ethos.com/upcoming-course/emergency-medical-responder-emr-refresher-9/
LOCATION:Anoka County Sheriffs Office\, 13301 Hanson Blvd NW\, Andover\, MN\, 55304\, United States
ATTACH;FMTTYPE=image/png:https://blue-ethos.com/wp-content/uploads/2023/04/EMR-Course.png
END:VEVENT
END:VCALENDAR