BEGIN:VCALENDAR
VERSION:2.0
PRODID:-//Blue Ethos Specialized Training - ECPv6.15.20//NONSGML v1.0//EN
CALSCALE:GREGORIAN
METHOD:PUBLISH
X-ORIGINAL-URL:https://blue-ethos.com
X-WR-CALDESC:Events for Blue Ethos Specialized Training
REFRESH-INTERVAL;VALUE=DURATION:PT1H
X-Robots-Tag:noindex
X-PUBLISHED-TTL:PT1H
BEGIN:VTIMEZONE
TZID:America/Chicago
BEGIN:DAYLIGHT
TZOFFSETFROM:-0600
TZOFFSETTO:-0500
TZNAME:CDT
DTSTART:20250309T080000
END:DAYLIGHT
BEGIN:STANDARD
TZOFFSETFROM:-0500
TZOFFSETTO:-0600
TZNAME:CST
DTSTART:20251102T070000
END:STANDARD
BEGIN:DAYLIGHT
TZOFFSETFROM:-0600
TZOFFSETTO:-0500
TZNAME:CDT
DTSTART:20260308T080000
END:DAYLIGHT
BEGIN:STANDARD
TZOFFSETFROM:-0500
TZOFFSETTO:-0600
TZNAME:CST
DTSTART:20261101T070000
END:STANDARD
BEGIN:DAYLIGHT
TZOFFSETFROM:-0600
TZOFFSETTO:-0500
TZNAME:CDT
DTSTART:20270314T080000
END:DAYLIGHT
BEGIN:STANDARD
TZOFFSETFROM:-0500
TZOFFSETTO:-0600
TZNAME:CST
DTSTART:20271107T070000
END:STANDARD
END:VTIMEZONE
BEGIN:VEVENT
DTSTART;TZID=America/Chicago:20260203T080000
DTEND;TZID=America/Chicago:20260203T153000
DTSTAMP:20260423T055953
CREATED:20250606T140851Z
LAST-MODIFIED:20250606T140851Z
UID:1688-1770105600-1770132600@blue-ethos.com
SUMMARY:West Central Corrections Conference
DESCRIPTION:Drew Moldenhauer\, Rich Webb and Jerad Dixon will be kicking off the West Central Corrections Conference in Walker\, MN with a full day Situational Awareness for Corrections Training.
URL:https://blue-ethos.com/upcoming-course/west-central-corrections-conference/
LOCATION:Walker\, MN\, Walker\, MN\, United States
ATTACH;FMTTYPE=image/png:https://blue-ethos.com/wp-content/uploads/2023/06/Situational-Awareness-for-Survival.png
END:VEVENT
BEGIN:VEVENT
DTSTART;VALUE=DATE:20260204
DTEND;VALUE=DATE:20260206
DTSTAMP:20260423T055953
CREATED:20251204T162401Z
LAST-MODIFIED:20260123T154549Z
UID:2170-1770163200-1770335999@blue-ethos.com
SUMMARY:Milwaukee Tool
DESCRIPTION:Robert Pullar will be onsite in Cookeville\, TN providing Active Threat Preparedness training to Milwaukee Tool.
URL:https://blue-ethos.com/upcoming-course/milwaukee-tool-3/
LOCATION:Cookeville\, TN\, Cookeville\, TN\, United States
ATTACH;FMTTYPE=image/webp:https://blue-ethos.com/wp-content/uploads/2025/10/MILWUAKEE.webp
END:VEVENT
BEGIN:VEVENT
DTSTART;TZID=America/Chicago:20260209T080000
DTEND;TZID=America/Chicago:20260209T170000
DTSTAMP:20260423T055953
CREATED:20260209T232226Z
LAST-MODIFIED:20260209T232226Z
UID:2312-1770624000-1770656400@blue-ethos.com
SUMMARY:South Dakota SHRM Conference
DESCRIPTION:Rich Webb and Drew Moldenhauer will be delivering an Active Threat Preparedness training for South Dakota SHRM Conference.
URL:https://blue-ethos.com/upcoming-course/south-dakota-shrm-conference/
LOCATION:Sioux Falls\, SD\, Sioux Falls\, SD\, 57101\, United States
ATTACH;FMTTYPE=image/webp:https://blue-ethos.com/wp-content/uploads/2025/07/1A7000714.webp
END:VEVENT
BEGIN:VEVENT
DTSTART;TZID=America/Chicago:20260210T130000
DTEND;TZID=America/Chicago:20260210T143000
DTSTAMP:20260423T055953
CREATED:20260123T155255Z
LAST-MODIFIED:20260123T155255Z
UID:2229-1770728400-1770733800@blue-ethos.com
SUMMARY:Campbell Properties
DESCRIPTION:Rich Webb and Drew Moldenhauer will be onsite in Fargo\, ND providing Active Threat Preparedness and De-escalation training for Cambell Properties.
URL:https://blue-ethos.com/upcoming-course/campbell-properties/
LOCATION:Fargo\, ND\, Fargo\, ND\, United States
ATTACH;FMTTYPE=image/jpeg:https://blue-ethos.com/wp-content/uploads/2025/06/Rich-and-Drew.jpg
END:VEVENT
BEGIN:VEVENT
DTSTART;VALUE=DATE:20260211
DTEND;VALUE=DATE:20260212
DTSTAMP:20260423T055953
CREATED:20251218T202918Z
LAST-MODIFIED:20251218T202918Z
UID:2183-1770768000-1770854399@blue-ethos.com
SUMMARY:Rhodes Bread
DESCRIPTION:Robert Pullar will be onsite in Columbus\, WI at Rhodes Bread on February 11th\, 2026 providing Active Threat Preparedness Training.
URL:https://blue-ethos.com/upcoming-course/rhodes-bread/
LOCATION:Columbus\, WI\, Columbus\, Wisconsin
ATTACH;FMTTYPE=image/webp:https://blue-ethos.com/wp-content/uploads/2025/07/Robert-Pullar-About.webp
END:VEVENT
BEGIN:VEVENT
DTSTART;TZID=America/Chicago:20260211T130000
DTEND;TZID=America/Chicago:20260211T143000
DTSTAMP:20260423T055953
CREATED:20251203T151602Z
LAST-MODIFIED:20251203T151602Z
UID:2155-1770814800-1770820200@blue-ethos.com
SUMMARY:Bobcat
DESCRIPTION:Rich Webb and Drew Moldenhauer will be onsite in Fargo\, ND delivering an Active Threat Preparedness and De-escalation training for Bobcat HR professionals.
URL:https://blue-ethos.com/upcoming-course/bobcat/
LOCATION:CA
ATTACH;FMTTYPE=image/webp:https://blue-ethos.com/wp-content/uploads/2025/12/bobcat.webp
END:VEVENT
BEGIN:VEVENT
DTSTART;VALUE=DATE:20260212
DTEND;VALUE=DATE:20260213
DTSTAMP:20260423T055953
CREATED:20251218T202431Z
LAST-MODIFIED:20251218T202431Z
UID:2181-1770854400-1770940799@blue-ethos.com
SUMMARY:NoDak Electric Co-Op
DESCRIPTION:Aaron Pipenhagen and Jacob Hinnenkamp will be onsite in Grand Forks\, ND on February 12th\, 2026 providing Nodak Electric trainings on Active Threat Preparedness and De-escalation.
URL:https://blue-ethos.com/upcoming-course/nodak-electric-co-op/
LOCATION:Grand Forks\, ND\, United States
ATTACH;FMTTYPE=image/webp:https://blue-ethos.com/wp-content/uploads/2025/07/IMG6760-copy-scaled.webp
END:VEVENT
BEGIN:VEVENT
DTSTART;VALUE=DATE:20260217
DTEND;VALUE=DATE:20260218
DTSTAMP:20260423T055953
CREATED:20251204T162826Z
LAST-MODIFIED:20251204T162826Z
UID:2176-1771286400-1771372799@blue-ethos.com
SUMMARY:ASSP Conference
DESCRIPTION:Drew Moldenhauer and Rich Webb will be onsite in Brooklyn Park\, MN speaking at the ASSP Conference on Active Threat Preparedness.
URL:https://blue-ethos.com/upcoming-course/assp-conference/
LOCATION:Brooklyn Park\, MN\, Brooklyn Park\, MN\, United States
ATTACH;FMTTYPE=image/webp:https://blue-ethos.com/wp-content/uploads/2025/07/A7400846.webp
END:VEVENT
BEGIN:VEVENT
DTSTART;VALUE=DATE:20260218
DTEND;VALUE=DATE:20260220
DTSTAMP:20260423T055953
CREATED:20251204T162618Z
LAST-MODIFIED:20260123T154658Z
UID:2173-1771372800-1771545599@blue-ethos.com
SUMMARY:Milwaukee Tool
DESCRIPTION:Jacob Hinnenkamp will be onsite in Pittsburgh\, PA providing Active Threat Preparedness training for Milwaukee Tool.
URL:https://blue-ethos.com/upcoming-course/milwaukee-tool-4/
LOCATION:Pittsburgh\, PA\, Pittsburgh\, PA\, United States
ATTACH;FMTTYPE=image/webp:https://blue-ethos.com/wp-content/uploads/2025/10/MILWUAKEE.webp
END:VEVENT
BEGIN:VEVENT
DTSTART;TZID=America/Chicago:20260218T110000
DTEND;TZID=America/Chicago:20260218T114500
DTSTAMP:20260423T055953
CREATED:20250922T230159Z
LAST-MODIFIED:20260123T154818Z
UID:2103-1771412400-1771415100@blue-ethos.com
SUMMARY:Vernoncom Conference
DESCRIPTION:Robert Pullar will be speaking on De-escalation at the Vernoncom Conference on February 18th in Eau Claire\, WI .
URL:https://blue-ethos.com/upcoming-course/vernoncom-conference/
LOCATION:Eau Claire\, WI\, Eau Claire\, WI\, United States
ATTACH;FMTTYPE=image/webp:https://blue-ethos.com/wp-content/uploads/2025/07/Robert-Pullar-Profile.webp
END:VEVENT
BEGIN:VEVENT
DTSTART;VALUE=DATE:20260223
DTEND;VALUE=DATE:20260227
DTSTAMP:20260423T055953
CREATED:20251218T203201Z
LAST-MODIFIED:20251218T203201Z
UID:2186-1771804800-1772150399@blue-ethos.com
SUMMARY:Milwaukee Tool
DESCRIPTION:Robert Pullar will be onsite training all of the Milwaukee Tool locations in Mississippi.
URL:https://blue-ethos.com/upcoming-course/milwaukee-tool-5/
LOCATION:Mississippi\, MS\, United States
ATTACH;FMTTYPE=image/webp:https://blue-ethos.com/wp-content/uploads/2025/10/MILWUAKEE.webp
END:VEVENT
BEGIN:VEVENT
DTSTART;VALUE=DATE:20260226
DTEND;VALUE=DATE:20260227
DTSTAMP:20260423T055953
CREATED:20260209T230528Z
LAST-MODIFIED:20260209T230528Z
UID:2293-1772064000-1772150399@blue-ethos.com
SUMMARY:HYDRO ALUMINUM
DESCRIPTION:James Bagne will be onsite in Cassopolis\, MI at Hydro Aluminum training employees on Active Threat Preparedness.
URL:https://blue-ethos.com/upcoming-course/hydro-aluminum/
LOCATION:Cassopolis\, MI\, Cassopolis\, MI\, United States
ATTACH;FMTTYPE=image/webp:https://blue-ethos.com/wp-content/uploads/2025/07/James-Bagne-About.webp
END:VEVENT
END:VCALENDAR