BEGIN:VCALENDAR
VERSION:2.0
PRODID:-//Blue Ethos Specialized Training - ECPv6.15.20//NONSGML v1.0//EN
CALSCALE:GREGORIAN
METHOD:PUBLISH
X-WR-CALNAME:Blue Ethos Specialized Training
X-ORIGINAL-URL:https://blue-ethos.com
X-WR-CALDESC:Events for Blue Ethos Specialized Training
REFRESH-INTERVAL;VALUE=DURATION:PT1H
X-Robots-Tag:noindex
X-PUBLISHED-TTL:PT1H
BEGIN:VTIMEZONE
TZID:America/Chicago
BEGIN:DAYLIGHT
TZOFFSETFROM:-0600
TZOFFSETTO:-0500
TZNAME:CDT
DTSTART:20250309T080000
END:DAYLIGHT
BEGIN:STANDARD
TZOFFSETFROM:-0500
TZOFFSETTO:-0600
TZNAME:CST
DTSTART:20251102T070000
END:STANDARD
BEGIN:DAYLIGHT
TZOFFSETFROM:-0600
TZOFFSETTO:-0500
TZNAME:CDT
DTSTART:20260308T080000
END:DAYLIGHT
BEGIN:STANDARD
TZOFFSETFROM:-0500
TZOFFSETTO:-0600
TZNAME:CST
DTSTART:20261101T070000
END:STANDARD
BEGIN:DAYLIGHT
TZOFFSETFROM:-0600
TZOFFSETTO:-0500
TZNAME:CDT
DTSTART:20270314T080000
END:DAYLIGHT
BEGIN:STANDARD
TZOFFSETFROM:-0500
TZOFFSETTO:-0600
TZNAME:CST
DTSTART:20271107T070000
END:STANDARD
END:VTIMEZONE
BEGIN:VEVENT
DTSTART;VALUE=DATE:20260303
DTEND;VALUE=DATE:20260304
DTSTAMP:20260423T042256
CREATED:20250606T141316Z
LAST-MODIFIED:20250606T141316Z
UID:1691-1772496000-1772582399@blue-ethos.com
SUMMARY:Situational Awareness for Corrections
DESCRIPTION:Drew Moldenhauer\, Rich Webb and Jerad Dixon will be kicking off the MN Corrections Conference at Arrowwood Resort in Alexandria\, MN on March 3rd\, 2026.
URL:https://blue-ethos.com/upcoming-course/situational-awareness-for-corrections/
LOCATION:Alexandria\, MN\, Alexandria\, MN\, United States
ATTACH;FMTTYPE=image/png:https://blue-ethos.com/wp-content/uploads/2023/06/Situational-Awareness-for-Survival.png
END:VEVENT
BEGIN:VEVENT
DTSTART;TZID=America/Chicago:20260304T084500
DTEND;TZID=America/Chicago:20260304T100000
DTSTAMP:20260423T042256
CREATED:20250916T180135Z
LAST-MODIFIED:20250916T180135Z
UID:2095-1772613900-1772618400@blue-ethos.com
SUMMARY:De-escalation for WCMN SHRM
DESCRIPTION:De-escalation training for WCMN SHRM in Alexandria\, MN. \nInstructors: Rich Webb and Drew Moldenhauer.
URL:https://blue-ethos.com/upcoming-course/de-escalation-for-wcmn-shrm/
LOCATION:Alexandria\, MN\, Alexandria\, MN\, United States
ATTACH;FMTTYPE=image/webp:https://blue-ethos.com/wp-content/uploads/2025/08/De-Escalation-Home.webp
END:VEVENT
BEGIN:VEVENT
DTSTART;VALUE=DATE:20260305
DTEND;VALUE=DATE:20260306
DTSTAMP:20260423T042256
CREATED:20251218T211849Z
LAST-MODIFIED:20251218T211947Z
UID:2189-1772668800-1772755199@blue-ethos.com
SUMMARY:AMCOR
DESCRIPTION:Drew Moldenhauer\, Rich Webb and Robert Pullar will be onsite in Oshkosh\, WI training AMCOR staff on Active Threat Preparedness.
URL:https://blue-ethos.com/upcoming-course/amcor/
LOCATION:Oshkosh\, WI\, Oshkosh\, WI\, United States
ATTACH;FMTTYPE=image/webp:https://blue-ethos.com/wp-content/uploads/2025/12/amcor.webp
END:VEVENT
BEGIN:VEVENT
DTSTART;VALUE=DATE:20260309
DTEND;VALUE=DATE:20260313
DTSTAMP:20260423T042256
CREATED:20260123T155645Z
LAST-MODIFIED:20260123T155744Z
UID:2231-1773014400-1773359999@blue-ethos.com
SUMMARY:Milwaukee Tool
DESCRIPTION:Aaron Pipenhagen will be onsite in West Bend and Sun Prairie\, Wisconsin delivering Active Threat Preparedness trainings for Milwaukee Tool.
URL:https://blue-ethos.com/upcoming-course/milwaukee-tool-6/
LOCATION:Milwuakee\, WI\, Milwaukee\, WI\, United States
ATTACH;FMTTYPE=image/webp:https://blue-ethos.com/wp-content/uploads/2025/10/MILWUAKEE.webp
END:VEVENT
BEGIN:VEVENT
DTSTART;VALUE=DATE:20260310
DTEND;VALUE=DATE:20260312
DTSTAMP:20260423T042256
CREATED:20260225T180254Z
LAST-MODIFIED:20260225T180254Z
UID:2369-1773100800-1773273599@blue-ethos.com
SUMMARY:ALLETE POWER
DESCRIPTION:Drew Moldenhauer and Rich Webb will be onsite in Duluth\, MN training employees of ALLETE Power on Active Threat Preparedness and De-escalation.
URL:https://blue-ethos.com/upcoming-course/allete-power/
LOCATION:Duluth\, MN\, Duluth\, MN\, 55802\, United States
ATTACH;FMTTYPE=image/webp:https://blue-ethos.com/wp-content/uploads/2026/02/ALLETE.webp
END:VEVENT
BEGIN:VEVENT
DTSTART;TZID=America/Chicago:20260311T130000
DTEND;TZID=America/Chicago:20260311T140000
DTSTAMP:20260423T042256
CREATED:20250827T231515Z
LAST-MODIFIED:20260112T210211Z
UID:2084-1773234000-1773237600@blue-ethos.com
SUMMARY:Dairyland Power Cooperative Conference
DESCRIPTION:Blue Ethos Specialized Training will provide a 60-minute training session in Active Threat Preparedness for the Dairyland Power Cooperative Conference on March 11th\, 2026\, in LaCross\, WI \nInstructor: Robert Pullar
URL:https://blue-ethos.com/upcoming-course/dairyland-power-cooperative-conference/
LOCATION:LaCross\, WI\, LaCross\, WI\, United States
ATTACH;FMTTYPE=image/webp:https://blue-ethos.com/wp-content/uploads/2025/07/Robert-Pullar-About.webp
END:VEVENT
BEGIN:VEVENT
DTSTART;TZID=America/Chicago:20260314T080000
DTEND;TZID=America/Chicago:20260314T160000
DTSTAMP:20260423T042256
CREATED:20260209T230124Z
LAST-MODIFIED:20260209T230124Z
UID:2290-1773475200-1773504000@blue-ethos.com
SUMMARY:First Aid Essentials
DESCRIPTION:8-hour MN POST approved First Aid Essentials training hosted at Anoka County Sheriff’s Office.  If registering from an agency outside of Anoka County\, please e-mail rich@blue-ethos.com
URL:https://blue-ethos.com/upcoming-course/first-aid-essentials-17/
LOCATION:Anoka County Sheriffs Office\, 13301 Hanson Blvd NW\, Andover\, MN\, 55304\, United States
ATTACH;FMTTYPE=image/webp:https://blue-ethos.com/wp-content/uploads/2025/08/EMS-Start-Page.webp
END:VEVENT
BEGIN:VEVENT
DTSTART;VALUE=DATE:20260317
DTEND;VALUE=DATE:20260320
DTSTAMP:20260423T042256
CREATED:20260123T160034Z
LAST-MODIFIED:20260130T191629Z
UID:2233-1773705600-1773964799@blue-ethos.com
SUMMARY:Milwaukee Tool
DESCRIPTION:Drew Moldenhauer and Rich Webb will be providing Active Threat Preparedness training to Milwaukee Tool; Brookfield\, Menomonee Falls and Milwaukee\, WI locations.
URL:https://blue-ethos.com/upcoming-course/milwaukee-tool-7/
LOCATION:Milwuakee\, WI\, Milwaukee\, WI\, United States
ATTACH;FMTTYPE=image/webp:https://blue-ethos.com/wp-content/uploads/2025/10/MILWUAKEE.webp
END:VEVENT
BEGIN:VEVENT
DTSTART;VALUE=DATE:20260323
DTEND;VALUE=DATE:20260324
DTSTAMP:20260423T042256
CREATED:20260209T230828Z
LAST-MODIFIED:20260209T230828Z
UID:2297-1774224000-1774310399@blue-ethos.com
SUMMARY:Milwaukee Tool
DESCRIPTION:Drew Moldenhauer and Rich Webb will be delivering trainings on Active Threat Preparedness and De-escalation for Milwaukee Tool Corporate offices.
URL:https://blue-ethos.com/upcoming-course/milwaukee-tool-10/
LOCATION:Milwuakee\, WI\, Milwaukee\, WI\, United States
ATTACH;FMTTYPE=image/webp:https://blue-ethos.com/wp-content/uploads/2025/10/MILWUAKEE.webp
END:VEVENT
BEGIN:VEVENT
DTSTART;VALUE=DATE:20260324
DTEND;VALUE=DATE:20260325
DTSTAMP:20260423T042256
CREATED:20251218T212614Z
LAST-MODIFIED:20251218T212614Z
UID:2193-1774310400-1774396799@blue-ethos.com
SUMMARY:OPP Construction
DESCRIPTION:Drew Moldenhauer will be delivering his Keynote on Situational Awareness to Opp Construction in Grand Forks\, ND on March 24th\, 2026.
URL:https://blue-ethos.com/upcoming-course/opp-construction/
LOCATION:Grand Forks\, ND\, United States
ATTACH;FMTTYPE=image/webp:https://blue-ethos.com/wp-content/uploads/2025/07/Keynotespeaker.webp
END:VEVENT
BEGIN:VEVENT
DTSTART;VALUE=DATE:20260325
DTEND;VALUE=DATE:20260327
DTSTAMP:20260423T042256
CREATED:20260209T231229Z
LAST-MODIFIED:20260209T231229Z
UID:2299-1774396800-1774569599@blue-ethos.com
SUMMARY:Seaboard Foods
DESCRIPTION:Jacob Hinnenkamp and Robert Pullar will be onsite in Guymon\, OK training leadership for Seaboard Foods on Active Threat Preparedness and De-escalation.
URL:https://blue-ethos.com/upcoming-course/seaboard-foods/
LOCATION:Guymon\, OK\, Guymon\, OK\, United States
ATTACH;FMTTYPE=image/jpeg:https://blue-ethos.com/wp-content/uploads/2024/09/Seaboard.jpg
END:VEVENT
BEGIN:VEVENT
DTSTART;VALUE=DATE:20260331
DTEND;VALUE=DATE:20260401
DTSTAMP:20260423T042256
CREATED:20251016T131239Z
LAST-MODIFIED:20251016T131239Z
UID:2136-1774915200-1775001599@blue-ethos.com
SUMMARY:High Stakes Teamwork
DESCRIPTION:Drew Moldenhauer will be delivering his High Stakes Teamwork Keynote in Sioux Falls\, SD for SME.
URL:https://blue-ethos.com/upcoming-course/high-stakes-teamwork/
LOCATION:Sioux Falls\, SD\, Sioux Falls\, SD\, 57101\, United States
ATTACH;FMTTYPE=image/webp:https://blue-ethos.com/wp-content/uploads/2025/08/High-Stakes-Teamwork.webp
END:VEVENT
END:VCALENDAR